BEGIN:VCALENDAR
VERSION:2.0
PRODID:-//Kunstbahnhof Wörthersee - ECPv6.2.2//NONSGML v1.0//EN
CALSCALE:GREGORIAN
METHOD:PUBLISH
X-WR-CALNAME:Kunstbahnhof Wörthersee
X-ORIGINAL-URL:https://www.kunstbahnhofwoerthersee.at
X-WR-CALDESC:Veranstaltungen für Kunstbahnhof Wörthersee
REFRESH-INTERVAL;VALUE=DURATION:PT1H
X-Robots-Tag:noindex
X-PUBLISHED-TTL:PT1H
BEGIN:VTIMEZONE
TZID:Europe/Paris
BEGIN:DAYLIGHT
TZOFFSETFROM:+0100
TZOFFSETTO:+0200
TZNAME:CEST
DTSTART:20260329T010000
END:DAYLIGHT
BEGIN:STANDARD
TZOFFSETFROM:+0200
TZOFFSETTO:+0100
TZNAME:CET
DTSTART:20261025T010000
END:STANDARD
END:VTIMEZONE
BEGIN:VEVENT
DTSTART;VALUE=DATE:20260413
DTEND;VALUE=DATE:20260628
DTSTAMP:20260421T050933
CREATED:20260113T155913Z
LAST-MODIFIED:20260410T084457Z
UID:6914-1776052800-1782532799@www.kunstbahnhofwoerthersee.at
SUMMARY:VAKÜNST Blick und Auflösung | Violetta Stuchlik
DESCRIPTION:Vom 13. April bis 26. Juni 2026 sind sechs große Fenster im Kunstbahnhof Wörthersee am Veldner Hausbahnsteig West mit den Arbeiten der Künstlerin Violetta Stuchlik gestaltet. Zusätzlich gibt es Anfang Juni (5.-7.) ein Ausstellungswochenende\, an dem weitere Arbeiten der Künstlerin in der Galerie des Kunstbahnhof Wörthersee am Veldner Hausbahnsteig Ost präsentiert werden. \nBlick und Auflösung ist eine fotografische Untersuchung darüber\, wie Wahrnehmung entsteht – und wie sie entgleitet. Die Serie oszilliert zwischen zwei sich ergänzenden und zugleich gegensätzlichen Bildwelten: Abstrakte\, verschwommene Naturfragmente lassen Bewegung sichtbar werden\, indem sie sich einer fixierten Form entziehen. Sie erinnern an ein Bild\, das das Auge bereits verlassen hat – eine Spur\, ein Nachglühen\, ein nicht vollständig erfasstes Außen.\nDem gegenüber stehen präzise\, quadratische Nahaufnahmen von Iriden. Sie markieren den Moment des bewussten Sehens: das Auge als Ort der Wahrnehmung\, als Schnittstelle zwischen Welt und Wahrnehmendem. Doch in ihrer Intimität werfen sie zugleich eine Frage auf – die nach Blickkontakt\, Aufmerksamkeit und Gegenüber.\nDie Serie verhandelt Bewegung als physisches\, visuelles und soziales Phänomen: Die Welt ist permanent in Bewegung\, das Auge ebenfalls – und doch entgleitet uns das Gesehene\, überlagert von Ablenkung\, Geschwindigkeit und Abwesenheit des Blicks. Die Bilder laden dazu ein\, innezuhalten – und zurückzublicken. \nVioletta Stuchlik (*1993) aus Dortmund hat eine Ausbildung zur Produkt- und Werbefotografin absolviert und ist seit 2016 freiberuflich als Fotografin tätig. Nach einem Bachelorstudium in Journalismus und Public Relations führte sie ihr Masterstudium in Visueller Kultur im Jahr 2021 nach Klagenfurt. In ihren freien Projekten widmet sie sich verschiedenen Themenfeldern und Genres\, darunter auch der Verbindung von Fotografie und Text sowie künstlerischem Film. Diese stellen für sie Möglichkeiten dar\, Vorstellungen davon aufzuzeigen\, wie die Welt gesehen werden kann. Ihre Umgebung und gesellschaftliche Beobachtung prägen ebenfalls ihre Arbeit. Aufgrund ihres akademischen Hintergrunds setzt sie sich darüber hinaus reflektiv mit der Wahrnehmung von Bildern und Sehprozessen auseinander. Seit 2025 ist sie beim Verein Lendhauer aktiv und organisiert dort kollektiv Kunst- und Kulturveranstaltungen im öffentlichen Raum. \nEin Kunstprojekt von VAKÜ/VAKÜNST im Kunstbahnhof Wörthersee\, kuratiert von Johanna Steindl und Johanna Lietz:\nwww.vakueklagenfurt.at/vakuenst\nBannerbild: Detail der Arbeit „Bewegung“ von Violetta Stuchlik
URL:https://www.kunstbahnhofwoerthersee.at/event/ausstellung-mobilitaet/
LOCATION:Kunstbahnhof Wörthersee OST\, Bahnhofplatz | ÖBB-Hausbahnsteig OST\, Velden am Wörthersee\, 9220\, Österreich
CATEGORIES:Öffentliche Veranstaltung
ATTACH;FMTTYPE=image/jpeg:https://www.kunstbahnhofwoerthersee.at/wp-content/uploads/Stuchlik_Bewegung_1-683x1024-detail.jpg
END:VEVENT
BEGIN:VEVENT
DTSTART;VALUE=DATE:20260421
DTEND;VALUE=DATE:20260423
DTSTAMP:20260421T050933
CREATED:20260119T094036Z
LAST-MODIFIED:20260119T094036Z
UID:6946-1776744000-1776830399@www.kunstbahnhofwoerthersee.at
SUMMARY:Kurs – Wir spielen Bridge im Kunstbahnhof
DESCRIPTION:Das Kartenspiel Bridge ist ein unglaublich gutes Gehirntraining\, schärft das analytische Denken – und wir knüpfen nebenbei neue soziale Kontakte …\nKursleitung: Helmuth Ölsinger\, Präsident des Österreichischen Bridgesportverbandes \nOrt: Kunstbahnhof Wörthersee West im charmanten Ambiente des ehemaligen Bahnhofsrestaurants in Velden am Wörthersee\, Bahnhofplatz 1 \nKurs – Wir spielen Bridge im Kunstbahnhof  \nAn ausgewählten Dienstagen von 9:30 bis 11:30 Uhr\, Zusatzeinheiten nach Vereinbarung\nKontakt: Beatrix Taurer-Geher office@kunstbahnhofwoerthersee.at oder 0664-1255952
URL:https://www.kunstbahnhofwoerthersee.at/event/kurs-wir-spielen-bridge-im-kunstbahnhof-55/
CATEGORIES:Öffentliche Veranstaltung
ATTACH;FMTTYPE=image/jpeg:https://www.kunstbahnhofwoerthersee.at/wp-content/uploads/20240523_130424-bridge-bahnsteig_banner.jpg
END:VEVENT
BEGIN:VEVENT
DTSTART;VALUE=DATE:20260422
DTEND;VALUE=DATE:20260424
DTSTAMP:20260421T050933
CREATED:20260310T094450Z
LAST-MODIFIED:20260310T094751Z
UID:7309-1776830400-1776916799@www.kunstbahnhofwoerthersee.at
SUMMARY:Malworkshops für Jugendliche mit Puppi
DESCRIPTION:Jugendliche ab 11 Jahren mit Mut zum Experimentieren und offenen Gestalten sind beim Workshop von Karin Kriegelstein-Sternfeld im Kunstbahnhof Wörthersee herzlich willkommen! Hier lernen die jungen Kreativen verschiedene Acrylmaltechniken und das Arbeiten mit diversen Materialien auf Leinwand kennen. \nInteressiert? Nähere Infos und Anmeldung: +43(0)676-5124070.\nDie Gruppengröße ist begrenzt. Karin/Puppi freut sich auf euch! \nMalworkshops für Jugendliche mit Puppi an ausgewählten Mittwochnachmittagen von 16 bis 18 Uhr.\nOrt: Kunstbahnhof Wörthersee\, Hausbahnsteig Ost\, Bahnhofplatz 1\, Velden am Wörthersee
URL:https://www.kunstbahnhofwoerthersee.at/event/malworkshops-fuer-jugendliche-mit-puppi-10/
LOCATION:Kunstbahnhof Wörthersee OST\, Bahnhofplatz | ÖBB-Hausbahnsteig OST\, Velden am Wörthersee\, 9220\, Österreich
CATEGORIES:Öffentliche Veranstaltung
ATTACH;FMTTYPE=image/jpeg:https://www.kunstbahnhofwoerthersee.at/wp-content/uploads/jugendliche-malen-mit-puppi.jpg
END:VEVENT
BEGIN:VEVENT
DTSTART;VALUE=DATE:20260423
DTEND;VALUE=DATE:20260425
DTSTAMP:20260421T050933
CREATED:20260121T074346Z
LAST-MODIFIED:20260121T074346Z
UID:7028-1776916800-1777003199@www.kunstbahnhofwoerthersee.at
SUMMARY:1. Kärntner Kindermalschule Velden
DESCRIPTION:Standort Velden am Wörthersee im Kunstbahnhof Wörthersee am Hausbahnsteig Ost.\nSchuljahrsbegleitend donnerstags von 16:30 bis 18 Uhr.  \nStandortleitung: Hildegard Griesser | Kontakt: Karin Kriegelstein-Sternfeld 0676-5124070 oder kaerntnerkindermalschule.at \nGerade im Medienzeitalter werden schon Kinder überflutet mit vorgegebenen Bildern\, ob nun in Büchern\, TV oder Computer/Spielkonsole. Beim Malen werden eigene Bilder zum Ausdruck gebracht. In der Malwerkstatt der 1. Kärntner Kindermalschule Velden treffen sich schuljahrsbegleitend allwöchentlich zum festen Termin die Malschulkinder – Volksschulkinder zwischen 6 und 10/11  Jahren –  zum Malen. \nDie kleinen Gruppen in der Malwerkstatt malen 90 Minuten; jedes Kind malt in seinem eigenen Rhythmus und wählt Thema\, Farben und Formen selber aus. Die Kinder arbeiten stehend vor ihren großformatigen Blättern\, passend und verstellbar auf Malplatten und Staffeleien aufgespannt. Sie bedienen sich für ihre Farbtellerchen am Farbentisch mit 8 leuchtenden Farben\, einem einladenden Bündel verschieden breiter Pinsel und der Wasserschüssel zum Ausschwemmen\, was viel Sorgfalt\, Konzentration und Rücksichtnahme erfordert. Die großformatige Vorzeichnung mit den fragilen Zeichenkohlestäbchen und der gezielte Umgang mit den Pinseln entwickeln die feinmotorischen Fähigkeiten\, das Ausmischen der verschiedenen Farbtöne das Gefühl für die Farben. \nDie Malbegleiter/innen sind nicht Kunstlehrer/innen oder Therapeut/innen\, sondern verstehen ihre Arbeit als Dienstleistung: Papier wechseln\, Farben bereitstellen\, Flecken beseitigen\, und vor allem mit Anregung\, Ermutigung\, Aufmerksamkeit und Hilfe bei maltechnischen Schwierigkeiten für unsere Malkinder da sein. Frei von Leistungsdruck und Technikzwang geht es hier einzig und allein um das momentane Erlebnis. \nNicht das Bild als Endprodukt steht im Vordergrund\, sondern der Entstehungsprozess und die Freude am Malen.
URL:https://www.kunstbahnhofwoerthersee.at/event/1-kaerntner-kindermalschule-velden-85/
CATEGORIES:Kindermalschule
ATTACH;FMTTYPE=image/jpeg:https://www.kunstbahnhofwoerthersee.at/wp-content/uploads/KärntnerKindermalschule.jpg
END:VEVENT
BEGIN:VEVENT
DTSTART;VALUE=DATE:20260424
DTEND;VALUE=DATE:20260429
DTSTAMP:20260421T050933
CREATED:20251113T112544Z
LAST-MODIFIED:20260419T171608Z
UID:6792-1777003200-1777348799@www.kunstbahnhofwoerthersee.at
SUMMARY:Übergänge | Katharina Acht
DESCRIPTION:In der Reihe „curated by_station“ im Kunstbahnhof Wörthersee lädt Barbara Ambrusch-Rapp zur Ausstellung \nÜbergänge | Katharina Acht\nEröffnung am Freitag\, 24. April 2026 um 19 Uhr\nBegrüßung: Bürgermeisterin Margit Heissenberger\nKuratorin Barbara Ambrusch-Rapp im Gespräch mit der Künstlerin Katharina Acht\n25.04. Ausstellungsrundgang am Samstag\, 25. April von 11 bis 13 Uhr (und nach Vereinbarung 0664-9262926)\n27.04. Finissage am Montag\, 27. April von 18 bis 20 Uhr (die Künstlerin ist anwesend) \nDie Fotoausstellung „Übergänge“ von Katharina Acht widmet sich Momenten des Dazwischens. Nebel\, Weite und atmosphärische Verdichtung eröffnen Bildräume\, in denen Orientierung unsicher wird und Gewissheiten verschwimmen. Die Künstlerin hält Situationen fest\, in denen sich etwas verändert\, ohne dass ein neuer Zustand bereits greifbar ist. In reduzierten\, oft entleerten Landschaften lösen sich bestehende Ordnungen auf. Der Mensch erscheint dabei nicht als handelndes Zentrum\, sondern als situierte Figur innerhalb eines offenen Raumes. Maßstab\, Orientierung und Zeitlichkeit geraten bewusst ins Wanken.\nFotografien und Papierarbeiten laden dazu ein\, innezuhalten und genau hinzusehen. Übergänge werden als eigenständiger Zustand verstanden – als Zeit des Wartens\, der Veränderung und der Neuorientierung. \nKatharina Acht\, geboren 1982 in Gmunden\, absolvierte 2001 die HTL für Grafikdesign und studierte anschließend an der Universität für künstlerische und industrielle Gestaltung in Linz. Dort schloss sie 2006 ihr Studium im Bereich Bildende Künste / Experimentelle Gestaltung ab. Ihre Arbeiten werden seitdem in zahlreichen Ausstellungen im In- und Ausland gezeigt. Neben ihrer künstlerischen Tätigkeit ist sie als Kuratorin aktiv und Mitglied mehrerer Kunstvereine. Von 2015 bis 2021 leitete sie den Linzer Kunstverein „Die Kunstschaffenden“ im Ursulinenhof. Seit 2018 kuratiert Katharina Acht das nextcomic-Festival in Linz. Nach über zwei Jahrzehnten in Linz lebt und arbeitet sie seit 2023 in Roitham am Traunfall.\nwww.katharinaacht.at \nKunstbahnhof Wörthersee\, Bahnhofplatz 1\, Hausbahnsteig Ost\, 9220 Velden am Wörthersee\nin Kooperation mit dem Kunstverein postWERK \n(Werkabbildung © Katharina Acht)
URL:https://www.kunstbahnhofwoerthersee.at/event/katharina-acht/
LOCATION:Kunstbahnhof Wörthersee OST\, Bahnhofplatz | ÖBB-Hausbahnsteig OST\, Velden am Wörthersee\, 9220\, Österreich
CATEGORIES:curated by_station,Öffentliche Veranstaltung
ATTACH;FMTTYPE=image/jpeg:https://www.kunstbahnhofwoerthersee.at/wp-content/uploads/KatharinaAcht_01_w.jpg
END:VEVENT
BEGIN:VEVENT
DTSTART;VALUE=DATE:20260424
DTEND;VALUE=DATE:20260426
DTSTAMP:20260421T050933
CREATED:20260119T121220Z
LAST-MODIFIED:20260119T121220Z
UID:6990-1777003200-1777089599@www.kunstbahnhofwoerthersee.at
SUMMARY:Freies Spiel – Wir spielen Bridge im Kunstbahnhof
DESCRIPTION:Das Kartenspiel Bridge ist ein unglaublich gutes Gehirntraining\, schärft das analytische Denken – und wir knüpfen nebenbei neue soziale Kontakte … Kartenrunde aus den Kursen von Helmuth Ölsinger (Präsident des Österreichischen Bridgesportverbandes) und mit interessierten Bridge-Fans. \nFreies Spiel – Wir spielen Bridge im Kunstbahnhof \nFreitags von 15 bis 17  Uhr und an ausgewählten weiteren Wochentagen\nOrt: Kunstbahnhof Wörthersee West im charmanten Ambiente des ehemaligen Bahnhofsrestaurants in Velden am Wörthersee\, Bahnhofplatz 1\nKontakt: Beatrix Taurer-Geher office@kunstbahnhofwoerthersee.at oder 0664-1255952
URL:https://www.kunstbahnhofwoerthersee.at/event/freies-spiel-wir-spielen-bridge-im-kunstbahnhof-67/
CATEGORIES:Öffentliche Veranstaltung
ATTACH;FMTTYPE=image/jpeg:https://www.kunstbahnhofwoerthersee.at/wp-content/uploads/20250228_150604-bridte-club_b_cut_w.jpg
END:VEVENT
BEGIN:VEVENT
DTSTART;TZID=Europe/Paris:20260425T080000
DTEND;TZID=Europe/Paris:20260425T120000
DTSTAMP:20260421T050933
CREATED:20260203T144048Z
LAST-MODIFIED:20260203T144124Z
UID:7085-1777104000-1777118400@www.kunstbahnhofwoerthersee.at
SUMMARY:Repair Café in Velden
DESCRIPTION:Das beliebte Repair Café in Velden am Wörthersee ist wieder am Samstag\, 25. April 2026 von 8 bis 12:00 Uhr geöffnet: „Du kommst mit deinem kaputten Gerät vorbei _ Entweder du kannst es selbst mit unserem Werkzeug vor Ort reparieren _ Oder wir geben dir Anleitung und helfen gerne _ Das Ganze in angenehmer Atmosphäre mit Café- und Workshopcharakter bei freiwilliger Spende!“\nLetzte Reparaturannahme um 11 Uhr! \nDu hättest gerne mehr Information über das Repair Café? Schau auf die internationale Webseite Repaircafe.org oder stelle deine Fragen an Klaus Zerche unter zerche@a1.net oder Tel 0664-3868666. Anmelden als ehrenamtliche/r Helfer/in? Sende bitte eine E-Mail an zerche@a1.net.\nBis dann im Repair Café!
URL:https://www.kunstbahnhofwoerthersee.at/event/repair-cafe-april-2026/
LOCATION:Kunstbahnhof Wörthersee WEST\, Bahnhofplatz | ÖBB-Hausbahnsteig WEST\, Velden am Wörthersee\, 9220\, Österreich
CATEGORIES:Öffentliche Veranstaltung
ATTACH;FMTTYPE=image/jpeg:https://www.kunstbahnhofwoerthersee.at/wp-content/uploads/Logo-Repair-Cafe-Velden-banner-neu-e1737969070219.jpg
END:VEVENT
BEGIN:VEVENT
DTSTART;VALUE=DATE:20260428
DTEND;VALUE=DATE:20260430
DTSTAMP:20260421T050933
CREATED:20260119T094114Z
LAST-MODIFIED:20260119T094114Z
UID:6948-1777348800-1777435199@www.kunstbahnhofwoerthersee.at
SUMMARY:Kurs – Wir spielen Bridge im Kunstbahnhof
DESCRIPTION:Das Kartenspiel Bridge ist ein unglaublich gutes Gehirntraining\, schärft das analytische Denken – und wir knüpfen nebenbei neue soziale Kontakte …\nKursleitung: Helmuth Ölsinger\, Präsident des Österreichischen Bridgesportverbandes \nOrt: Kunstbahnhof Wörthersee West im charmanten Ambiente des ehemaligen Bahnhofsrestaurants in Velden am Wörthersee\, Bahnhofplatz 1 \nKurs – Wir spielen Bridge im Kunstbahnhof  \nAn ausgewählten Dienstagen von 9:30 bis 11:30 Uhr\, Zusatzeinheiten nach Vereinbarung\nKontakt: Beatrix Taurer-Geher office@kunstbahnhofwoerthersee.at oder 0664-1255952
URL:https://www.kunstbahnhofwoerthersee.at/event/kurs-wir-spielen-bridge-im-kunstbahnhof-56/
CATEGORIES:Öffentliche Veranstaltung
ATTACH;FMTTYPE=image/jpeg:https://www.kunstbahnhofwoerthersee.at/wp-content/uploads/20240523_130424-bridge-bahnsteig_banner.jpg
END:VEVENT
BEGIN:VEVENT
DTSTART;VALUE=DATE:20260429
DTEND;VALUE=DATE:20260501
DTSTAMP:20260421T050933
CREATED:20260204T140437Z
LAST-MODIFIED:20260204T140437Z
UID:7121-1777435200-1777521599@www.kunstbahnhofwoerthersee.at
SUMMARY:Malgruppe „Farbiger Herbst“ | Kunst kennt kein Alter!
DESCRIPTION:Farbiger Herbst – eine ambitionierte Malrunde in der dritten Lebensphase trifft sich jeden zweiten Mittwochvormittag zum Malen.\nDozentin: Sonja Capeller mit Assistentin Margit Steinwender. Info und Anmeldung: margit.steinwender@gmail.com \nMalgruppe „Farbiger Herbst“ | Kunst kennt kein Alter!\nMittwoch\, 29.04.2026 um 10 Uhr am Veldner Hausbahnsteig West. \n\n„Malen im Farbigen Herbst verstehen wir so: Menschen\, die immer schon mal malen wollten und jetzt endlich dafür Zeit hätten. Oder Menschen\, die erwachsen und selbstbewusst genug sind\, sich auf das Thema Malerei wieder oder zum ersten Mal einzulassen\, und die freudige Ausdrucksweise und ungezügelte Phantasie des Kindes\, die sie wieder hervor kitzeln wollen. Oder malbegeisterte Menschen\, die andere malbegeisterte Menschen treffen möchten. Oder Menschen\, die ihre Fähigkeiten und Fertigkeiten wieder auffrischen wollen. Oder … Vielleicht haben Sie einen ganz anderen Grund\, den Pinsel\, den Stift\, die Spachtel oder die Graviernadel wieder in die Hand zu nehmen und ihre Enkelkinder mit den Ergebnissen zum Staunen zu bringen. Welchen Grund Sie haben\, ist egal\, es gibt unzählige Gründe\, bei uns vorbeizukommen und mit uns gemeinsam zu malen. Ein geschultes Team steht Ihnen mit Rat\, Tat und Pinsel zur Seite.“
URL:https://www.kunstbahnhofwoerthersee.at/event/malgruppe-farbiger-herbst-kunst-kennt-kein-alter-26/
LOCATION:Kunstbahnhof Wörthersee WEST\, Bahnhofplatz | ÖBB-Hausbahnsteig WEST\, Velden am Wörthersee\, 9220\, Österreich
CATEGORIES:Öffentliche Veranstaltung
ATTACH;FMTTYPE=image/jpeg:https://www.kunstbahnhofwoerthersee.at/wp-content/uploads/Offene-Malwerkstatt_MadlKren_b.jpg
END:VEVENT
BEGIN:VEVENT
DTSTART;VALUE=DATE:20260429
DTEND;VALUE=DATE:20260501
DTSTAMP:20260421T050933
CREATED:20260205T100948Z
LAST-MODIFIED:20260205T100948Z
UID:7137-1777435200-1777521599@www.kunstbahnhofwoerthersee.at
SUMMARY:Offene Aquarellrunde mit Margit Steinwender
DESCRIPTION:Mit- und voneinander lernen und gemeinsam kreativ sein. Jede und jeder mit etwas Grundkenntnis in der Aquarellmalerei ist herzlich willkommen in der offenen Malrunde mit Margit Steinwender.\nKein Kurs\, keine langfristige Verpflichtung\, Kostenbeitrag € 5\,- pro Nachmittag\, Beginn jeweils um 14 Uhr. \nOffene Aquarellrunde mit Margit Steinwender\nMittwoch\, 29.04.2026 um 14 Uhr\nAnmeldung + Kontakt: margit.steinwender@gmail.com \n(Abbildung Aquarell von Stefanie Schara)
URL:https://www.kunstbahnhofwoerthersee.at/event/offene-aquarellrunde-mit-margit-steinwender-19/
LOCATION:Kunstbahnhof Wörthersee WEST\, Bahnhofplatz | ÖBB-Hausbahnsteig WEST\, Velden am Wörthersee\, 9220\, Österreich
CATEGORIES:Öffentliche Veranstaltung
ATTACH;FMTTYPE=image/jpeg:https://www.kunstbahnhofwoerthersee.at/wp-content/uploads/Aquarell-Abbildung-Stefanie-Schara_w.jpg
END:VEVENT
BEGIN:VEVENT
DTSTART;VALUE=DATE:20260430
DTEND;VALUE=DATE:20260502
DTSTAMP:20260421T050933
CREATED:20260121T074425Z
LAST-MODIFIED:20260121T074425Z
UID:7030-1777521600-1777607999@www.kunstbahnhofwoerthersee.at
SUMMARY:1. Kärntner Kindermalschule Velden
DESCRIPTION:Standort Velden am Wörthersee im Kunstbahnhof Wörthersee am Hausbahnsteig Ost.\nSchuljahrsbegleitend donnerstags von 16:30 bis 18 Uhr.  \nStandortleitung: Hildegard Griesser | Kontakt: Karin Kriegelstein-Sternfeld 0676-5124070 oder kaerntnerkindermalschule.at \nGerade im Medienzeitalter werden schon Kinder überflutet mit vorgegebenen Bildern\, ob nun in Büchern\, TV oder Computer/Spielkonsole. Beim Malen werden eigene Bilder zum Ausdruck gebracht. In der Malwerkstatt der 1. Kärntner Kindermalschule Velden treffen sich schuljahrsbegleitend allwöchentlich zum festen Termin die Malschulkinder – Volksschulkinder zwischen 6 und 10/11  Jahren –  zum Malen. \nDie kleinen Gruppen in der Malwerkstatt malen 90 Minuten; jedes Kind malt in seinem eigenen Rhythmus und wählt Thema\, Farben und Formen selber aus. Die Kinder arbeiten stehend vor ihren großformatigen Blättern\, passend und verstellbar auf Malplatten und Staffeleien aufgespannt. Sie bedienen sich für ihre Farbtellerchen am Farbentisch mit 8 leuchtenden Farben\, einem einladenden Bündel verschieden breiter Pinsel und der Wasserschüssel zum Ausschwemmen\, was viel Sorgfalt\, Konzentration und Rücksichtnahme erfordert. Die großformatige Vorzeichnung mit den fragilen Zeichenkohlestäbchen und der gezielte Umgang mit den Pinseln entwickeln die feinmotorischen Fähigkeiten\, das Ausmischen der verschiedenen Farbtöne das Gefühl für die Farben. \nDie Malbegleiter/innen sind nicht Kunstlehrer/innen oder Therapeut/innen\, sondern verstehen ihre Arbeit als Dienstleistung: Papier wechseln\, Farben bereitstellen\, Flecken beseitigen\, und vor allem mit Anregung\, Ermutigung\, Aufmerksamkeit und Hilfe bei maltechnischen Schwierigkeiten für unsere Malkinder da sein. Frei von Leistungsdruck und Technikzwang geht es hier einzig und allein um das momentane Erlebnis. \nNicht das Bild als Endprodukt steht im Vordergrund\, sondern der Entstehungsprozess und die Freude am Malen.
URL:https://www.kunstbahnhofwoerthersee.at/event/1-kaerntner-kindermalschule-velden-86/
CATEGORIES:Kindermalschule
ATTACH;FMTTYPE=image/jpeg:https://www.kunstbahnhofwoerthersee.at/wp-content/uploads/KärntnerKindermalschule.jpg
END:VEVENT
END:VCALENDAR