BEGIN:VCALENDAR
VERSION:2.0
PRODID:-//Kunstbahnhof Wörthersee - ECPv6.2.2//NONSGML v1.0//EN
CALSCALE:GREGORIAN
METHOD:PUBLISH
X-ORIGINAL-URL:https://www.kunstbahnhofwoerthersee.at
X-WR-CALDESC:Veranstaltungen für Kunstbahnhof Wörthersee
REFRESH-INTERVAL;VALUE=DURATION:PT1H
X-Robots-Tag:noindex
X-PUBLISHED-TTL:PT1H
BEGIN:VTIMEZONE
TZID:Europe/Paris
BEGIN:DAYLIGHT
TZOFFSETFROM:+0100
TZOFFSETTO:+0200
TZNAME:CEST
DTSTART:20260329T010000
END:DAYLIGHT
BEGIN:STANDARD
TZOFFSETFROM:+0200
TZOFFSETTO:+0100
TZNAME:CET
DTSTART:20261025T010000
END:STANDARD
END:VTIMEZONE
BEGIN:VEVENT
DTSTART;VALUE=DATE:20260612
DTEND;VALUE=DATE:20260616
DTSTAMP:20260419T233645
CREATED:20251022T090122Z
LAST-MODIFIED:20260413T122710Z
UID:6749-1781236800-1781495999@www.kunstbahnhofwoerthersee.at
SUMMARY:Ausstellung "Kleiner Grenzverkehr" Christine Huss mit Lesung Eva Brislinger
DESCRIPTION:In der Reihe „curated by_station“ lädt der Kunstbahnhof Wörthersee zur Ausstellung \nKleiner Grenzverkehr | Christine Huss\nVernissage am Freitag\, 12. Juni 2026 um 19 Uhr\nKuratorin Barbara Ambrusch-Rapp spricht zur Ausstellung\, die Künstlerin ist anwesend.\nAusstellung geöffnet auch am Samstag\, 13. Juni von 11 bis 13 Uhr.\nFinissage/Lesung am Sonntag\, 14. Juni 2026 um 18 Uhr\nDie Kärntner Autorin Eva Brislinger liest gefühlvolle Texte aus ihrem neuen Lyrikband „Liebe\, Tod und Tischgeflüster“ und ihre Erzählung „Märzrausch“\, die 2024 mit dem Anerkennungspreis des Landes Kärnten für Prosa ausgezeichnet wurde.\nEintritt frei. \nZur Ausstellung: Kleiner Grenzverkehr – innere und äußere Reisen. Überall begegnen wir Grenzen – sichtbar und unsichtbar. Einatmen. Ausatmen. Unser Körper ist das Gefäß unseres Lebens: Ich – und da draußen alle Du. Diese Ausstellung ist eine Reise: sie fragt nach dem\, was trennt – und dem\, was verbindet. Sie erzählt von Reisen – durch Landschaften und Seelenräume. Vom Erweitern der eigenen Grenzen\, vom Mut\, das Bekannte zu verlassen und sich in das Unbekannte zu wagen. In diesem Zustand scheinbarer „Schwäche“ mit dem Bewusstsein und Willen\, etwas ändern zu wollen\, wächst der Mensch. Kleiner Grenzverkehr – eine Einladung\, das Zwischen und Darüberhinaus zu betreten. In welchem Bereich deines Lebens fühlst du ein Schwachsein\, das du gerne in Wachstum verwandeln willst? (Christine Huss) \nChristine Huss\, 1966 in Hall in Tirol geboren\, lebt in Kärnten\, Ferlach. Beschäftigung mit Malerei\, Objektkunst\, Lichtkunst seit 1990. Unterrichtet Yoga und Qigong und leitet Kunstworkshops. Mitglied im „Kunstverein Kärnten“ und in der „Berufsvereinigung bildender Künstler“ Landesverband Kärnten. Christine Huss arbeitet mit Projektionen\, Visionen und Bildern\, die sich aus ihrer Körperarbeit und Arbeit des Spürens und Sehens aus der Tiefe ergeben und die sich in der Malerei\, Objekt-/Lichtkunst zeigen dürfen.\nchristinehuss.at \nInfo zum Buch von Eva Brislinger: Liebe\, Tod und Tischgeflüster – Lyrik plus 1 / 2025 MITGIFT Verlag / ISBN 978-3-903095-21-2 / Hartband / 72 Seiten / Format 130 x 165.\ngeschrieben.at/evas-schreiberei \nDiese Ausstellung ist Teil der Triennale IV Kärnten 2026 mit dem Titel „schwach • šibko • debole“ auf Initiative des Kunstvereins Kärnten.
URL:https://www.kunstbahnhofwoerthersee.at/event/huss-grenzverkehr/
LOCATION:Kunstbahnhof Wörthersee OST\, Bahnhofplatz | ÖBB-Hausbahnsteig OST\, Velden am Wörthersee\, 9220\, Österreich
CATEGORIES:Öffentliche Veranstaltung
ATTACH;FMTTYPE=image/jpeg:https://www.kunstbahnhofwoerthersee.at/wp-content/uploads/Werkabbildung-Christine-Huss_Detail.jpg
END:VEVENT
BEGIN:VEVENT
DTSTART;TZID=Europe/Paris:20260627T080000
DTEND;TZID=Europe/Paris:20260627T120000
DTSTAMP:20260419T233645
CREATED:20260203T144357Z
LAST-MODIFIED:20260203T144357Z
UID:7090-1782547200-1782561600@www.kunstbahnhofwoerthersee.at
SUMMARY:Repair Café in Velden
DESCRIPTION:Das beliebte Repair Café in Velden am Wörthersee ist wieder am Samstag\, 27. Juni 2026 von 8 bis 12:00 Uhr geöffnet: „Du kommst mit deinem kaputten Gerät vorbei _ Entweder du kannst es selbst mit unserem Werkzeug vor Ort reparieren _ Oder wir geben dir Anleitung und helfen gerne _ Das Ganze in angenehmer Atmosphäre mit Café- und Workshopcharakter bei freiwilliger Spende!“\nLetzte Reparaturannahme um 11 Uhr! \nDu hättest gerne mehr Information über das Repair Café? Schau auf die internationale Webseite Repaircafe.org oder stelle deine Fragen an Klaus Zerche unter zerche@a1.net oder Tel 0664-3868666. Anmelden als ehrenamtliche/r Helfer/in? Sende bitte eine E-Mail an zerche@a1.net.\nBis dann im Repair Café!
URL:https://www.kunstbahnhofwoerthersee.at/event/repair-cafe-in-velden-4/
LOCATION:Kunstbahnhof Wörthersee WEST\, Bahnhofplatz | ÖBB-Hausbahnsteig WEST\, Velden am Wörthersee\, 9220\, Österreich
CATEGORIES:Öffentliche Veranstaltung
ATTACH;FMTTYPE=image/jpeg:https://www.kunstbahnhofwoerthersee.at/wp-content/uploads/Logo-Repair-Cafe-Velden-banner-neu-e1737969070219.jpg
END:VEVENT
END:VCALENDAR