BEGIN:VCALENDAR
VERSION:2.0
PRODID:-//Kunstbahnhof Wörthersee - ECPv6.2.2//NONSGML v1.0//EN
CALSCALE:GREGORIAN
METHOD:PUBLISH
X-ORIGINAL-URL:https://www.kunstbahnhofwoerthersee.at
X-WR-CALDESC:Veranstaltungen für Kunstbahnhof Wörthersee
REFRESH-INTERVAL;VALUE=DURATION:PT1H
X-Robots-Tag:noindex
X-PUBLISHED-TTL:PT1H
BEGIN:VTIMEZONE
TZID:Europe/Paris
BEGIN:DAYLIGHT
TZOFFSETFROM:+0100
TZOFFSETTO:+0200
TZNAME:CEST
DTSTART:20260329T010000
END:DAYLIGHT
BEGIN:STANDARD
TZOFFSETFROM:+0200
TZOFFSETTO:+0100
TZNAME:CET
DTSTART:20261025T010000
END:STANDARD
END:VTIMEZONE
BEGIN:VEVENT
DTSTART;VALUE=DATE:20260601
DTEND;VALUE=DATE:20260603
DTSTAMP:20260420T213010
CREATED:20260129T113551Z
LAST-MODIFIED:20260331T094103Z
UID:7067-1780286400-1780372799@www.kunstbahnhofwoerthersee.at
SUMMARY:„In Minor Keys“ 61. Kunstbiennale Venedig 2026
DESCRIPTION:Einführungsvortrag von Gerda Madl-Kren zur heurigen Biennale in Venedig.\nMontag\, 1. Juni 2026 um 19:00 Uhr\nClubbeitrag 15 Euro  – ein Angebot des Clubs für Bild und Bildung.\nBegrenzte Platzzahl – daher bitte um Anmeldung NUR über office@kunstbahnhofwoerthersee.at \n 
URL:https://www.kunstbahnhofwoerthersee.at/event/vortrag-biennale/
LOCATION:Kunstbahnhof Wörthersee OST\, Bahnhofplatz | ÖBB-Hausbahnsteig OST\, Velden am Wörthersee\, 9220\, Österreich
CATEGORIES:Öffentliche Veranstaltung
END:VEVENT
END:VCALENDAR