BEGIN:VCALENDAR
VERSION:2.0
PRODID:-//Kunstbahnhof Wörthersee - ECPv6.2.2//NONSGML v1.0//EN
CALSCALE:GREGORIAN
METHOD:PUBLISH
X-ORIGINAL-URL:https://www.kunstbahnhofwoerthersee.at
X-WR-CALDESC:Veranstaltungen für Kunstbahnhof Wörthersee
REFRESH-INTERVAL;VALUE=DURATION:PT1H
X-Robots-Tag:noindex
X-PUBLISHED-TTL:PT1H
BEGIN:VTIMEZONE
TZID:Europe/Paris
BEGIN:DAYLIGHT
TZOFFSETFROM:+0100
TZOFFSETTO:+0200
TZNAME:CEST
DTSTART:20260329T010000
END:DAYLIGHT
BEGIN:STANDARD
TZOFFSETFROM:+0200
TZOFFSETTO:+0100
TZNAME:CET
DTSTART:20261025T010000
END:STANDARD
END:VTIMEZONE
BEGIN:VEVENT
DTSTART;VALUE=DATE:20260413
DTEND;VALUE=DATE:20260628
DTSTAMP:20260421T092736
CREATED:20260113T155913Z
LAST-MODIFIED:20260410T084457Z
UID:6914-1776052800-1782532799@www.kunstbahnhofwoerthersee.at
SUMMARY:VAKÜNST Blick und Auflösung | Violetta Stuchlik
DESCRIPTION:Vom 13. April bis 26. Juni 2026 sind sechs große Fenster im Kunstbahnhof Wörthersee am Veldner Hausbahnsteig West mit den Arbeiten der Künstlerin Violetta Stuchlik gestaltet. Zusätzlich gibt es Anfang Juni (5.-7.) ein Ausstellungswochenende\, an dem weitere Arbeiten der Künstlerin in der Galerie des Kunstbahnhof Wörthersee am Veldner Hausbahnsteig Ost präsentiert werden. \nBlick und Auflösung ist eine fotografische Untersuchung darüber\, wie Wahrnehmung entsteht – und wie sie entgleitet. Die Serie oszilliert zwischen zwei sich ergänzenden und zugleich gegensätzlichen Bildwelten: Abstrakte\, verschwommene Naturfragmente lassen Bewegung sichtbar werden\, indem sie sich einer fixierten Form entziehen. Sie erinnern an ein Bild\, das das Auge bereits verlassen hat – eine Spur\, ein Nachglühen\, ein nicht vollständig erfasstes Außen.\nDem gegenüber stehen präzise\, quadratische Nahaufnahmen von Iriden. Sie markieren den Moment des bewussten Sehens: das Auge als Ort der Wahrnehmung\, als Schnittstelle zwischen Welt und Wahrnehmendem. Doch in ihrer Intimität werfen sie zugleich eine Frage auf – die nach Blickkontakt\, Aufmerksamkeit und Gegenüber.\nDie Serie verhandelt Bewegung als physisches\, visuelles und soziales Phänomen: Die Welt ist permanent in Bewegung\, das Auge ebenfalls – und doch entgleitet uns das Gesehene\, überlagert von Ablenkung\, Geschwindigkeit und Abwesenheit des Blicks. Die Bilder laden dazu ein\, innezuhalten – und zurückzublicken. \nVioletta Stuchlik (*1993) aus Dortmund hat eine Ausbildung zur Produkt- und Werbefotografin absolviert und ist seit 2016 freiberuflich als Fotografin tätig. Nach einem Bachelorstudium in Journalismus und Public Relations führte sie ihr Masterstudium in Visueller Kultur im Jahr 2021 nach Klagenfurt. In ihren freien Projekten widmet sie sich verschiedenen Themenfeldern und Genres\, darunter auch der Verbindung von Fotografie und Text sowie künstlerischem Film. Diese stellen für sie Möglichkeiten dar\, Vorstellungen davon aufzuzeigen\, wie die Welt gesehen werden kann. Ihre Umgebung und gesellschaftliche Beobachtung prägen ebenfalls ihre Arbeit. Aufgrund ihres akademischen Hintergrunds setzt sie sich darüber hinaus reflektiv mit der Wahrnehmung von Bildern und Sehprozessen auseinander. Seit 2025 ist sie beim Verein Lendhauer aktiv und organisiert dort kollektiv Kunst- und Kulturveranstaltungen im öffentlichen Raum. \nEin Kunstprojekt von VAKÜ/VAKÜNST im Kunstbahnhof Wörthersee\, kuratiert von Johanna Steindl und Johanna Lietz:\nwww.vakueklagenfurt.at/vakuenst\nBannerbild: Detail der Arbeit „Bewegung“ von Violetta Stuchlik
URL:https://www.kunstbahnhofwoerthersee.at/event/ausstellung-mobilitaet/
LOCATION:Kunstbahnhof Wörthersee OST\, Bahnhofplatz | ÖBB-Hausbahnsteig OST\, Velden am Wörthersee\, 9220\, Österreich
CATEGORIES:Öffentliche Veranstaltung
ATTACH;FMTTYPE=image/jpeg:https://www.kunstbahnhofwoerthersee.at/wp-content/uploads/Stuchlik_Bewegung_1-683x1024-detail.jpg
END:VEVENT
BEGIN:VEVENT
DTSTART;VALUE=DATE:20260601
DTEND;VALUE=DATE:20260603
DTSTAMP:20260421T092736
CREATED:20260129T113551Z
LAST-MODIFIED:20260331T094103Z
UID:7067-1780286400-1780372799@www.kunstbahnhofwoerthersee.at
SUMMARY:„In Minor Keys“ 61. Kunstbiennale Venedig 2026
DESCRIPTION:Einführungsvortrag von Gerda Madl-Kren zur heurigen Biennale in Venedig.\nMontag\, 1. Juni 2026 um 19:00 Uhr\nClubbeitrag 15 Euro  – ein Angebot des Clubs für Bild und Bildung.\nBegrenzte Platzzahl – daher bitte um Anmeldung NUR über office@kunstbahnhofwoerthersee.at \n 
URL:https://www.kunstbahnhofwoerthersee.at/event/vortrag-biennale/
LOCATION:Kunstbahnhof Wörthersee OST\, Bahnhofplatz | ÖBB-Hausbahnsteig OST\, Velden am Wörthersee\, 9220\, Österreich
CATEGORIES:Öffentliche Veranstaltung
END:VEVENT
BEGIN:VEVENT
DTSTART;VALUE=DATE:20260602
DTEND;VALUE=DATE:20260604
DTSTAMP:20260421T092736
CREATED:20260119T094430Z
LAST-MODIFIED:20260119T094430Z
UID:6958-1780372800-1780459199@www.kunstbahnhofwoerthersee.at
SUMMARY:Kurs – Wir spielen Bridge im Kunstbahnhof
DESCRIPTION:Das Kartenspiel Bridge ist ein unglaublich gutes Gehirntraining\, schärft das analytische Denken – und wir knüpfen nebenbei neue soziale Kontakte …\nKursleitung: Helmuth Ölsinger\, Präsident des Österreichischen Bridgesportverbandes \nOrt: Kunstbahnhof Wörthersee West im charmanten Ambiente des ehemaligen Bahnhofsrestaurants in Velden am Wörthersee\, Bahnhofplatz 1 \nKurs – Wir spielen Bridge im Kunstbahnhof  \nAn ausgewählten Dienstagen von 9:30 bis 11:30 Uhr\, Zusatzeinheiten nach Vereinbarung\nKontakt: Beatrix Taurer-Geher office@kunstbahnhofwoerthersee.at oder 0664-1255952
URL:https://www.kunstbahnhofwoerthersee.at/event/kurs-wir-spielen-bridge-im-kunstbahnhof-61/
CATEGORIES:Öffentliche Veranstaltung
ATTACH;FMTTYPE=image/jpeg:https://www.kunstbahnhofwoerthersee.at/wp-content/uploads/20240523_130424-bridge-bahnsteig_banner.jpg
END:VEVENT
BEGIN:VEVENT
DTSTART;TZID=Europe/Paris:20260603T160000
DTEND;TZID=Europe/Paris:20260603T180000
DTSTAMP:20260421T092736
CREATED:20260208T155644Z
LAST-MODIFIED:20260208T155644Z
UID:7148-1780502400-1780509600@www.kunstbahnhofwoerthersee.at
SUMMARY:Kunstbahnhof belegt
DESCRIPTION:Info folgt an dieser Stelle …
URL:https://www.kunstbahnhofwoerthersee.at/event/malworkshops-fuer-jugendliche-5/
LOCATION:Kunstbahnhof Wörthersee OST\, Bahnhofplatz | ÖBB-Hausbahnsteig OST\, Velden am Wörthersee\, 9220\, Österreich
CATEGORIES:Nicht öffentliche Veranstaltung
END:VEVENT
BEGIN:VEVENT
DTSTART;VALUE=DATE:20260605
DTEND;VALUE=DATE:20260607
DTSTAMP:20260421T092736
CREATED:20260119T122033Z
LAST-MODIFIED:20260119T122033Z
UID:7003-1780632000-1780718399@www.kunstbahnhofwoerthersee.at
SUMMARY:Freies Spiel – Wir spielen Bridge im Kunstbahnhof
DESCRIPTION:Das Kartenspiel Bridge ist ein unglaublich gutes Gehirntraining\, schärft das analytische Denken – und wir knüpfen nebenbei neue soziale Kontakte … Kartenrunde aus den Kursen von Helmuth Ölsinger (Präsident des Österreichischen Bridgesportverbandes) und mit interessierten Bridge-Fans. \nFreies Spiel – Wir spielen Bridge im Kunstbahnhof \nFreitags von 15 bis 17  Uhr und an ausgewählten weiteren Wochentagen\nOrt: Kunstbahnhof Wörthersee West im charmanten Ambiente des ehemaligen Bahnhofsrestaurants in Velden am Wörthersee\, Bahnhofplatz 1\nKontakt: Beatrix Taurer-Geher office@kunstbahnhofwoerthersee.at oder 0664-1255952
URL:https://www.kunstbahnhofwoerthersee.at/event/freies-spiel-wir-spielen-bridge-im-kunstbahnhof-73/
CATEGORIES:Öffentliche Veranstaltung
ATTACH;FMTTYPE=image/jpeg:https://www.kunstbahnhofwoerthersee.at/wp-content/uploads/20250228_150604-bridte-club_b_cut_w.jpg
END:VEVENT
BEGIN:VEVENT
DTSTART;VALUE=DATE:20260609
DTEND;VALUE=DATE:20260611
DTSTAMP:20260421T092736
CREATED:20260119T094503Z
LAST-MODIFIED:20260119T094503Z
UID:6960-1780977600-1781063999@www.kunstbahnhofwoerthersee.at
SUMMARY:Kurs – Wir spielen Bridge im Kunstbahnhof
DESCRIPTION:Das Kartenspiel Bridge ist ein unglaublich gutes Gehirntraining\, schärft das analytische Denken – und wir knüpfen nebenbei neue soziale Kontakte …\nKursleitung: Helmuth Ölsinger\, Präsident des Österreichischen Bridgesportverbandes \nOrt: Kunstbahnhof Wörthersee West im charmanten Ambiente des ehemaligen Bahnhofsrestaurants in Velden am Wörthersee\, Bahnhofplatz 1 \nKurs – Wir spielen Bridge im Kunstbahnhof  \nAn ausgewählten Dienstagen von 9:30 bis 11:30 Uhr\, Zusatzeinheiten nach Vereinbarung\nKontakt: Beatrix Taurer-Geher office@kunstbahnhofwoerthersee.at oder 0664-1255952
URL:https://www.kunstbahnhofwoerthersee.at/event/kurs-wir-spielen-bridge-im-kunstbahnhof-62/
CATEGORIES:Öffentliche Veranstaltung
ATTACH;FMTTYPE=image/jpeg:https://www.kunstbahnhofwoerthersee.at/wp-content/uploads/20240523_130424-bridge-bahnsteig_banner.jpg
END:VEVENT
BEGIN:VEVENT
DTSTART;VALUE=DATE:20260611
DTEND;VALUE=DATE:20260613
DTSTAMP:20260421T092736
CREATED:20260121T075008Z
LAST-MODIFIED:20260121T075008Z
UID:7042-1781150400-1781236799@www.kunstbahnhofwoerthersee.at
SUMMARY:1. Kärntner Kindermalschule Velden
DESCRIPTION:Standort Velden am Wörthersee im Kunstbahnhof Wörthersee am Hausbahnsteig Ost.\nSchuljahrsbegleitend donnerstags von 16:30 bis 18 Uhr.  \nStandortleitung: Hildegard Griesser | Kontakt: Karin Kriegelstein-Sternfeld 0676-5124070 oder kaerntnerkindermalschule.at \nGerade im Medienzeitalter werden schon Kinder überflutet mit vorgegebenen Bildern\, ob nun in Büchern\, TV oder Computer/Spielkonsole. Beim Malen werden eigene Bilder zum Ausdruck gebracht. In der Malwerkstatt der\n1. Kärntner Kindermalschule Velden treffen sich schuljahrsbegleitend allwöchentlich zum festen Termin die Malschulkinder – Volksschulkinder zwischen 6 und 10/11  Jahren –  zum Malen. \nDie kleinen Gruppen in der Malwerkstatt malen 90 Minuten; jedes Kind malt in seinem eigenen Rhythmus und wählt Thema\, Farben und Formen selber aus. Die Kinder arbeiten stehend vor ihren großformatigen Blättern\, passend und verstellbar auf Malplatten und Staffeleien aufgespannt. Sie bedienen sich für ihre Farbtellerchen am Farbentisch mit 8 leuchtenden Farben\, einem einladenden Bündel verschieden breiter Pinsel und der Wasserschüssel zum Ausschwemmen\, was viel Sorgfalt\, Konzentration und Rücksichtnahme erfordert. Die großformatige Vorzeichnung mit den fragilen Zeichenkohlestäbchen und der gezielte Umgang mit den Pinseln entwickeln die feinmotorischen Fähigkeiten\, das Ausmischen der verschiedenen Farbtöne das Gefühl für die Farben. \nDie Malbegleiter/innen sind nicht Kunstlehrer/innen oder Therapeut/innen\, sondern verstehen ihre Arbeit als Dienstleistung: Papier wechseln\, Farben bereitstellen\, Flecken beseitigen\, und vor allem mit Anregung\, Ermutigung\, Aufmerksamkeit und Hilfe bei maltechnischen Schwierigkeiten für unsere Malkinder da sein. Frei von Leistungsdruck und Technikzwang geht es hier einzig und allein um das momentane Erlebnis. \nNicht das Bild als Endprodukt steht im Vordergrund\, sondern der Entstehungsprozess und die Freude am Malen.
URL:https://www.kunstbahnhofwoerthersee.at/event/1-kaerntner-kindermalschule-velden-92/
CATEGORIES:Kindermalschule
ATTACH;FMTTYPE=image/jpeg:https://www.kunstbahnhofwoerthersee.at/wp-content/uploads/KärntnerKindermalschule.jpg
END:VEVENT
BEGIN:VEVENT
DTSTART;VALUE=DATE:20260612
DTEND;VALUE=DATE:20260616
DTSTAMP:20260421T092736
CREATED:20251022T090122Z
LAST-MODIFIED:20260413T122710Z
UID:6749-1781236800-1781495999@www.kunstbahnhofwoerthersee.at
SUMMARY:Ausstellung "Kleiner Grenzverkehr" Christine Huss mit Lesung Eva Brislinger
DESCRIPTION:In der Reihe „curated by_station“ lädt der Kunstbahnhof Wörthersee zur Ausstellung \nKleiner Grenzverkehr | Christine Huss\nVernissage am Freitag\, 12. Juni 2026 um 19 Uhr\nKuratorin Barbara Ambrusch-Rapp spricht zur Ausstellung\, die Künstlerin ist anwesend.\nAusstellung geöffnet auch am Samstag\, 13. Juni von 11 bis 13 Uhr.\nFinissage/Lesung am Sonntag\, 14. Juni 2026 um 18 Uhr\nDie Kärntner Autorin Eva Brislinger liest gefühlvolle Texte aus ihrem neuen Lyrikband „Liebe\, Tod und Tischgeflüster“ und ihre Erzählung „Märzrausch“\, die 2024 mit dem Anerkennungspreis des Landes Kärnten für Prosa ausgezeichnet wurde.\nEintritt frei. \nZur Ausstellung: Kleiner Grenzverkehr – innere und äußere Reisen. Überall begegnen wir Grenzen – sichtbar und unsichtbar. Einatmen. Ausatmen. Unser Körper ist das Gefäß unseres Lebens: Ich – und da draußen alle Du. Diese Ausstellung ist eine Reise: sie fragt nach dem\, was trennt – und dem\, was verbindet. Sie erzählt von Reisen – durch Landschaften und Seelenräume. Vom Erweitern der eigenen Grenzen\, vom Mut\, das Bekannte zu verlassen und sich in das Unbekannte zu wagen. In diesem Zustand scheinbarer „Schwäche“ mit dem Bewusstsein und Willen\, etwas ändern zu wollen\, wächst der Mensch. Kleiner Grenzverkehr – eine Einladung\, das Zwischen und Darüberhinaus zu betreten. In welchem Bereich deines Lebens fühlst du ein Schwachsein\, das du gerne in Wachstum verwandeln willst? (Christine Huss) \nChristine Huss\, 1966 in Hall in Tirol geboren\, lebt in Kärnten\, Ferlach. Beschäftigung mit Malerei\, Objektkunst\, Lichtkunst seit 1990. Unterrichtet Yoga und Qigong und leitet Kunstworkshops. Mitglied im „Kunstverein Kärnten“ und in der „Berufsvereinigung bildender Künstler“ Landesverband Kärnten. Christine Huss arbeitet mit Projektionen\, Visionen und Bildern\, die sich aus ihrer Körperarbeit und Arbeit des Spürens und Sehens aus der Tiefe ergeben und die sich in der Malerei\, Objekt-/Lichtkunst zeigen dürfen.\nchristinehuss.at \nInfo zum Buch von Eva Brislinger: Liebe\, Tod und Tischgeflüster – Lyrik plus 1 / 2025 MITGIFT Verlag / ISBN 978-3-903095-21-2 / Hartband / 72 Seiten / Format 130 x 165.\ngeschrieben.at/evas-schreiberei \nDiese Ausstellung ist Teil der Triennale IV Kärnten 2026 mit dem Titel „schwach • šibko • debole“ auf Initiative des Kunstvereins Kärnten.
URL:https://www.kunstbahnhofwoerthersee.at/event/huss-grenzverkehr/
LOCATION:Kunstbahnhof Wörthersee OST\, Bahnhofplatz | ÖBB-Hausbahnsteig OST\, Velden am Wörthersee\, 9220\, Österreich
CATEGORIES:Öffentliche Veranstaltung
ATTACH;FMTTYPE=image/jpeg:https://www.kunstbahnhofwoerthersee.at/wp-content/uploads/Werkabbildung-Christine-Huss_Detail.jpg
END:VEVENT
BEGIN:VEVENT
DTSTART;VALUE=DATE:20260612
DTEND;VALUE=DATE:20260614
DTSTAMP:20260421T092736
CREATED:20260119T122112Z
LAST-MODIFIED:20260119T122112Z
UID:7005-1781236800-1781323199@www.kunstbahnhofwoerthersee.at
SUMMARY:Freies Spiel – Wir spielen Bridge im Kunstbahnhof
DESCRIPTION:Das Kartenspiel Bridge ist ein unglaublich gutes Gehirntraining\, schärft das analytische Denken – und wir knüpfen nebenbei neue soziale Kontakte … Kartenrunde aus den Kursen von Helmuth Ölsinger (Präsident des Österreichischen Bridgesportverbandes) und mit interessierten Bridge-Fans. \nFreies Spiel – Wir spielen Bridge im Kunstbahnhof \nFreitags von 15 bis 17  Uhr und an ausgewählten weiteren Wochentagen\nOrt: Kunstbahnhof Wörthersee West im charmanten Ambiente des ehemaligen Bahnhofsrestaurants in Velden am Wörthersee\, Bahnhofplatz 1\nKontakt: Beatrix Taurer-Geher office@kunstbahnhofwoerthersee.at oder 0664-1255952
URL:https://www.kunstbahnhofwoerthersee.at/event/freies-spiel-wir-spielen-bridge-im-kunstbahnhof-74/
CATEGORIES:Öffentliche Veranstaltung
ATTACH;FMTTYPE=image/jpeg:https://www.kunstbahnhofwoerthersee.at/wp-content/uploads/20250228_150604-bridte-club_b_cut_w.jpg
END:VEVENT
BEGIN:VEVENT
DTSTART;VALUE=DATE:20260616
DTEND;VALUE=DATE:20260618
DTSTAMP:20260421T092736
CREATED:20260119T094550Z
LAST-MODIFIED:20260119T094550Z
UID:6962-1781582400-1781668799@www.kunstbahnhofwoerthersee.at
SUMMARY:Kurs – Wir spielen Bridge im Kunstbahnhof
DESCRIPTION:Das Kartenspiel Bridge ist ein unglaublich gutes Gehirntraining\, schärft das analytische Denken – und wir knüpfen nebenbei neue soziale Kontakte …\nKursleitung: Helmuth Ölsinger\, Präsident des Österreichischen Bridgesportverbandes \nOrt: Kunstbahnhof Wörthersee West im charmanten Ambiente des ehemaligen Bahnhofsrestaurants in Velden am Wörthersee\, Bahnhofplatz 1 \nKurs – Wir spielen Bridge im Kunstbahnhof  \nAn ausgewählten Dienstagen von 9:30 bis 11:30 Uhr\, Zusatzeinheiten nach Vereinbarung\nKontakt: Beatrix Taurer-Geher office@kunstbahnhofwoerthersee.at oder 0664-1255952
URL:https://www.kunstbahnhofwoerthersee.at/event/kurs-wir-spielen-bridge-im-kunstbahnhof-63/
CATEGORIES:Öffentliche Veranstaltung
ATTACH;FMTTYPE=image/jpeg:https://www.kunstbahnhofwoerthersee.at/wp-content/uploads/20240523_130424-bridge-bahnsteig_banner.jpg
END:VEVENT
BEGIN:VEVENT
DTSTART;VALUE=DATE:20260618
DTEND;VALUE=DATE:20260620
DTSTAMP:20260421T092736
CREATED:20260121T074854Z
LAST-MODIFIED:20260121T075039Z
UID:7040-1781755200-1781841599@www.kunstbahnhofwoerthersee.at
SUMMARY:1. Kärntner Kindermalschule Velden
DESCRIPTION:Standort Velden am Wörthersee im Kunstbahnhof Wörthersee am Hausbahnsteig Ost.\nSchuljahrsbegleitend donnerstags von 16:30 bis 18 Uhr.  \nStandortleitung: Hildegard Griesser | Kontakt: Karin Kriegelstein-Sternfeld 0676-5124070 oder kaerntnerkindermalschule.at \nGerade im Medienzeitalter werden schon Kinder überflutet mit vorgegebenen Bildern\, ob nun in Büchern\, TV oder Computer/Spielkonsole. Beim Malen werden eigene Bilder zum Ausdruck gebracht. In der Malwerkstatt der\n1. Kärntner Kindermalschule Velden treffen sich schuljahrsbegleitend allwöchentlich zum festen Termin die Malschulkinder – Volksschulkinder zwischen 6 und 10/11  Jahren –  zum Malen. \nDie kleinen Gruppen in der Malwerkstatt malen 90 Minuten; jedes Kind malt in seinem eigenen Rhythmus und wählt Thema\, Farben und Formen selber aus. Die Kinder arbeiten stehend vor ihren großformatigen Blättern\, passend und verstellbar auf Malplatten und Staffeleien aufgespannt. Sie bedienen sich für ihre Farbtellerchen am Farbentisch mit 8 leuchtenden Farben\, einem einladenden Bündel verschieden breiter Pinsel und der Wasserschüssel zum Ausschwemmen\, was viel Sorgfalt\, Konzentration und Rücksichtnahme erfordert. Die großformatige Vorzeichnung mit den fragilen Zeichenkohlestäbchen und der gezielte Umgang mit den Pinseln entwickeln die feinmotorischen Fähigkeiten\, das Ausmischen der verschiedenen Farbtöne das Gefühl für die Farben. \nDie Malbegleiter/innen sind nicht Kunstlehrer/innen oder Therapeut/innen\, sondern verstehen ihre Arbeit als Dienstleistung: Papier wechseln\, Farben bereitstellen\, Flecken beseitigen\, und vor allem mit Anregung\, Ermutigung\, Aufmerksamkeit und Hilfe bei maltechnischen Schwierigkeiten für unsere Malkinder da sein. Frei von Leistungsdruck und Technikzwang geht es hier einzig und allein um das momentane Erlebnis. \nNicht das Bild als Endprodukt steht im Vordergrund\, sondern der Entstehungsprozess und die Freude am Malen.
URL:https://www.kunstbahnhofwoerthersee.at/event/1-kaerntner-kindermalschule-velden-91/
CATEGORIES:Kindermalschule
ATTACH;FMTTYPE=image/jpeg:https://www.kunstbahnhofwoerthersee.at/wp-content/uploads/KärntnerKindermalschule.jpg
END:VEVENT
BEGIN:VEVENT
DTSTART;VALUE=DATE:20260619
DTEND;VALUE=DATE:20260621
DTSTAMP:20260421T092736
CREATED:20260119T122147Z
LAST-MODIFIED:20260119T122147Z
UID:7007-1781841600-1781927999@www.kunstbahnhofwoerthersee.at
SUMMARY:Freies Spiel – Wir spielen Bridge im Kunstbahnhof
DESCRIPTION:Das Kartenspiel Bridge ist ein unglaublich gutes Gehirntraining\, schärft das analytische Denken – und wir knüpfen nebenbei neue soziale Kontakte … Kartenrunde aus den Kursen von Helmuth Ölsinger (Präsident des Österreichischen Bridgesportverbandes) und mit interessierten Bridge-Fans. \nFreies Spiel – Wir spielen Bridge im Kunstbahnhof \nFreitags von 15 bis 17  Uhr und an ausgewählten weiteren Wochentagen\nOrt: Kunstbahnhof Wörthersee West im charmanten Ambiente des ehemaligen Bahnhofsrestaurants in Velden am Wörthersee\, Bahnhofplatz 1\nKontakt: Beatrix Taurer-Geher office@kunstbahnhofwoerthersee.at oder 0664-1255952
URL:https://www.kunstbahnhofwoerthersee.at/event/freies-spiel-wir-spielen-bridge-im-kunstbahnhof-75/
CATEGORIES:Öffentliche Veranstaltung
ATTACH;FMTTYPE=image/jpeg:https://www.kunstbahnhofwoerthersee.at/wp-content/uploads/20250228_150604-bridte-club_b_cut_w.jpg
END:VEVENT
BEGIN:VEVENT
DTSTART;VALUE=DATE:20260619
DTEND;VALUE=DATE:20260621
DTSTAMP:20260421T092736
CREATED:20260326T080850Z
LAST-MODIFIED:20260326T080850Z
UID:7327-1781841600-1781927999@www.kunstbahnhofwoerthersee.at
SUMMARY:Kunstbahnhof belegt
DESCRIPTION:Der Kunstbahnhof Wörthersee ist an diesem Abend am Hausbahnsteig Ost und West für eine Veranstaltung reserviert … coming soon …
URL:https://www.kunstbahnhofwoerthersee.at/event/sommerfest/
CATEGORIES:Nicht öffentliche Veranstaltung
END:VEVENT
BEGIN:VEVENT
DTSTART;VALUE=DATE:20260623
DTEND;VALUE=DATE:20260625
DTSTAMP:20260421T092736
CREATED:20260119T094627Z
LAST-MODIFIED:20260119T094627Z
UID:6964-1782187200-1782273599@www.kunstbahnhofwoerthersee.at
SUMMARY:Kurs – Wir spielen Bridge im Kunstbahnhof
DESCRIPTION:Das Kartenspiel Bridge ist ein unglaublich gutes Gehirntraining\, schärft das analytische Denken – und wir knüpfen nebenbei neue soziale Kontakte …\nKursleitung: Helmuth Ölsinger\, Präsident des Österreichischen Bridgesportverbandes \nOrt: Kunstbahnhof Wörthersee West im charmanten Ambiente des ehemaligen Bahnhofsrestaurants in Velden am Wörthersee\, Bahnhofplatz 1 \nKurs – Wir spielen Bridge im Kunstbahnhof  \nAn ausgewählten Dienstagen von 9:30 bis 11:30 Uhr\, Zusatzeinheiten nach Vereinbarung\nKontakt: Beatrix Taurer-Geher office@kunstbahnhofwoerthersee.at oder 0664-1255952
URL:https://www.kunstbahnhofwoerthersee.at/event/kurs-wir-spielen-bridge-im-kunstbahnhof-64/
CATEGORIES:Öffentliche Veranstaltung
ATTACH;FMTTYPE=image/jpeg:https://www.kunstbahnhofwoerthersee.at/wp-content/uploads/20240523_130424-bridge-bahnsteig_banner.jpg
END:VEVENT
BEGIN:VEVENT
DTSTART;VALUE=DATE:20260626
DTEND;VALUE=DATE:20260628
DTSTAMP:20260421T092736
CREATED:20260119T122220Z
LAST-MODIFIED:20260119T122220Z
UID:7009-1782446400-1782532799@www.kunstbahnhofwoerthersee.at
SUMMARY:Freies Spiel – Wir spielen Bridge im Kunstbahnhof
DESCRIPTION:Das Kartenspiel Bridge ist ein unglaublich gutes Gehirntraining\, schärft das analytische Denken – und wir knüpfen nebenbei neue soziale Kontakte … Kartenrunde aus den Kursen von Helmuth Ölsinger (Präsident des Österreichischen Bridgesportverbandes) und mit interessierten Bridge-Fans. \nFreies Spiel – Wir spielen Bridge im Kunstbahnhof \nFreitags von 15 bis 17  Uhr und an ausgewählten weiteren Wochentagen\nOrt: Kunstbahnhof Wörthersee West im charmanten Ambiente des ehemaligen Bahnhofsrestaurants in Velden am Wörthersee\, Bahnhofplatz 1\nKontakt: Beatrix Taurer-Geher office@kunstbahnhofwoerthersee.at oder 0664-1255952
URL:https://www.kunstbahnhofwoerthersee.at/event/freies-spiel-wir-spielen-bridge-im-kunstbahnhof-76/
CATEGORIES:Öffentliche Veranstaltung
ATTACH;FMTTYPE=image/jpeg:https://www.kunstbahnhofwoerthersee.at/wp-content/uploads/20250228_150604-bridte-club_b_cut_w.jpg
END:VEVENT
BEGIN:VEVENT
DTSTART;TZID=Europe/Paris:20260627T080000
DTEND;TZID=Europe/Paris:20260627T120000
DTSTAMP:20260421T092736
CREATED:20260203T144357Z
LAST-MODIFIED:20260203T144357Z
UID:7090-1782547200-1782561600@www.kunstbahnhofwoerthersee.at
SUMMARY:Repair Café in Velden
DESCRIPTION:Das beliebte Repair Café in Velden am Wörthersee ist wieder am Samstag\, 27. Juni 2026 von 8 bis 12:00 Uhr geöffnet: „Du kommst mit deinem kaputten Gerät vorbei _ Entweder du kannst es selbst mit unserem Werkzeug vor Ort reparieren _ Oder wir geben dir Anleitung und helfen gerne _ Das Ganze in angenehmer Atmosphäre mit Café- und Workshopcharakter bei freiwilliger Spende!“\nLetzte Reparaturannahme um 11 Uhr! \nDu hättest gerne mehr Information über das Repair Café? Schau auf die internationale Webseite Repaircafe.org oder stelle deine Fragen an Klaus Zerche unter zerche@a1.net oder Tel 0664-3868666. Anmelden als ehrenamtliche/r Helfer/in? Sende bitte eine E-Mail an zerche@a1.net.\nBis dann im Repair Café!
URL:https://www.kunstbahnhofwoerthersee.at/event/repair-cafe-in-velden-4/
LOCATION:Kunstbahnhof Wörthersee WEST\, Bahnhofplatz | ÖBB-Hausbahnsteig WEST\, Velden am Wörthersee\, 9220\, Österreich
CATEGORIES:Öffentliche Veranstaltung
ATTACH;FMTTYPE=image/jpeg:https://www.kunstbahnhofwoerthersee.at/wp-content/uploads/Logo-Repair-Cafe-Velden-banner-neu-e1737969070219.jpg
END:VEVENT
BEGIN:VEVENT
DTSTART;VALUE=DATE:20260630
DTEND;VALUE=DATE:20260702
DTSTAMP:20260421T092736
CREATED:20260119T094658Z
LAST-MODIFIED:20260119T094658Z
UID:6966-1782792000-1782878399@www.kunstbahnhofwoerthersee.at
SUMMARY:Kurs – Wir spielen Bridge im Kunstbahnhof
DESCRIPTION:Das Kartenspiel Bridge ist ein unglaublich gutes Gehirntraining\, schärft das analytische Denken – und wir knüpfen nebenbei neue soziale Kontakte …\nKursleitung: Helmuth Ölsinger\, Präsident des Österreichischen Bridgesportverbandes \nOrt: Kunstbahnhof Wörthersee West im charmanten Ambiente des ehemaligen Bahnhofsrestaurants in Velden am Wörthersee\, Bahnhofplatz 1 \nKurs – Wir spielen Bridge im Kunstbahnhof  \nAn ausgewählten Dienstagen von 9:30 bis 11:30 Uhr\, Zusatzeinheiten nach Vereinbarung\nKontakt: Beatrix Taurer-Geher office@kunstbahnhofwoerthersee.at oder 0664-1255952
URL:https://www.kunstbahnhofwoerthersee.at/event/kurs-wir-spielen-bridge-im-kunstbahnhof-65/
CATEGORIES:Öffentliche Veranstaltung
ATTACH;FMTTYPE=image/jpeg:https://www.kunstbahnhofwoerthersee.at/wp-content/uploads/20240523_130424-bridge-bahnsteig_banner.jpg
END:VEVENT
END:VCALENDAR