BEGIN:VCALENDAR
VERSION:2.0
PRODID:-//Kunstbahnhof Wörthersee - ECPv6.2.2//NONSGML v1.0//EN
CALSCALE:GREGORIAN
METHOD:PUBLISH
X-WR-CALNAME:Kunstbahnhof Wörthersee
X-ORIGINAL-URL:https://www.kunstbahnhofwoerthersee.at
X-WR-CALDESC:Veranstaltungen für Kunstbahnhof Wörthersee
REFRESH-INTERVAL;VALUE=DURATION:PT1H
X-Robots-Tag:noindex
X-PUBLISHED-TTL:PT1H
BEGIN:VTIMEZONE
TZID:Europe/Paris
BEGIN:DAYLIGHT
TZOFFSETFROM:+0100
TZOFFSETTO:+0200
TZNAME:CEST
DTSTART:20260329T010000
END:DAYLIGHT
BEGIN:STANDARD
TZOFFSETFROM:+0200
TZOFFSETTO:+0100
TZNAME:CET
DTSTART:20261025T010000
END:STANDARD
END:VTIMEZONE
BEGIN:VEVENT
DTSTART;VALUE=DATE:20260202
DTEND;VALUE=DATE:20260204
DTSTAMP:20260419T231241
CREATED:20260107T125736Z
LAST-MODIFIED:20260107T125736Z
UID:6901-1770004800-1770091199@www.kunstbahnhofwoerthersee.at
SUMMARY:Malworkshops für Jugendliche mit Puppi
DESCRIPTION:Jugendliche ab 11 Jahren mit Mut zum Experimentieren und offenen Gestalten sind beim Workshop von Karin Kriegelstein-Sternfeld im Kunstbahnhof Wörthersee herzlich willkommen! Hier lernen die jungen Kreativen verschiedene Acrylmaltechniken und das Arbeiten mit diversen Materialien auf Leinwand kennen. \nInteressiert? Nähere Infos und Anmeldung: +43(0)676-5124070.\nDie Gruppengröße ist begrenzt. Karin/Puppi freut sich auf euch! \nNächster Termin: Montag\, 2. Februar 2026 von 16 bis 18 Uhr\nOrt: Kunstbahnhof Wörthersee\, Hausbahnsteig Ost\, Bahnhofplatz 1\, Velden am Wörthersee
URL:https://www.kunstbahnhofwoerthersee.at/event/malworkshops-fuer-jugendliche-mit-puppi-5/
CATEGORIES:Öffentliche Veranstaltung
ATTACH;FMTTYPE=image/jpeg:https://www.kunstbahnhofwoerthersee.at/wp-content/uploads/malrunde-karin-kriegelstein-sternfeld.jpg
END:VEVENT
BEGIN:VEVENT
DTSTART;VALUE=DATE:20260203
DTEND;VALUE=DATE:20260205
DTSTAMP:20260419T231241
CREATED:20260106T172725Z
LAST-MODIFIED:20260202T082025Z
UID:6865-1770091200-1770177599@www.kunstbahnhofwoerthersee.at
SUMMARY:Workshop Pastell-Vergnügen (verschoben)
DESCRIPTION:Gerda Madl-Kren lädt ein:\n„Farbintensive reine Pigmente und den Zauber der feinen pulvrigen Malerei erleben! Wie immer stehen meine gesamten Schätze an Material zur Verfügung: die feinsten Kreiden\, Estompes und Fixative\, die verschiedenen Papiere\, Grundierungsmedien und gerne auch meine Erfahrung. Mit Pastell können viele verschiedene graphisch/malerische Ausdrucksformen verwirklicht werden – sowohl naturalistische als auch völlig gegenstandslose persönliche Bildideen. Auch Mischtechniken faszinieren\, zum Beispiel Pastell auf Aquarell oder Zeichnung.“\nEin Angebot für bereits pastellkundige Interessierte – neu Einsteigende gerne auf Anfrage. \nPastell-Vergnügen mit Gerda\nDienstag\, 3. Februar 2026 um 18:00 Uhr\nTerminverschiebung – neuer Termin folgt\nKunstbahnhof Wörthersee am Veldner Hausbahnsteig Ost\nTeilnehmer/innen: mindestens 4\, maximal 8 Personen\, 4 Stunden all inclusive 48 €\nbitte um Anmeldung NUR über office@kunstbahnhofwoerthersee.at
URL:https://www.kunstbahnhofwoerthersee.at/event/endlich-wieder-pastell-vergnuegen-2/
LOCATION:Kunstbahnhof Wörthersee OST\, Bahnhofplatz | ÖBB-Hausbahnsteig OST\, Velden am Wörthersee\, 9220\, Österreich
CATEGORIES:Öffentliche Veranstaltung
ATTACH;FMTTYPE=image/jpeg:https://www.kunstbahnhofwoerthersee.at/wp-content/uploads/Steve-Johnson_b.jpg
END:VEVENT
BEGIN:VEVENT
DTSTART;VALUE=DATE:20260216
DTEND;VALUE=DATE:20260218
DTSTAMP:20260419T231241
CREATED:20260107T125832Z
LAST-MODIFIED:20260107T125832Z
UID:6903-1771214400-1771300799@www.kunstbahnhofwoerthersee.at
SUMMARY:Malworkshops für Jugendliche mit Puppi
DESCRIPTION:Jugendliche ab 11 Jahren mit Mut zum Experimentieren und offenen Gestalten sind beim Workshop von Karin Kriegelstein-Sternfeld im Kunstbahnhof Wörthersee herzlich willkommen! Hier lernen die jungen Kreativen verschiedene Acrylmaltechniken und das Arbeiten mit diversen Materialien auf Leinwand kennen. \nInteressiert? Nähere Infos und Anmeldung: +43(0)676-5124070.\nDie Gruppengröße ist begrenzt. Karin/Puppi freut sich auf euch! \nNächster Termin: Montag\, 16. Februar 2026 von 16 bis 18 Uhr\nOrt: Kunstbahnhof Wörthersee\, Hausbahnsteig Ost\, Bahnhofplatz 1\, Velden am Wörthersee
URL:https://www.kunstbahnhofwoerthersee.at/event/malworkshops-fuer-jugendliche-mit-puppi-6/
CATEGORIES:Öffentliche Veranstaltung
ATTACH;FMTTYPE=image/jpeg:https://www.kunstbahnhofwoerthersee.at/wp-content/uploads/malrunde-karin-kriegelstein-sternfeld.jpg
END:VEVENT
BEGIN:VEVENT
DTSTART;TZID=Europe/Paris:20260222T100000
DTEND;TZID=Europe/Paris:20260222T140000
DTSTAMP:20260419T231241
CREATED:20260205T091659Z
LAST-MODIFIED:20260208T182214Z
UID:7125-1771754400-1771768800@www.kunstbahnhofwoerthersee.at
SUMMARY:Male deinen Neurobaum | WS mit Jutta Berger
DESCRIPTION:Du liebst Farben – du liebst zeichnen – du liebst Selbsterfahrung? Male deinen Neurobaum! \nWorkshop mit Jutta Berger am Sonntag\, 22. Februar 2026 von 10 bis 14 Uhr\nAusstieg aus dem Gedankenkarussell – Verwirklichung von Ideen\, Projekten\, Zielen – Themen\, die wachsen oder sich vermehren sollen – Gedankenklären\, „a kind of brainyoga“ – neue Perspektiven\, neue Möglichkeiten erkennen – Ressourcen in sich selbst finden – mit Freude und Leichtigkeit – keine Zeichenkünste nötig. \nWorkshopleitung: Jutta Berger\, Kreativtrainerin\nAnmeldungen unter 0650-44 299 94\nOrt: Kunstbahnhof Wörthersee\, Bahnhofplatz 1\, Hausbahnsteig Ost\, 9220 Velden am Wörthersee
URL:https://www.kunstbahnhofwoerthersee.at/event/male-deinen-neurobaum-workshop-jutta-berger/
LOCATION:Kunstbahnhof Wörthersee OST\, Bahnhofplatz | ÖBB-Hausbahnsteig OST\, Velden am Wörthersee\, 9220\, Österreich
CATEGORIES:Öffentliche Veranstaltung
ATTACH;FMTTYPE=image/jpeg:https://www.kunstbahnhofwoerthersee.at/wp-content/uploads/neurobaum-jutta-berger-web.jpg
END:VEVENT
BEGIN:VEVENT
DTSTART;TZID=Europe/Paris:20260228T080000
DTEND;TZID=Europe/Paris:20260228T120000
DTSTAMP:20260419T231241
CREATED:20260203T122933Z
LAST-MODIFIED:20260203T123041Z
UID:7078-1772265600-1772280000@www.kunstbahnhofwoerthersee.at
SUMMARY:Repair Café in Velden
DESCRIPTION:Das beliebte Repair Café in Velden am Wörthersee ist wieder am Samstag\, 28. Februar 2026 von 8 bis 12:00 Uhr geöffnet: „Du kommst mit deinem kaputten Gerät vorbei _ Entweder du kannst es selbst mit unserem Werkzeug vor Ort reparieren _ Oder wir geben dir Anleitung und helfen gerne _ Das Ganze in angenehmer Atmosphäre mit Café- und Workshopcharakter bei freiwilliger Spende!“\nLetzte Reparaturannahme um 11 Uhr! \nDu hättest gerne mehr Information über das Repair Café? Schau auf die internationale Webseite Repaircafe.org oder stelle deine Fragen an Klaus Zerche unter zerche@a1.net oder Tel 0664-3868666. Anmelden als ehrenamtliche/r Helfer/in? Sende bitte eine E-Mail an zerche@a1.net.\nBis dann im Repair Café!
URL:https://www.kunstbahnhofwoerthersee.at/event/repair-cafe-in-velden/
LOCATION:Kunstbahnhof Wörthersee WEST\, Bahnhofplatz | ÖBB-Hausbahnsteig WEST\, Velden am Wörthersee\, 9220\, Österreich
CATEGORIES:Öffentliche Veranstaltung
ATTACH;FMTTYPE=image/jpeg:https://www.kunstbahnhofwoerthersee.at/wp-content/uploads/Logo-Repair-Cafe-Velden-banner-neu-e1737969070219.jpg
END:VEVENT
BEGIN:VEVENT
DTSTART;TZID=Europe/Paris:20260228T100000
DTEND;TZID=Europe/Paris:20260228T140000
DTSTAMP:20260419T231241
CREATED:20260213T115336Z
LAST-MODIFIED:20260213T122006Z
UID:7255-1772272800-1772287200@www.kunstbahnhofwoerthersee.at
SUMMARY:Male deinen Neurobaum | WS mit Jutta Berger
DESCRIPTION:Du liebst Farben – du liebst zeichnen – du liebst Selbsterfahrung? Male deinen Neurobaum! \nWorkshop mit Jutta Berger am Samstag\, 28. Februar 2026 von 10 bis 14 Uhr\nAusstieg aus dem Gedankenkarussell – Verwirklichung von Ideen\, Projekten\, Zielen – Themen\, die wachsen oder sich vermehren sollen – Gedankenklären\, „a kind of brainyoga“ – neue Perspektiven\, neue Möglichkeiten erkennen – Ressourcen in sich selbst finden – mit Freude und Leichtigkeit – keine Zeichenkünste nötig. \nWorkshopleitung: Jutta Berger\, Kreativtrainerin\nAnmeldungen unter 0650-44 299 94\nOrt: Kunstbahnhof Wörthersee\, Bahnhofplatz 1\, Hausbahnsteig Ost\, 9220 Velden am Wörthersee
URL:https://www.kunstbahnhofwoerthersee.at/event/male-deinen-neurobaum-workshop-jutta-berger-2/
LOCATION:Kunstbahnhof Wörthersee OST\, Bahnhofplatz | ÖBB-Hausbahnsteig OST\, Velden am Wörthersee\, 9220\, Österreich
CATEGORIES:Öffentliche Veranstaltung
ATTACH;FMTTYPE=image/jpeg:https://www.kunstbahnhofwoerthersee.at/wp-content/uploads/neurobaum-jutta-berger-web.jpg
END:VEVENT
END:VCALENDAR