BEGIN:VCALENDAR
VERSION:2.0
PRODID:-//Kunstbahnhof Wörthersee - ECPv6.2.2//NONSGML v1.0//EN
CALSCALE:GREGORIAN
METHOD:PUBLISH
X-ORIGINAL-URL:https://www.kunstbahnhofwoerthersee.at
X-WR-CALDESC:Veranstaltungen für Kunstbahnhof Wörthersee
REFRESH-INTERVAL;VALUE=DURATION:PT1H
X-Robots-Tag:noindex
X-PUBLISHED-TTL:PT1H
BEGIN:VTIMEZONE
TZID:Europe/Paris
BEGIN:DAYLIGHT
TZOFFSETFROM:+0100
TZOFFSETTO:+0200
TZNAME:CEST
DTSTART:20260329T010000
END:DAYLIGHT
BEGIN:STANDARD
TZOFFSETFROM:+0200
TZOFFSETTO:+0100
TZNAME:CET
DTSTART:20261025T010000
END:STANDARD
END:VTIMEZONE
BEGIN:VEVENT
DTSTART;TZID=Europe/Paris:20260126T190000
DTEND;TZID=Europe/Paris:20260126T190000
DTSTAMP:20260420T015522
CREATED:20260106T125954Z
LAST-MODIFIED:20260106T182138Z
UID:6859-1769454000-1769454000@www.kunstbahnhofwoerthersee.at
SUMMARY:Bildvortrag: Der Glanz des Ewigen – Gold in der Weltkunstgeschichte
DESCRIPTION:Gold fasziniert seit Jahrtausenden durch seinen unvergänglichen Glanz und seine außergewöhnliche symbolische Kraft. Als Zeichen von Macht\, Reichtum und Göttlichkeit prägte es Kulturen über Zeit und Raum hinweg und wurde besonders in der antiken Kunst zum Sinnbild des Ewigen. In der orientalischen Sakralarchitektur und der buddhistischen Kunst steht Gold als Sinnbild für Reinheit\, Erleuchtung und göttliche Präsenz; von den Hochkulturen der Antike über die strahlenden Mosaike des byzantinischen Reiches\, die illuminierten Handschriften des Mittelalters und die prunkvolle Bildsprache des Barock bis zu Gustav Klimts berühmten Goldgemälden entfaltet sich seine Geschichte als ein Spiegel von Macht\, Glauben und Schönheit – und ungebrochen bis in die Gegenwart in den Werken von Künstlern wie Anish Kapoor oder Damien Hirst. In Gold wird Licht zu Materie. \nDer Bildvortrag von Gerda Madl-Kren verfolgt die Spur dieses einzigartigen Materials und seiner unvergleichlichen Farbe durch die Jahrhunderte der Weltkunstgeschichte.\nWann: Montag\, 26. Januar 2026 um 19:00 Uhr\nWo: Kunstbahnhof Wörthersee am Veldner Hausbahnsteig Ost\nClubbeitrag 15 Euro\, ein Angebot des Clubs für Bild und Bildung.\nBegrenzte Platzzahl – daher bitte um Anmeldung NUR über office@kunstbahnhofwoerthersee.at
URL:https://www.kunstbahnhofwoerthersee.at/event/weltkunst-gold/
LOCATION:Kunstbahnhof Wörthersee OST\, Bahnhofplatz | ÖBB-Hausbahnsteig OST\, Velden am Wörthersee\, 9220\, Österreich
CATEGORIES:Öffentliche Veranstaltung
ATTACH;FMTTYPE=image/jpeg:https://www.kunstbahnhofwoerthersee.at/wp-content/uploads/Der-Glanz-des-Ewigen-detail.jpg
END:VEVENT
END:VCALENDAR