BEGIN:VCALENDAR
VERSION:2.0
PRODID:-//Kunstbahnhof Wörthersee - ECPv6.2.2//NONSGML v1.0//EN
CALSCALE:GREGORIAN
METHOD:PUBLISH
X-WR-CALNAME:Kunstbahnhof Wörthersee
X-ORIGINAL-URL:https://www.kunstbahnhofwoerthersee.at
X-WR-CALDESC:Veranstaltungen für Kunstbahnhof Wörthersee
REFRESH-INTERVAL;VALUE=DURATION:PT1H
X-Robots-Tag:noindex
X-PUBLISHED-TTL:PT1H
BEGIN:VTIMEZONE
TZID:Europe/Paris
BEGIN:DAYLIGHT
TZOFFSETFROM:+0100
TZOFFSETTO:+0200
TZNAME:CEST
DTSTART:20260329T010000
END:DAYLIGHT
BEGIN:STANDARD
TZOFFSETFROM:+0200
TZOFFSETTO:+0100
TZNAME:CET
DTSTART:20261025T010000
END:STANDARD
END:VTIMEZONE
BEGIN:VEVENT
DTSTART;VALUE=DATE:20260107
DTEND;VALUE=DATE:20260109
DTSTAMP:20260423T112721
CREATED:20251130T160931Z
LAST-MODIFIED:20251130T161502Z
UID:6814-1767758400-1767844799@www.kunstbahnhofwoerthersee.at
SUMMARY:Offene Aquarellrunde mit Margit Steinwender
DESCRIPTION:Mit- und voneinander lernen und gemeinsam kreativ sein. Jede und jeder mit etwas Grundkenntnis in der Aquarellmalerei ist herzlich willkommen in der offenen Malrunde mit Margit Steinwender.\nKein Kurs\, keine langfristige Verpflichtung\, Kostenbeitrag € 5\,- pro Nachmittag\, Beginn jeweils um 14 Uhr. \n„Offene Aquarellrunde“ am Mittwoch\, 07.01.2026 um 14 Uhr\nAnmeldung + Kontakt: margit.steinwender@gmail.com \n(Abbildung Aquarell von E. Wagner)
URL:https://www.kunstbahnhofwoerthersee.at/event/offene-aquarellrunde-mit-margit-steinwender-2/
LOCATION:Kunstbahnhof Wörthersee WEST\, Bahnhofplatz | ÖBB-Hausbahnsteig WEST\, Velden am Wörthersee\, 9220\, Österreich
CATEGORIES:Öffentliche Veranstaltung
ATTACH;FMTTYPE=image/jpeg:https://www.kunstbahnhofwoerthersee.at/wp-content/uploads/Aquarell-Abbildung-E-Wagner-web.jpg
END:VEVENT
BEGIN:VEVENT
DTSTART;VALUE=DATE:20260107
DTEND;VALUE=DATE:20260109
DTSTAMP:20260423T112721
CREATED:20251130T162300Z
LAST-MODIFIED:20251130T162300Z
UID:6819-1767758400-1767844799@www.kunstbahnhofwoerthersee.at
SUMMARY:Malgruppe „Farbiger Herbst“ | Kunst kennt kein Alter!
DESCRIPTION:Farbiger Herbst – eine ambitionierte Malrunde in der dritten Lebensphase trifft sich jeden zweiten Mittwochvormittag zum Malen.\nDozentin: Sonja Capeller mit Assistentin Margit Steinwender. Info und Anmeldung: margit.steinwender@gmail.com \nMittwoch\, 07.01.2026 um 10 Uhr am Veldner Hausbahnsteig West. \n\n„Malen im Farbigen Herbst verstehen wir so: Menschen\, die immer schon mal malen wollten und jetzt endlich dafür Zeit hätten. Oder Menschen\, die erwachsen und selbstbewusst genug sind\, sich auf das Thema Malerei wieder oder zum ersten Mal einzulassen\, und die freudige Ausdrucksweise und ungezügelte Phantasie des Kindes\, die sie wieder hervor kitzeln wollen. Oder malbegeisterte Menschen\, die andere malbegeisterte Menschen treffen möchten. Oder Menschen\, die ihre Fähigkeiten und Fertigkeiten wieder auffrischen wollen. Oder … Vielleicht haben Sie einen ganz anderen Grund\, den Pinsel\, den Stift\, die Spachtel oder die Graviernadel wieder in die Hand zu nehmen und ihre Enkelkinder mit den Ergebnissen zum Staunen zu bringen. Welchen Grund Sie haben\, ist egal\, es gibt unzählige Gründe\, bei uns vorbeizukommen und mit uns gemeinsam zu malen. Ein geschultes Team steht Ihnen mit Rat\, Tat und Pinsel zur Seite.“
URL:https://www.kunstbahnhofwoerthersee.at/event/malgruppe-farbiger-herbst-kunst-kennt-kein-alter-19/
LOCATION:Kunstbahnhof Wörthersee WEST\, Bahnhofplatz | ÖBB-Hausbahnsteig WEST\, Velden am Wörthersee\, 9220\, Österreich
CATEGORIES:Öffentliche Veranstaltung
ATTACH;FMTTYPE=image/jpeg:https://www.kunstbahnhofwoerthersee.at/wp-content/uploads/Offene-Malwerkstatt_MadlKren_b.jpg
END:VEVENT
BEGIN:VEVENT
DTSTART;VALUE=DATE:20260108
DTEND;VALUE=DATE:20260110
DTSTAMP:20260423T112721
CREATED:20260107T111854Z
LAST-MODIFIED:20260107T111854Z
UID:6886-1767844800-1767931199@www.kunstbahnhofwoerthersee.at
SUMMARY:1. Kärntner Kindermalschule Velden
DESCRIPTION:Standort Velden am Wörthersee im Kunstbahnhof Wörthersee am Hausbahnsteig Ost.\nSchuljahrsbegleitend donnerstags von 16:30 bis 18 Uhr.  \nStandortleitung: Hildegard Griesser | Kontakt: Karin Kriegelstein-Sternfeld 0676-5124070 oder kaerntnerkindermalschule.at \nGerade im Medienzeitalter werden schon Kinder überflutet mit vorgegebenen Bildern\, ob nun in Büchern\, TV oder Computer/Spielkonsole. Beim Malen werden eigene Bilder zum Ausdruck gebracht. In der Malwerkstatt der 1. Kärntner Kindermalschule Velden treffen sich schuljahrsbegleitend allwöchentlich zum festen Termin die Malschulkinder – Volksschulkinder zwischen 6 und 10/11  Jahren –  zum Malen. \nDie kleinen Gruppen in der Malwerkstatt malen 90 Minuten; jedes Kind malt in seinem eigenen Rhythmus und wählt Thema\, Farben und Formen selber aus. Die Kinder arbeiten stehend vor ihren großformatigen Blättern\, passend und verstellbar auf Malplatten und Staffeleien aufgespannt. Sie bedienen sich für ihre Farbtellerchen am Farbentisch mit 8 leuchtenden Farben\, einem einladenden Bündel verschieden breiter Pinsel und der Wasserschüssel zum Ausschwemmen\, was viel Sorgfalt\, Konzentration und Rücksichtnahme erfordert. Die großformatige Vorzeichnung mit den fragilen Zeichenkohlestäbchen und der gezielte Umgang mit den Pinseln entwickeln die feinmotorischen Fähigkeiten\, das Ausmischen der verschiedenen Farbtöne das Gefühl für die Farben. \nDie Malbegleiter/innen sind nicht Kunstlehrer/innen oder Therapeut/innen\, sondern verstehen ihre Arbeit als Dienstleistung: Papier wechseln\, Farben bereitstellen\, Flecken beseitigen\, und vor allem mit Anregung\, Ermutigung\, Aufmerksamkeit und Hilfe bei maltechnischen Schwierigkeiten für unsere Malkinder da sein. Frei von Leistungsdruck und Technikzwang geht es hier einzig und allein um das momentane Erlebnis. \nNicht das Bild als Endprodukt steht im Vordergrund\, sondern der Entstehungsprozess und die Freude am Malen.
URL:https://www.kunstbahnhofwoerthersee.at/event/1-kaerntner-kindermalschule-velden-75/
CATEGORIES:Kindermalschule
ATTACH;FMTTYPE=image/jpeg:https://www.kunstbahnhofwoerthersee.at/wp-content/uploads/KärntnerKindermalschule.jpg
END:VEVENT
BEGIN:VEVENT
DTSTART;VALUE=DATE:20260109
DTEND;VALUE=DATE:20260111
DTSTAMP:20260423T112721
CREATED:20260107T110434Z
LAST-MODIFIED:20260107T111134Z
UID:6874-1767931200-1768017599@www.kunstbahnhofwoerthersee.at
SUMMARY:Freies Spiel – Wir spielen Bridge im Kunstbahnhof
DESCRIPTION:Das Kartenspiel Bridge ist ein unglaublich gutes Gehirntraining\, schärft das analytische Denken – und wir knüpfen nebenbei neue soziale Kontakte …\nKartenrunde aus den Kursen von Helmuth Ölsinger (Präsident des Österreichischen Bridgesportverbandes) und mit interessierten Bridge-Fans. \nFreies Spiel – Wir spielen Bridge im Kunstbahnhof \nFreitags von 15 bis 17  Uhr und an ausgewählten weiteren Wochentagen\nOrt: Kunstbahnhof Wörthersee West im charmanten Ambiente des ehemaligen Bahnhofsrestaurants in Velden am Wörthersee\nKontakt: Beatrix Taurer-Geher office@kunstbahnhofwoerthersee.at oder 0664-1255952
URL:https://www.kunstbahnhofwoerthersee.at/event/freies-spiel-wir-spielen-bridge-im-kunstbahnhof-52/
CATEGORIES:Öffentliche Veranstaltung
ATTACH;FMTTYPE=image/jpeg:https://www.kunstbahnhofwoerthersee.at/wp-content/uploads/20250228_150604-bridte-club_b_cut_w.jpg
END:VEVENT
BEGIN:VEVENT
DTSTART;VALUE=DATE:20260113
DTEND;VALUE=DATE:20260115
DTSTAMP:20260423T112721
CREATED:20260107T110229Z
LAST-MODIFIED:20260107T110229Z
UID:6872-1768276800-1768363199@www.kunstbahnhofwoerthersee.at
SUMMARY:Kurs – Wir spielen Bridge im Kunstbahnhof
DESCRIPTION:Das Kartenspiel Bridge ist ein unglaublich gutes Gehirntraining\, schärft das analytische Denken – und wir knüpfen nebenbei neue soziale Kontakte …\nKursleitung: Helmuth Ölsinger\, Präsident des Österreichischen Bridgesportverbandes \nOrt: Kunstbahnhof Wörthersee West im charmanten Ambiente des ehemaligen Bahnhofsrestaurants in Velden am Wörthersee\, Bahnhofplatz 1 \nKurs – Wir spielen Bridge im Kunstbahnhof  \nAn ausgewählten Dienstagen von 9:30 bis 11:30 Uhr\, Zusatzeinheiten nach Vereinbarung\nKontakt: Beatrix Taurer-Geher office@kunstbahnhofwoerthersee.at oder 0664-1255952 \n\n 
URL:https://www.kunstbahnhofwoerthersee.at/event/kurs-wir-spielen-bridge-im-kunstbahnhof-41/
CATEGORIES:Öffentliche Veranstaltung
ATTACH;FMTTYPE=image/jpeg:https://www.kunstbahnhofwoerthersee.at/wp-content/uploads/20240523_130424-bridge-bahnsteig_banner.jpg
END:VEVENT
BEGIN:VEVENT
DTSTART;VALUE=DATE:20260114
DTEND;VALUE=DATE:20260116
DTSTAMP:20260423T112721
CREATED:20260106T131307Z
LAST-MODIFIED:20260106T131544Z
UID:6862-1768363200-1768449599@www.kunstbahnhofwoerthersee.at
SUMMARY:Death Cafe – Gespräche über das Leben und sein Ende
DESCRIPTION:Unter dem Motto „Es lebe der Tod!“ laden Gerda und Roswitha wieder zur Gesprächsrunde nach dem Vorbild des internationalen Projekts „Death Cafe“ ein. Seit 15 Jahren kommen in über 80 Ländern Menschen unterschiedlichster Herkunft zusammen\, um bei Kaffee und Kuchen mit Fremden und gern auch anonym über Tod und Sterben zu sprechen – frei von religiösen\, medizinischen oder juristischen Vorgaben. Über den Tod zu reden fällt oft schwer. Doch genau das kann helfen: dem Abschied einen Platz im Leben zu geben und die Angst kleiner werden zu lassen. Bewusstsein für den Tod schaffen gibt Freiheit für das Leben.\nInzwischen gibt es das Death Cafe auch in Velden am Wörthersee: Roswitha und Gerda freuen sich auf ein Wiedersehen mit früheren Gästen und auf neue Begegnungen.\nRoswitha Sandner MA\, Psychotherapeutin und Gerda Madl-Kren Dr. phil.\, Kunsthistorikerin \nMittwoch\, 14. Januar 2026 von 17:30 bis 19:00 Uhr im Kunstbahnhof Wörthersee am Veldner Hausbahnsteig West.\nWertschätzungsbeitrag 5 Euro – auf 12 Personen beschränkte Platzzahl – daher bitte Anmeldung!\nroswitha.sandner@aon.at oder Tel. 0650 900 3547 \n(Foto/Ausschnitt: Leise Sohlen)
URL:https://www.kunstbahnhofwoerthersee.at/event/death-cafe-2026/
LOCATION:Kunstbahnhof Wörthersee WEST\, Bahnhofplatz | ÖBB-Hausbahnsteig WEST\, Velden am Wörthersee\, 9220\, Österreich
CATEGORIES:Öffentliche Veranstaltung
ATTACH;FMTTYPE=image/jpeg:https://www.kunstbahnhofwoerthersee.at/wp-content/uploads/es-lebe-der-tod-bild-leise-sohlen-3-banner.jpeg
END:VEVENT
BEGIN:VEVENT
DTSTART;VALUE=DATE:20260115
DTEND;VALUE=DATE:20260117
DTSTAMP:20260423T112721
CREATED:20260107T111958Z
LAST-MODIFIED:20260107T111958Z
UID:6888-1768449600-1768535999@www.kunstbahnhofwoerthersee.at
SUMMARY:1. Kärntner Kindermalschule Velden
DESCRIPTION:Standort Velden am Wörthersee im Kunstbahnhof Wörthersee am Hausbahnsteig Ost.\nSchuljahrsbegleitend donnerstags von 16:30 bis 18 Uhr.  \nStandortleitung: Hildegard Griesser | Kontakt: Karin Kriegelstein-Sternfeld 0676-5124070 oder kaerntnerkindermalschule.at \nGerade im Medienzeitalter werden schon Kinder überflutet mit vorgegebenen Bildern\, ob nun in Büchern\, TV oder Computer/Spielkonsole. Beim Malen werden eigene Bilder zum Ausdruck gebracht. In der Malwerkstatt der 1. Kärntner Kindermalschule Velden treffen sich schuljahrsbegleitend allwöchentlich zum festen Termin die Malschulkinder – Volksschulkinder zwischen 6 und 10/11  Jahren –  zum Malen. \nDie kleinen Gruppen in der Malwerkstatt malen 90 Minuten; jedes Kind malt in seinem eigenen Rhythmus und wählt Thema\, Farben und Formen selber aus. Die Kinder arbeiten stehend vor ihren großformatigen Blättern\, passend und verstellbar auf Malplatten und Staffeleien aufgespannt. Sie bedienen sich für ihre Farbtellerchen am Farbentisch mit 8 leuchtenden Farben\, einem einladenden Bündel verschieden breiter Pinsel und der Wasserschüssel zum Ausschwemmen\, was viel Sorgfalt\, Konzentration und Rücksichtnahme erfordert. Die großformatige Vorzeichnung mit den fragilen Zeichenkohlestäbchen und der gezielte Umgang mit den Pinseln entwickeln die feinmotorischen Fähigkeiten\, das Ausmischen der verschiedenen Farbtöne das Gefühl für die Farben. \nDie Malbegleiter/innen sind nicht Kunstlehrer/innen oder Therapeut/innen\, sondern verstehen ihre Arbeit als Dienstleistung: Papier wechseln\, Farben bereitstellen\, Flecken beseitigen\, und vor allem mit Anregung\, Ermutigung\, Aufmerksamkeit und Hilfe bei maltechnischen Schwierigkeiten für unsere Malkinder da sein. Frei von Leistungsdruck und Technikzwang geht es hier einzig und allein um das momentane Erlebnis. \nNicht das Bild als Endprodukt steht im Vordergrund\, sondern der Entstehungsprozess und die Freude am Malen.
URL:https://www.kunstbahnhofwoerthersee.at/event/1-kaerntner-kindermalschule-velden-76/
CATEGORIES:Kindermalschule
ATTACH;FMTTYPE=image/jpeg:https://www.kunstbahnhofwoerthersee.at/wp-content/uploads/KärntnerKindermalschule.jpg
END:VEVENT
BEGIN:VEVENT
DTSTART;VALUE=DATE:20260116
DTEND;VALUE=DATE:20260118
DTSTAMP:20260423T112721
CREATED:20260107T110925Z
LAST-MODIFIED:20260107T110925Z
UID:6876-1768536000-1768622399@www.kunstbahnhofwoerthersee.at
SUMMARY:Freies Spiel – Wir spielen Bridge im Kunstbahnhof
DESCRIPTION:Das Kartenspiel Bridge ist ein unglaublich gutes Gehirntraining\, schärft das analytische Denken – und wir knüpfen nebenbei neue soziale Kontakte … Kartenrunde aus den Kursen von Helmuth Ölsinger (Präsident des Österreichischen Bridgesportverbandes) und mit interessierten Bridge-Fans. \nFreies Spiel – Wir spielen Bridge im Kunstbahnhof \nFreitags von 15 bis 17  Uhr und an ausgewählten weiteren Wochentagen\nOrt: Kunstbahnhof Wörthersee West im charmanten Ambiente des ehemaligen Bahnhofsrestaurants in Velden am Wörthersee\, Bahnhofplatz 1\nKontakt: Beatrix Taurer-Geher office@kunstbahnhofwoerthersee.at oder 0664-1255952
URL:https://www.kunstbahnhofwoerthersee.at/event/freies-spiel-wir-spielen-bridge-im-kunstbahnhof-53/
CATEGORIES:Öffentliche Veranstaltung
ATTACH;FMTTYPE=image/jpeg:https://www.kunstbahnhofwoerthersee.at/wp-content/uploads/20250228_150604-bridte-club_b_cut_w.jpg
END:VEVENT
BEGIN:VEVENT
DTSTART;VALUE=DATE:20260120
DTEND;VALUE=DATE:20260122
DTSTAMP:20260423T112721
CREATED:20260107T111020Z
LAST-MODIFIED:20260107T111020Z
UID:6878-1768881600-1768967999@www.kunstbahnhofwoerthersee.at
SUMMARY:Kurs – Wir spielen Bridge im Kunstbahnhof
DESCRIPTION:Das Kartenspiel Bridge ist ein unglaublich gutes Gehirntraining\, schärft das analytische Denken – und wir knüpfen nebenbei neue soziale Kontakte …\nKursleitung: Helmuth Ölsinger\, Präsident des Österreichischen Bridgesportverbandes \nOrt: Kunstbahnhof Wörthersee West im charmanten Ambiente des ehemaligen Bahnhofsrestaurants in Velden am Wörthersee\, Bahnhofplatz 1 \nKurs – Wir spielen Bridge im Kunstbahnhof  \nAn ausgewählten Dienstagen von 9:30 bis 11:30 Uhr\, Zusatzeinheiten nach Vereinbarung\nKontakt: Beatrix Taurer-Geher office@kunstbahnhofwoerthersee.at oder 0664-1255952
URL:https://www.kunstbahnhofwoerthersee.at/event/kurs-wir-spielen-bridge-im-kunstbahnhof-42/
CATEGORIES:Öffentliche Veranstaltung
ATTACH;FMTTYPE=image/jpeg:https://www.kunstbahnhofwoerthersee.at/wp-content/uploads/20240523_130424-bridge-bahnsteig_banner.jpg
END:VEVENT
BEGIN:VEVENT
DTSTART;VALUE=DATE:20260121
DTEND;VALUE=DATE:20260123
DTSTAMP:20260423T112721
CREATED:20251130T162739Z
LAST-MODIFIED:20251130T162739Z
UID:6821-1768968000-1769054399@www.kunstbahnhofwoerthersee.at
SUMMARY:Offene Aquarellrunde mit Margit Steinwender
DESCRIPTION:Mit- und voneinander lernen und gemeinsam kreativ sein. Jede und jeder mit etwas Grundkenntnis in der Aquarellmalerei ist herzlich willkommen in der offenen Malrunde mit Margit Steinwender.\nKein Kurs\, keine langfristige Verpflichtung\, Kostenbeitrag € 5\,- pro Nachmittag\, Beginn jeweils um 14 Uhr. \n„Offene Aquarellrunde“ am Mittwoch\, 21.01.2026 um 14 Uhr\nAnmeldung + Kontakt: margit.steinwender@gmail.com \n(Abbildung Aquarell von E. Wagner)
URL:https://www.kunstbahnhofwoerthersee.at/event/offene-aquarellrunde-mit-margit-steinwender-4/
LOCATION:Kunstbahnhof Wörthersee WEST\, Bahnhofplatz | ÖBB-Hausbahnsteig WEST\, Velden am Wörthersee\, 9220\, Österreich
CATEGORIES:Öffentliche Veranstaltung
ATTACH;FMTTYPE=image/jpeg:https://www.kunstbahnhofwoerthersee.at/wp-content/uploads/Aquarell-Abbildung-E-Wagner-web.jpg
END:VEVENT
BEGIN:VEVENT
DTSTART;VALUE=DATE:20260122
DTEND;VALUE=DATE:20260124
DTSTAMP:20260423T112721
CREATED:20260107T112049Z
LAST-MODIFIED:20260107T112049Z
UID:6890-1769054400-1769140799@www.kunstbahnhofwoerthersee.at
SUMMARY:1. Kärntner Kindermalschule Velden
DESCRIPTION:Standort Velden am Wörthersee im Kunstbahnhof Wörthersee am Hausbahnsteig Ost.\nSchuljahrsbegleitend donnerstags von 16:30 bis 18 Uhr.  \nStandortleitung: Hildegard Griesser | Kontakt: Karin Kriegelstein-Sternfeld 0676-5124070 oder kaerntnerkindermalschule.at \nGerade im Medienzeitalter werden schon Kinder überflutet mit vorgegebenen Bildern\, ob nun in Büchern\, TV oder Computer/Spielkonsole. Beim Malen werden eigene Bilder zum Ausdruck gebracht. In der Malwerkstatt der 1. Kärntner Kindermalschule Velden treffen sich schuljahrsbegleitend allwöchentlich zum festen Termin die Malschulkinder – Volksschulkinder zwischen 6 und 10/11  Jahren –  zum Malen. \nDie kleinen Gruppen in der Malwerkstatt malen 90 Minuten; jedes Kind malt in seinem eigenen Rhythmus und wählt Thema\, Farben und Formen selber aus. Die Kinder arbeiten stehend vor ihren großformatigen Blättern\, passend und verstellbar auf Malplatten und Staffeleien aufgespannt. Sie bedienen sich für ihre Farbtellerchen am Farbentisch mit 8 leuchtenden Farben\, einem einladenden Bündel verschieden breiter Pinsel und der Wasserschüssel zum Ausschwemmen\, was viel Sorgfalt\, Konzentration und Rücksichtnahme erfordert. Die großformatige Vorzeichnung mit den fragilen Zeichenkohlestäbchen und der gezielte Umgang mit den Pinseln entwickeln die feinmotorischen Fähigkeiten\, das Ausmischen der verschiedenen Farbtöne das Gefühl für die Farben. \nDie Malbegleiter/innen sind nicht Kunstlehrer/innen oder Therapeut/innen\, sondern verstehen ihre Arbeit als Dienstleistung: Papier wechseln\, Farben bereitstellen\, Flecken beseitigen\, und vor allem mit Anregung\, Ermutigung\, Aufmerksamkeit und Hilfe bei maltechnischen Schwierigkeiten für unsere Malkinder da sein. Frei von Leistungsdruck und Technikzwang geht es hier einzig und allein um das momentane Erlebnis. \nNicht das Bild als Endprodukt steht im Vordergrund\, sondern der Entstehungsprozess und die Freude am Malen.
URL:https://www.kunstbahnhofwoerthersee.at/event/1-kaerntner-kindermalschule-velden-77/
CATEGORIES:Kindermalschule
ATTACH;FMTTYPE=image/jpeg:https://www.kunstbahnhofwoerthersee.at/wp-content/uploads/KärntnerKindermalschule.jpg
END:VEVENT
BEGIN:VEVENT
DTSTART;VALUE=DATE:20260123
DTEND;VALUE=DATE:20260125
DTSTAMP:20260423T112721
CREATED:20260107T111414Z
LAST-MODIFIED:20260107T111414Z
UID:6882-1769140800-1769227199@www.kunstbahnhofwoerthersee.at
SUMMARY:Freies Spiel – Wir spielen Bridge im Kunstbahnhof
DESCRIPTION:Das Kartenspiel Bridge ist ein unglaublich gutes Gehirntraining\, schärft das analytische Denken – und wir knüpfen nebenbei neue soziale Kontakte … Kartenrunde aus den Kursen von Helmuth Ölsinger (Präsident des Österreichischen Bridgesportverbandes) und mit interessierten Bridge-Fans. \nFreies Spiel – Wir spielen Bridge im Kunstbahnhof \nFreitags von 15 bis 17  Uhr und an ausgewählten weiteren Wochentagen\nOrt: Kunstbahnhof Wörthersee West im charmanten Ambiente des ehemaligen Bahnhofsrestaurants in Velden am Wörthersee\, Bahnhofplatz 1\nKontakt: Beatrix Taurer-Geher office@kunstbahnhofwoerthersee.at oder 0664-1255952
URL:https://www.kunstbahnhofwoerthersee.at/event/freies-spiel-wir-spielen-bridge-im-kunstbahnhof-54/
CATEGORIES:Öffentliche Veranstaltung
ATTACH;FMTTYPE=image/jpeg:https://www.kunstbahnhofwoerthersee.at/wp-content/uploads/20250228_150604-bridte-club_b_cut_w.jpg
END:VEVENT
BEGIN:VEVENT
DTSTART;TZID=Europe/Paris:20260126T190000
DTEND;TZID=Europe/Paris:20260126T190000
DTSTAMP:20260423T112721
CREATED:20260106T125954Z
LAST-MODIFIED:20260106T182138Z
UID:6859-1769454000-1769454000@www.kunstbahnhofwoerthersee.at
SUMMARY:Bildvortrag: Der Glanz des Ewigen – Gold in der Weltkunstgeschichte
DESCRIPTION:Gold fasziniert seit Jahrtausenden durch seinen unvergänglichen Glanz und seine außergewöhnliche symbolische Kraft. Als Zeichen von Macht\, Reichtum und Göttlichkeit prägte es Kulturen über Zeit und Raum hinweg und wurde besonders in der antiken Kunst zum Sinnbild des Ewigen. In der orientalischen Sakralarchitektur und der buddhistischen Kunst steht Gold als Sinnbild für Reinheit\, Erleuchtung und göttliche Präsenz; von den Hochkulturen der Antike über die strahlenden Mosaike des byzantinischen Reiches\, die illuminierten Handschriften des Mittelalters und die prunkvolle Bildsprache des Barock bis zu Gustav Klimts berühmten Goldgemälden entfaltet sich seine Geschichte als ein Spiegel von Macht\, Glauben und Schönheit – und ungebrochen bis in die Gegenwart in den Werken von Künstlern wie Anish Kapoor oder Damien Hirst. In Gold wird Licht zu Materie. \nDer Bildvortrag von Gerda Madl-Kren verfolgt die Spur dieses einzigartigen Materials und seiner unvergleichlichen Farbe durch die Jahrhunderte der Weltkunstgeschichte.\nWann: Montag\, 26. Januar 2026 um 19:00 Uhr\nWo: Kunstbahnhof Wörthersee am Veldner Hausbahnsteig Ost\nClubbeitrag 15 Euro\, ein Angebot des Clubs für Bild und Bildung.\nBegrenzte Platzzahl – daher bitte um Anmeldung NUR über office@kunstbahnhofwoerthersee.at
URL:https://www.kunstbahnhofwoerthersee.at/event/weltkunst-gold/
LOCATION:Kunstbahnhof Wörthersee OST\, Bahnhofplatz | ÖBB-Hausbahnsteig OST\, Velden am Wörthersee\, 9220\, Österreich
CATEGORIES:Öffentliche Veranstaltung
ATTACH;FMTTYPE=image/jpeg:https://www.kunstbahnhofwoerthersee.at/wp-content/uploads/Der-Glanz-des-Ewigen-detail.jpg
END:VEVENT
BEGIN:VEVENT
DTSTART;VALUE=DATE:20260127
DTEND;VALUE=DATE:20260129
DTSTAMP:20260423T112721
CREATED:20260107T111311Z
LAST-MODIFIED:20260107T111311Z
UID:6880-1769486400-1769572799@www.kunstbahnhofwoerthersee.at
SUMMARY:Kurs – Wir spielen Bridge im Kunstbahnhof
DESCRIPTION:Das Kartenspiel Bridge ist ein unglaublich gutes Gehirntraining\, schärft das analytische Denken – und wir knüpfen nebenbei neue soziale Kontakte …\nKursleitung: Helmuth Ölsinger\, Präsident des Österreichischen Bridgesportverbandes \nOrt: Kunstbahnhof Wörthersee West im charmanten Ambiente des ehemaligen Bahnhofsrestaurants in Velden am Wörthersee\, Bahnhofplatz 1 \nKurs – Wir spielen Bridge im Kunstbahnhof  \nAn ausgewählten Dienstagen von 9:30 bis 11:30 Uhr\, Zusatzeinheiten nach Vereinbarung\nKontakt: Beatrix Taurer-Geher office@kunstbahnhofwoerthersee.at oder 0664-1255952
URL:https://www.kunstbahnhofwoerthersee.at/event/kurs-wir-spielen-bridge-im-kunstbahnhof-43/
CATEGORIES:Öffentliche Veranstaltung
ATTACH;FMTTYPE=image/jpeg:https://www.kunstbahnhofwoerthersee.at/wp-content/uploads/20240523_130424-bridge-bahnsteig_banner.jpg
END:VEVENT
BEGIN:VEVENT
DTSTART;VALUE=DATE:20260128
DTEND;VALUE=DATE:20260130
DTSTAMP:20260423T112721
CREATED:20251130T162923Z
LAST-MODIFIED:20260121T073046Z
UID:6823-1769572800-1769659199@www.kunstbahnhofwoerthersee.at
SUMMARY:Malgruppe „Farbiger Herbst“ | Kunst kennt kein Alter!
DESCRIPTION:Farbiger Herbst – eine ambitionierte Malrunde in der dritten Lebensphase trifft sich jeden zweiten Mittwochvormittag zum Malen.\nDozentin: Sonja Capeller mit Assistentin Margit Steinwender. Info und Anmeldung: margit.steinwender@gmail.com \nKrankheitshalber verschoben auf Mittwoch\, 28. Jänner 2026\nMittwoch\, 21.01.2026 um 10 Uhr am Veldner Hausbahnsteig West. \n\n„Malen im Farbigen Herbst verstehen wir so: Menschen\, die immer schon mal malen wollten und jetzt endlich dafür Zeit hätten. Oder Menschen\, die erwachsen und selbstbewusst genug sind\, sich auf das Thema Malerei wieder oder zum ersten Mal einzulassen\, und die freudige Ausdrucksweise und ungezügelte Phantasie des Kindes\, die sie wieder hervor kitzeln wollen. Oder malbegeisterte Menschen\, die andere malbegeisterte Menschen treffen möchten. Oder Menschen\, die ihre Fähigkeiten und Fertigkeiten wieder auffrischen wollen. Oder … Vielleicht haben Sie einen ganz anderen Grund\, den Pinsel\, den Stift\, die Spachtel oder die Graviernadel wieder in die Hand zu nehmen und ihre Enkelkinder mit den Ergebnissen zum Staunen zu bringen. Welchen Grund Sie haben\, ist egal\, es gibt unzählige Gründe\, bei uns vorbeizukommen und mit uns gemeinsam zu malen. Ein geschultes Team steht Ihnen mit Rat\, Tat und Pinsel zur Seite.“
URL:https://www.kunstbahnhofwoerthersee.at/event/malgruppe-farbiger-herbst-kunst-kennt-kein-alter-20/
LOCATION:Kunstbahnhof Wörthersee WEST\, Bahnhofplatz | ÖBB-Hausbahnsteig WEST\, Velden am Wörthersee\, 9220\, Österreich
CATEGORIES:Öffentliche Veranstaltung
ATTACH;FMTTYPE=image/jpeg:https://www.kunstbahnhofwoerthersee.at/wp-content/uploads/Offene-Malwerkstatt_MadlKren_b.jpg
END:VEVENT
BEGIN:VEVENT
DTSTART;VALUE=DATE:20260129
DTEND;VALUE=DATE:20260131
DTSTAMP:20260423T112721
CREATED:20260107T112343Z
LAST-MODIFIED:20260107T112343Z
UID:6892-1769659200-1769745599@www.kunstbahnhofwoerthersee.at
SUMMARY:1. Kärntner Kindermalschule Velden
DESCRIPTION:Standort Velden am Wörthersee im Kunstbahnhof Wörthersee am Hausbahnsteig Ost.\nSchuljahrsbegleitend donnerstags von 16:30 bis 18 Uhr.  \nStandortleitung: Hildegard Griesser | Kontakt: Karin Kriegelstein-Sternfeld 0676-5124070 oder kaerntnerkindermalschule.at \nGerade im Medienzeitalter werden schon Kinder überflutet mit vorgegebenen Bildern\, ob nun in Büchern\, TV oder Computer/Spielkonsole. Beim Malen werden eigene Bilder zum Ausdruck gebracht. In der Malwerkstatt der 1. Kärntner Kindermalschule Velden treffen sich schuljahrsbegleitend allwöchentlich zum festen Termin die Malschulkinder – Volksschulkinder zwischen 6 und 10/11  Jahren –  zum Malen. \nDie kleinen Gruppen in der Malwerkstatt malen 90 Minuten; jedes Kind malt in seinem eigenen Rhythmus und wählt Thema\, Farben und Formen selber aus. Die Kinder arbeiten stehend vor ihren großformatigen Blättern\, passend und verstellbar auf Malplatten und Staffeleien aufgespannt. Sie bedienen sich für ihre Farbtellerchen am Farbentisch mit 8 leuchtenden Farben\, einem einladenden Bündel verschieden breiter Pinsel und der Wasserschüssel zum Ausschwemmen\, was viel Sorgfalt\, Konzentration und Rücksichtnahme erfordert. Die großformatige Vorzeichnung mit den fragilen Zeichenkohlestäbchen und der gezielte Umgang mit den Pinseln entwickeln die feinmotorischen Fähigkeiten\, das Ausmischen der verschiedenen Farbtöne das Gefühl für die Farben. \nDie Malbegleiter/innen sind nicht Kunstlehrer/innen oder Therapeut/innen\, sondern verstehen ihre Arbeit als Dienstleistung: Papier wechseln\, Farben bereitstellen\, Flecken beseitigen\, und vor allem mit Anregung\, Ermutigung\, Aufmerksamkeit und Hilfe bei maltechnischen Schwierigkeiten für unsere Malkinder da sein. Frei von Leistungsdruck und Technikzwang geht es hier einzig und allein um das momentane Erlebnis. \nNicht das Bild als Endprodukt steht im Vordergrund\, sondern der Entstehungsprozess und die Freude am Malen.
URL:https://www.kunstbahnhofwoerthersee.at/event/1-kaerntner-kindermalschule-velden-78/
CATEGORIES:Kindermalschule
ATTACH;FMTTYPE=image/jpeg:https://www.kunstbahnhofwoerthersee.at/wp-content/uploads/KärntnerKindermalschule.jpg
END:VEVENT
BEGIN:VEVENT
DTSTART;VALUE=DATE:20260130
DTEND;VALUE=DATE:20260201
DTSTAMP:20260423T112721
CREATED:20260107T111455Z
LAST-MODIFIED:20260107T111455Z
UID:6884-1769745600-1769831999@www.kunstbahnhofwoerthersee.at
SUMMARY:Freies Spiel – Wir spielen Bridge im Kunstbahnhof
DESCRIPTION:Das Kartenspiel Bridge ist ein unglaublich gutes Gehirntraining\, schärft das analytische Denken – und wir knüpfen nebenbei neue soziale Kontakte … Kartenrunde aus den Kursen von Helmuth Ölsinger (Präsident des Österreichischen Bridgesportverbandes) und mit interessierten Bridge-Fans. \nFreies Spiel – Wir spielen Bridge im Kunstbahnhof \nFreitags von 15 bis 17  Uhr und an ausgewählten weiteren Wochentagen\nOrt: Kunstbahnhof Wörthersee West im charmanten Ambiente des ehemaligen Bahnhofsrestaurants in Velden am Wörthersee\, Bahnhofplatz 1\nKontakt: Beatrix Taurer-Geher office@kunstbahnhofwoerthersee.at oder 0664-1255952
URL:https://www.kunstbahnhofwoerthersee.at/event/freies-spiel-wir-spielen-bridge-im-kunstbahnhof-55/
CATEGORIES:Öffentliche Veranstaltung
ATTACH;FMTTYPE=image/jpeg:https://www.kunstbahnhofwoerthersee.at/wp-content/uploads/20250228_150604-bridte-club_b_cut_w.jpg
END:VEVENT
BEGIN:VEVENT
DTSTART;VALUE=DATE:20260131
DTEND;VALUE=DATE:20260202
DTSTAMP:20260423T112721
CREATED:20260107T140006Z
LAST-MODIFIED:20260107T140006Z
UID:6910-1769832000-1769918399@www.kunstbahnhofwoerthersee.at
SUMMARY:Repair Café Velden
DESCRIPTION:Das beliebte Repair Café in Velden am Wörthersee ist wieder am Samstag\, 31. Jänner 2026 von 8 bis 12:00 Uhr geöffnet: „Du kommst mit deinem kaputten Gerät vorbei _ Entweder du kannst es selbst mit unserem Werkzeug vor Ort reparieren _ Oder wir geben dir Anleitung und helfen gerne _ Das Ganze in angenehmer Atmosphäre mit Café- und Workshopcharakter bei freiwilliger Spende!“\nLetzte Reparaturannahme um 11 Uhr! \nDu hättest gerne mehr Information über das Repair Café? Schau auf die internationale Webseite Repaircafe.org oder stelle deine Fragen an Klaus Zerche unter zerche@a1.net oder Tel 0664-3868666. Anmelden als ehrenamtliche/r Helfer/in? Sende bitte eine E-Mail an zerche@a1.net.\nBis dann im Repair Café!
URL:https://www.kunstbahnhofwoerthersee.at/event/repair-cafe-velden-44/
LOCATION:Kunstbahnhof Wörthersee WEST\, Bahnhofplatz | ÖBB-Hausbahnsteig WEST\, Velden am Wörthersee\, 9220\, Österreich
CATEGORIES:Öffentliche Veranstaltung
ATTACH;FMTTYPE=image/jpeg:https://www.kunstbahnhofwoerthersee.at/wp-content/uploads/Logo-Repair-Cafe-Velden-banner-neu-e1737969070219.jpg
END:VEVENT
END:VCALENDAR