BEGIN:VCALENDAR
VERSION:2.0
PRODID:-//Kunstbahnhof Wörthersee - ECPv6.2.2//NONSGML v1.0//EN
CALSCALE:GREGORIAN
METHOD:PUBLISH
X-WR-CALNAME:Kunstbahnhof Wörthersee
X-ORIGINAL-URL:https://www.kunstbahnhofwoerthersee.at
X-WR-CALDESC:Veranstaltungen für Kunstbahnhof Wörthersee
REFRESH-INTERVAL;VALUE=DURATION:PT1H
X-Robots-Tag:noindex
X-PUBLISHED-TTL:PT1H
BEGIN:VTIMEZONE
TZID:Europe/Paris
BEGIN:DAYLIGHT
TZOFFSETFROM:+0100
TZOFFSETTO:+0200
TZNAME:CEST
DTSTART:20250330T010000
END:DAYLIGHT
BEGIN:STANDARD
TZOFFSETFROM:+0200
TZOFFSETTO:+0100
TZNAME:CET
DTSTART:20251026T010000
END:STANDARD
END:VTIMEZONE
BEGIN:VEVENT
DTSTART;TZID=Europe/Paris:20251124T190000
DTEND;TZID=Europe/Paris:20251124T203000
DTSTAMP:20260420T052203
CREATED:20251117T115239Z
LAST-MODIFIED:20251118T195805Z
UID:6797-1764010800-1764016200@www.kunstbahnhofwoerthersee.at
SUMMARY:Bildvortrag: Momijigari – GMK in Japan
DESCRIPTION:„Dem Herbstlaub nachgehen“ ist eine sehr wichtige Tradition in Japan: Freude an der Schönheit der Natur und Zeit der Reflexion und Meditation über die Vergänglichkeit des Lebens. Zurück von meiner Japanreise – im Herbst meines Lebens – freue mich darauf\, meine Erlebnisse und Erfahrungen in diesem einzigartigen Land zu teilen.\nGerda Madl-Kren \nMontag\, 24. November 2025 um 19 Uhr\nKunstbahnhof Wörthersee\, Bahnhofplatz\, Velden am Wörthersee\nClub für Bild und Bildung | Clubbeitrag: 15 Euro\nBeschränkte Platzzahl\, daher bitte unbedingt um Anmeldung via office@kunstbahnhofwoerthersee.at!
URL:https://www.kunstbahnhofwoerthersee.at/event/momijigari-gmk-in-japan/
LOCATION:Kunstbahnhof Wörthersee OST\, Bahnhofplatz | ÖBB-Hausbahnsteig OST\, Velden am Wörthersee\, 9220\, Österreich
CATEGORIES:Öffentliche Veranstaltung
END:VEVENT
END:VCALENDAR