BEGIN:VCALENDAR
VERSION:2.0
PRODID:-//Kunstbahnhof Wörthersee - ECPv6.2.2//NONSGML v1.0//EN
CALSCALE:GREGORIAN
METHOD:PUBLISH
X-ORIGINAL-URL:https://www.kunstbahnhofwoerthersee.at
X-WR-CALDESC:Veranstaltungen für Kunstbahnhof Wörthersee
REFRESH-INTERVAL;VALUE=DURATION:PT1H
X-Robots-Tag:noindex
X-PUBLISHED-TTL:PT1H
BEGIN:VTIMEZONE
TZID:Europe/Paris
BEGIN:DAYLIGHT
TZOFFSETFROM:+0100
TZOFFSETTO:+0200
TZNAME:CEST
DTSTART:20250330T010000
END:DAYLIGHT
BEGIN:STANDARD
TZOFFSETFROM:+0200
TZOFFSETTO:+0100
TZNAME:CET
DTSTART:20251026T010000
END:STANDARD
END:VTIMEZONE
BEGIN:VEVENT
DTSTART;TZID=Europe/Paris:20250902T190000
DTEND;TZID=Europe/Paris:20250902T210000
DTSTAMP:20260420T090348
CREATED:20250826T112614Z
LAST-MODIFIED:20250826T131221Z
UID:6489-1756839600-1756846800@www.kunstbahnhofwoerthersee.at
SUMMARY:Vortrag zur Architekturbiennale Venedig 2025
DESCRIPTION:Bildvortrag von Gerda Madl-Kren als Angebot des Clubs für Bild und Bildung: Unter dem Motto „Intelligens. Natural. Artificial. Collective“ widmet sich die Biennale 2025 der Intelligenz in all ihren Formen – natürlich\, künstlich und kollektiv –und bildet den gegenwärtigen Stand des Dialosg zwischen Natur\, Technologie und Gesellschaft ab. Es geht um die Fragen\, die uns alle betreffen: Wie können wir in Zukunft leben – besser\, gerechter\, nachhaltiger – vom Ich bis zur Weltgemeinschaft? Über 750 Künstler*innen\, interdisziplinäre Teams und Kollektive in der Hauptausstellung und den 65 Nationalpavillons aus aller Welt zeigen nicht nur die Herausforderungen unserer Zeit auf\, sondern machen auch gelungene Lösungen anschaulich\, Modelle und Visionen für alle\, die neugierig auf Kunst\, Kultur und Welt von morgen sind. \nDer Bildvortrag lädt zu einem Rundgang durch die heurige Biennale\, der Lust auf den Besuch machen möchte und beim Entdecken vor Ort Orientierung bietet.\nWann: Dienstag\, 2. September 2025 um 19:00 Uhr\nWo: Kunstbahnhof Wörthersee am Hausbahnsteig Ost Bahnhof Velden am Wörthersee\nClubbeitrag: 15 Euro\nBegrenzte Platzzahl – bitte um Anmeldung AUSSCHLIESSLICH über office@kunstbahnhofwoerthersee.at \n(Abbildung © labiennale.at | Österreich-Pavillon 2025\, Agency for Better Living\, Installationsansicht\, Foto von Hertha Hurnaus)
URL:https://www.kunstbahnhofwoerthersee.at/event/vortrag-zur-architekturbiennale-venedig-2025/
LOCATION:Kunstbahnhof Wörthersee OST\, Bahnhofplatz | ÖBB-Hausbahnsteig OST\, Velden am Wörthersee\, 9220\, Österreich
ATTACH;FMTTYPE=image/jpeg:https://www.kunstbahnhofwoerthersee.at/wp-content/uploads/biennale-agency-for-better-living_Hertha-Hurnaus.jpg
END:VEVENT
BEGIN:VEVENT
DTSTART;TZID=Europe/Paris:20250915T190000
DTEND;TZID=Europe/Paris:20250915T210000
DTSTAMP:20260420T090348
CREATED:20250826T131143Z
LAST-MODIFIED:20250827T112224Z
UID:6497-1757962800-1757970000@www.kunstbahnhofwoerthersee.at
SUMMARY:Vortrag zur Kunstausstelllung 2025 in Illegio
DESCRIPTION:Einführungsvortrag zur Kunstausstelllung 2025 in Illegio: Was bedeutet REICHTUM für Mensch mit Besitz\, Macht\, Schönheit und für diejenigen\, die nichts haben und nie etwas haben werden? Die diesjährige Kunstausstellung im friulanischen Illegio stellt mit dem Motto „Ricchezza – Dilemma perenne“ eine ewige Frage neu – mit 52 Meisterwerken\, die wir alle noch nie gesehen haben und vielfach\, weil aus Privatbesitz\, nie sehen werden\, ausgewählt für eine Reise durch fünfhundert Jahre Schönheit\, die in der Mitte des 15. Jahrhunderts beginnt und bis zur Mitte des 20. Jahrhunderts reicht. Das Thema Reichtum wird auf vielen Ebenen behandelt: die gesunde Produktion von Reichtum\, die unzähligen Möglichkeiten\, die sich aus dem Austausch von Gütern zwischen Menschen\, Kulturen und Völkern ergeben und ihre gerechte Verteilung\, die Befreiung aus der Armut\, die paradoxe Entscheidung für die Armut\, die Freude am Teilen und die Pathologien des Reichtums bis hin zur Frage\, was wahrer Reichtum ist. \nDer Club für Bild und Bildung lädt herzlich ein zum Einführungsvortrag von Gerda Madl-Kren  – ein Abend für alle\, die diese Kunstwerke nicht nur sehen\, sondern verstehen wollen (und  auch als Vorbereitung zur  Ausstellungsfahrt am Samstag\, den 20. September 2025) \nVortrag zur Kunstausstelllung 2025 in Illegio\nMontag\, 15. September 2025 um 19 Uhr \nKunstbahnhof Wörthersee\, Bahnhofplatz\, Velden am Wörthersee\nClub für Bild und Bildung | Clubbeitrag: 15 Euro\nBeschränkte Platzzahl\, daher bitte unbedingt um Anmeldung via office@kunstbahnhofwoerthersee.at! \nAbbildung © illegio.it
URL:https://www.kunstbahnhofwoerthersee.at/event/vortrag-zur-kunstausstelllung-2025-in-illegio-2/
LOCATION:Kunstbahnhof Wörthersee OST\, Bahnhofplatz | ÖBB-Hausbahnsteig OST\, Velden am Wörthersee\, 9220\, Österreich
ATTACH;FMTTYPE=image/jpeg:https://www.kunstbahnhofwoerthersee.at/wp-content/uploads/illegio.jpg
END:VEVENT
BEGIN:VEVENT
DTSTART;TZID=Europe/Paris:20250923T190000
DTEND;TZID=Europe/Paris:20250923T203000
DTSTAMP:20260420T090348
CREATED:20250827T115957Z
LAST-MODIFIED:20250916T074231Z
UID:6507-1758654000-1758659400@www.kunstbahnhofwoerthersee.at
SUMMARY:Abgesagt: Kulturhauptstädte 2025 - Europa wächst zusammen
DESCRIPTION:Dieser Vortrag muss leider abgesagt werden\, wir bitten um Verständnis! \nDer Club für Bild und Bildung lädt herzlich zum Vortrag von Gerda Madl-Kren: Gorizia\, die italienische Stadt an der slowenischen Grenze\, und Nova Gorica\, ihre Schwesterstadt in Slowenien\, bilden gemeinsam die Europäische Kulturhauptstadt 2025. Diese Region war über Jahrhunderte hinweg ein Schmelztiegel verschiedener Kulturen\, Religionen und Sprachen – ein Spiegel der wechselvollen Geschichte Mitteleuropas.\nDer Bildvortrag lädt zu einem Rundgang durch Geschichte\, Kunst und Kultur dieser Stadt in zwei Staaten\, die auch lange zu Österreich gehört hat\, zur faszinierende Geschichte und kulturellen Vielfalt von Görz – Gorizia – Nova Gorica\, immer schon geprägt von Austausch und Wandel. Die Ernennung zur Europäischen Kulturhauptstadt 2025 würdigt diese einzigartige Verbindung und eröffnet neue Perspektiven für die Zukunft: ein lebendiges Beispiel für die europäische Idee des Zusammenwachsens über nationale Grenzen hinweg. Da 2025 auch Chemnitz in Deutschland Kulturhauptstadt ist\, werfen wir einen Blick in diese Region in Sachsen\, mitten im ehemaligen Osten Deutschlands. Der Titel Europäischen Kulturhauptstadt 2025 würdigt diese Städte\, ihre wechselvolle Vergangenheit\, die beeindruckende Architektur und die lebendige Kunstszene – und und eröffnet neue Perspektiven für die Zukunft. \nKulturhauptstädte 2025 – Europa wächst zusammen\nDienstag\, 23. September 2025 um 19:00 Uhr\nBegrenzte Platzzahl – bitte um Anmeldung über office@kunstbahnhofwoerthersee.at\nOrt: Kunstbahnhof Wörthersee direkt am Veldner Hausbahnsteig\nClubbeitrag 15 Euro \n(Bild: INGEBORG-BACHMANN-KUPPEL 2025 in Nova Gorica © Armin Guerino)
URL:https://www.kunstbahnhofwoerthersee.at/event/kulturhauptstaedte-2025-europa-waechst-zusammen/
LOCATION:Kunstbahnhof Wörthersee OST\, Bahnhofplatz | ÖBB-Hausbahnsteig OST\, Velden am Wörthersee\, 9220\, Österreich
ATTACH;FMTTYPE=image/jpeg:https://www.kunstbahnhofwoerthersee.at/wp-content/uploads/bachmannkuppel-armin-guerino-nova-gorica-2025_web.jpg
END:VEVENT
END:VCALENDAR