BEGIN:VCALENDAR
VERSION:2.0
PRODID:-//Kunstbahnhof Wörthersee - ECPv6.2.2//NONSGML v1.0//EN
CALSCALE:GREGORIAN
METHOD:PUBLISH
X-WR-CALNAME:Kunstbahnhof Wörthersee
X-ORIGINAL-URL:https://www.kunstbahnhofwoerthersee.at
X-WR-CALDESC:Veranstaltungen für Kunstbahnhof Wörthersee
REFRESH-INTERVAL;VALUE=DURATION:PT1H
X-Robots-Tag:noindex
X-PUBLISHED-TTL:PT1H
BEGIN:VTIMEZONE
TZID:Europe/Paris
BEGIN:DAYLIGHT
TZOFFSETFROM:+0100
TZOFFSETTO:+0200
TZNAME:CEST
DTSTART:20250330T010000
END:DAYLIGHT
BEGIN:STANDARD
TZOFFSETFROM:+0200
TZOFFSETTO:+0100
TZNAME:CET
DTSTART:20251026T010000
END:STANDARD
END:VTIMEZONE
BEGIN:VEVENT
DTSTART;TZID=Europe/Paris:20250206T190000
DTEND;TZID=Europe/Paris:20250206T213000
DTSTAMP:20260424T223549
CREATED:20250130T135704Z
LAST-MODIFIED:20250130T152248Z
UID:6137-1738868400-1738877400@www.kunstbahnhofwoerthersee.at
SUMMARY:Die Seerepublik Venedig: Kunst\, Kultur und Macht im Mittelmeer
DESCRIPTION:Wiederholung auf mehrfachen Wunsch! Der „Club für Bild und Bildung“ lädt zum Bildvortrag „Die Seerepublik Venedig: Kunst\, Kultur und Macht im Mittelmeer“ mit Gerda Madl-Kren:\nDie Lagunenstadt war über Jahrhunderte hinweg nicht nur eine politische und wirtschaftliche Großmacht im Mittelmeerraum\, sondern auch ein Zentrum kultureller und künstlerischer Innovation. Von einer kleinen Handelskolonie aufgestiegen\, stilisierte sie sich zur mächtigen „Königin der Adria“. In ihren Kolonien und Kontoren im östlichen Mittelmeer – wie Dalmatien\, Kreta\, Zypern und am Peloponnes – verschmolzen venezianische Traditionen mit lokalen Einflüssen zu einer kulturellen Vielfalt\, die Renaissance und byzantinisches Erbe miteinander verband. Umgekehrt kamen auch Meister aus diesen Regionen nach Venedig\, brachten ihre Ideen\, Kenntnisse und Stile ein und prägten diese einzigartige Synthese\, die den Glanz und den Ruhm der Serenissima ausmacht. \nDonnerstag\, 6. Februar 2025 um 19 Uhr\n15 Euro Clubbeitrag\nKunstbahnhof Wörthersee\, Hausbahnsteig\, Bahnhofplatz 1 in Velden am Wörthersee\nBeschränkte Platzzahl\, daher bitte um Anmeldung via office@kunstbahnhofwoerthersee.at! \n  \n(Bild von NakNakNak auf Pixabay\, Detail)
URL:https://www.kunstbahnhofwoerthersee.at/event/die-seerepublik-venedig-kunst-kultur-und-macht-im-mittelmeer/
LOCATION:Kunstbahnhof Wörthersee OST\, Bahnhofplatz | ÖBB-Hausbahnsteig OST\, Velden am Wörthersee\, 9220\, Österreich
ATTACH;FMTTYPE=image/jpeg:https://www.kunstbahnhofwoerthersee.at/wp-content/uploads/italy-6735340-canal-grande_banner.jpg
ORGANIZER;CN="Club f%C3%BCr Bild und Bildung":MAILTO:bildundbildung@gmx.at
END:VEVENT
BEGIN:VEVENT
DTSTART;VALUE=DATE:20250210
DTEND;VALUE=DATE:20250212
DTSTAMP:20260424T223549
CREATED:20250106T092558Z
LAST-MODIFIED:20250203T191401Z
UID:5866-1739160000-1739246399@www.kunstbahnhofwoerthersee.at
SUMMARY:Rembrandt und Hoogstraten - Meisterklasse in Farbe und Illusion
DESCRIPTION:Vor wenigen Wochen ging im Kunsthistorischen Museum Wien eine große Doppelausstellung zu Ende. Die scheidende Generaldirektorin Sabine Haag inszenierte einen faszinierenden Dialog zwischen Werken von Rembrandt van Rijn (1606–1669) und Samuel van Hoogstraten (1627–1678)\, seinem talentiertesten Schüler. Gezeigt wurde eine beeindruckende Vielfalt an Hauptwerken und eine noch nie zuvor in Österreich präsentierte Fülle an internationalen Leihgaben\, die einen umfassenden Einblick in die niederländische Barockmalerei gewährten\, aber vor allem die gemeinsame Faszination Rembrandts und Hoogstratens für illusionistische Täuschung und virtuelle Realität. Der Bildvortrag lädt zum Rundgang durch die Ausstellung\, lässt die einzigartigen künstlerischen Entwicklungen von Rembrandt und Hoogstraten und ihren Einfluss auf die Kunstgeschichte begreifen und mit großartigen Bildern genießen. \nDer Club für Bild und Bildung lädt zum Bildvortrag „Rembrandt und Hoogstraten – Meisterklasse in Farbe und Illusion“ mit Gerda Madl-Kren am\nMontag\, 10. Februar 2025 um 19 Uhr\n15 Euro Clubbeitrag\nKunstbahnhof Wörthersee\, Velden am Wörthersee\, Hausbahnsteig am Bahnhofplatz\nBeschränkte Platzzahl\, daher bitte unbedingt um Anmeldung via office@kunstbahnhofwoerthersee.at! \nAbbildung (Detail): Samuel van Hoogstraten\, Augenbetrüger-Stillleben\, 1666/78. Staatliche Kunsthalle Karlsruhe\, © Creative Commons\, Staatliche Kunsthalle Karlsruhe
URL:https://www.kunstbahnhofwoerthersee.at/event/rembrandt-und-hoogstraten/
LOCATION:Kunstbahnhof Wörthersee OST\, Bahnhofplatz | ÖBB-Hausbahnsteig OST\, Velden am Wörthersee\, 9220\, Österreich
ATTACH;FMTTYPE=image/jpeg:https://www.kunstbahnhofwoerthersee.at/wp-content/uploads/Samuel_van_Hoogstraten_-_Still-Life_-_WGA11726_cut.jpg
ORGANIZER;CN="Club f%C3%BCr Bild und Bildung":MAILTO:bildundbildung@gmx.at
END:VEVENT
BEGIN:VEVENT
DTSTART;VALUE=DATE:20250225
DTEND;VALUE=DATE:20250227
DTSTAMP:20260424T223549
CREATED:20250106T092805Z
LAST-MODIFIED:20250224T164714Z
UID:5869-1740456000-1740542399@www.kunstbahnhofwoerthersee.at
SUMMARY:Barcarole in der Nacht - Die Gondel als Bühne für Geschichte und Kunst Venedigs
DESCRIPTION:Der Club für Bild und Bildung lädt zum Bildvortrag „Barcarole in der Nacht – Die Gondel als Bühne für Geschichte und Kunst Venedigs“ mit Gerda Madl-Kren am\nDienstag\, 25. Februar um 19 Uhr  (Montag\, 24. Februar 2025 um 19 Uhr)\n15 Euro Clubbeitrag\nKunstbahnhof Wörthersee\, Velden am Wörthersee\, Hausbahnsteig am Bahnhofplatz\nBeschränkte Platzzahl\, daher bitte unbedingt um Anmeldung via office@kunstbahnhofwoerthersee.at! \nWIEDERHOLUNG auf mehrfachen Wunsch am Dienstag\, 11. März 2025 \nBarcarole in der Nacht – Die Gondel als Bühne für Geschichte\, Poesie und die Seele Venedigs. Der Bildvortrag erzählt von ihrer Symbolik\, ihrer einzigartigen Bauweise und ihrer bedeutende Rolle in Venedigs schillernder Festkultur. Kaum ein Symbol ist so untrennbar mit Venedig verbunden wie die Gondel. Doch sie ist weit mehr als nur ein elegantes Fortbewegungsmittel: Sie verkörpert Romantik\, Sehnsucht und Inspiration\, aber auch Leidenschaft\, Intrigen und düstere Dramen. Ob bei prunkvollen Paraden auf dem Canal Grande oder romantischen nächtlichen Fahrten während des Karnevals: die Gondel ist die ikonische Bühne für die Geschichten dieser magischen Stadt. Als Sinnbild venezianischer Romantik hat sie die Kunst inspiriert: seien es die faszinierenden Licht- und Farbspiele der Lagune\, in beeindruckenden Bildern festgehalten oder das Zusammenspiel von Musik\, Wasser und Poesie\, als neues Genre dem sanft schwingenden Gesang der venezianischen Gondolieri abgelauscht: die Barcarole. \nAbbildung (Detail) Canaletto – Bucentaur’s return to the pier by the Palazzo Ducal (gemeinfrei)
URL:https://www.kunstbahnhofwoerthersee.at/event/barcarole-in-der-nacht/
LOCATION:Kunstbahnhof Wörthersee OST\, Bahnhofplatz | ÖBB-Hausbahnsteig OST\, Velden am Wörthersee\, 9220\, Österreich
ATTACH;FMTTYPE=image/jpeg:https://www.kunstbahnhofwoerthersee.at/wp-content/uploads/Barcarole-Canaletto-gemeinfrei.jpg
ORGANIZER;CN="Club f%C3%BCr Bild und Bildung":MAILTO:bildundbildung@gmx.at
END:VEVENT
END:VCALENDAR