BEGIN:VCALENDAR
VERSION:2.0
PRODID:-//Kunstbahnhof Wörthersee - ECPv6.2.2//NONSGML v1.0//EN
CALSCALE:GREGORIAN
METHOD:PUBLISH
X-WR-CALNAME:Kunstbahnhof Wörthersee
X-ORIGINAL-URL:https://www.kunstbahnhofwoerthersee.at
X-WR-CALDESC:Veranstaltungen für Kunstbahnhof Wörthersee
REFRESH-INTERVAL;VALUE=DURATION:PT1H
X-Robots-Tag:noindex
X-PUBLISHED-TTL:PT1H
BEGIN:VTIMEZONE
TZID:Europe/Paris
BEGIN:DAYLIGHT
TZOFFSETFROM:+0100
TZOFFSETTO:+0200
TZNAME:CEST
DTSTART:20240331T010000
END:DAYLIGHT
BEGIN:STANDARD
TZOFFSETFROM:+0200
TZOFFSETTO:+0100
TZNAME:CET
DTSTART:20241027T010000
END:STANDARD
END:VTIMEZONE
BEGIN:VEVENT
DTSTART;TZID=Europe/Paris:20241112T190000
DTEND;TZID=Europe/Paris:20241112T203000
DTSTAMP:20260425T035837
CREATED:20241004T081420Z
LAST-MODIFIED:20241110T173306Z
UID:5691-1731438000-1731443400@www.kunstbahnhofwoerthersee.at
SUMMARY:Ars moriendi – Sterben und Tod in der bildenden Kunst
DESCRIPTION:Der Club für Bild und Bildung lädt zum Bildvortrag „Ars moriendi – Sterben und Tod in der bildenden Kunst“ mit Gerda Madl-Kren am\nDienstag\, 12. November 2024 um 19 Uhr\n15 Euro Clubbeitrag\nKunstbahnhof Wörthersee\, Velden am Wörthersee\, Hausbahnsteig am Bahnhofplatz\nBeschränkte Platzzahl\, daher bitte unbedingt um Anmeldung via SMS 0676 3205884 oder bildundbildung@gmx.at! \nKunst\, so heißt es\, ist aus dem Wissen um unsere Endlichkeit entstanden –  und seit Urzeiten beschäftigen sich Künstler mit den letzten Wahrheiten des Sterbens und den Hoffnungen auf ein Weiterleben. Denn Kunst kann Tod und Trauer in ein Fest der Farben und Formen verwandeln. Und damit unsterblich machen. \n(Abbildung: Jan Davidsz de Heem\, 1606-1684\, Vanitas Stillleben mit Schädel Buch und Rosen\, Sammlung Nationalmuseum Stockholm)
URL:https://www.kunstbahnhofwoerthersee.at/event/bildvortrag-der-tod-in-der-kunst/
LOCATION:Kunstbahnhof Wörthersee OST\, Bahnhofplatz | ÖBB-Hausbahnsteig OST\, Velden am Wörthersee\, 9220\, Österreich
ATTACH;FMTTYPE=image/jpeg:https://www.kunstbahnhofwoerthersee.at/wp-content/uploads/Jan-Davidsz-de-Heem_1606-1684_Vanitas-Stillleben-mit-Schaedel-Buch-und-Rosen_Nationalmuseum-Stockholm.jpeg
END:VEVENT
END:VCALENDAR