BEGIN:VCALENDAR
VERSION:2.0
PRODID:-//Kunstbahnhof Wörthersee - ECPv6.2.2//NONSGML v1.0//EN
CALSCALE:GREGORIAN
METHOD:PUBLISH
X-WR-CALNAME:Kunstbahnhof Wörthersee
X-ORIGINAL-URL:https://www.kunstbahnhofwoerthersee.at
X-WR-CALDESC:Veranstaltungen für Kunstbahnhof Wörthersee
REFRESH-INTERVAL;VALUE=DURATION:PT1H
X-Robots-Tag:noindex
X-PUBLISHED-TTL:PT1H
BEGIN:VTIMEZONE
TZID:Europe/Paris
BEGIN:DAYLIGHT
TZOFFSETFROM:+0100
TZOFFSETTO:+0200
TZNAME:CEST
DTSTART:20240331T010000
END:DAYLIGHT
BEGIN:STANDARD
TZOFFSETFROM:+0200
TZOFFSETTO:+0100
TZNAME:CET
DTSTART:20241027T010000
END:STANDARD
END:VTIMEZONE
BEGIN:VEVENT
DTSTART;TZID=Europe/Paris:20240416T190000
DTEND;TZID=Europe/Paris:20240416T203000
DTSTAMP:20260425T194827
CREATED:20240405T104427Z
LAST-MODIFIED:20240405T104555Z
UID:5201-1713294000-1713299400@www.kunstbahnhofwoerthersee.at
SUMMARY:7000 Jahre Kultur – 1 Jahr Kulturhauptstadt: Bad Ischl und das Salzkammergut
DESCRIPTION:Wiederholung des Vortrags auf mehrfachen Wunsch:\nDas Jahr 2024 hat außer der Kunstbiennale in Venedig und der Pilgerschaft nach Illegio noch ein weiteres Highlight bereit: Das Salzkammergut im Kulturhauptstadtprogramm Europas.\nDer Club für Bild und Bildung lädt daher zum\nBildvortrag „7000 Jahr Kultur – 1 Jahr Kulturhauptstadt: Bad Ischl und das Salzkammergut“ mit Gerda Madl-Kren.\nBekanntlich feiert sich heuer das Salzkammergut mit seinen 23 Gemeinden und der Bannerstadt Bad Ischl als europäische Kulturhauptstadt. Unter dem griffigen Motto „kultur salzt europa“ soll die Vielfalt aus historisch verwurzelter und zeitgenössischer Kunst und Kultur dieser Region in den Fokus gestellt werden: Spannend und durchaus auch kontrovers. Weit über die gut bekannten Sehenswürdigkeiten hinaus gibt es viel ganz Neues – und ganz Altes neu interpretiert. Der Abend lädt zu einem Kulturspaziergang mit Geschichte und Geschichten zu Orten\, Menschen und zur ersten Kulturhauptstadt im inneralpinen Raum – auch als Vorbereitung für einen empfehlenswerten sommerlichen Besuch bei Veldens Nachbarn! \nWann? Dienstag\, 16. April 2024 um 19:00 Uhr\n \nWo? Kunstbahnhof Wörthersee direkt am Hausbahnsteig\nVelden am Wörthersee\, Bahnhofplatz 1 \nClubbeitrag 15 €\nAnmeldung bei Gerda unter +43 676 3205884 \n(Abbildung (Detail) Weltsalon © Thinkstock\, courtesy Kulturhauptstadt Europas Bad Ischl Salzkammergut 2024)
URL:https://www.kunstbahnhofwoerthersee.at/event/7000-jahre-kultur-1-jahr-kulturhauptstadt-bad-ischl-und-das-salzkammergut/
LOCATION:Kunstbahnhof Wörthersee OST\, Bahnhofplatz | ÖBB-Hausbahnsteig OST\, Velden am Wörthersee\, 9220\, Österreich
CATEGORIES:Öffentliche Veranstaltung
ATTACH;FMTTYPE=image/jpeg:https://www.kunstbahnhofwoerthersee.at/wp-content/uploads/Weltsalon_cut.jpg
ORGANIZER;CN="Club f%C3%BCr Bild und Bildung":MAILTO:bildundbildung@gmx.at
END:VEVENT
END:VCALENDAR