BEGIN:VCALENDAR
VERSION:2.0
PRODID:-//Kunstbahnhof Wörthersee - ECPv6.2.2//NONSGML v1.0//EN
CALSCALE:GREGORIAN
METHOD:PUBLISH
X-ORIGINAL-URL:https://www.kunstbahnhofwoerthersee.at
X-WR-CALDESC:Veranstaltungen für Kunstbahnhof Wörthersee
REFRESH-INTERVAL;VALUE=DURATION:PT1H
X-Robots-Tag:noindex
X-PUBLISHED-TTL:PT1H
BEGIN:VTIMEZONE
TZID:Europe/Paris
BEGIN:DAYLIGHT
TZOFFSETFROM:+0100
TZOFFSETTO:+0200
TZNAME:CEST
DTSTART:20240331T010000
END:DAYLIGHT
BEGIN:STANDARD
TZOFFSETFROM:+0200
TZOFFSETTO:+0100
TZNAME:CET
DTSTART:20241027T010000
END:STANDARD
END:VTIMEZONE
BEGIN:VEVENT
DTSTART;TZID=Europe/Paris:20240305T190000
DTEND;TZID=Europe/Paris:20240305T203000
DTSTAMP:20260425T213801
CREATED:20240109T135653Z
LAST-MODIFIED:20240212T184023Z
UID:4784-1709665200-1709670600@www.kunstbahnhofwoerthersee.at
SUMMARY:Erlebnis Ausstellung München: Turner – Maler des Lichts
DESCRIPTION:Der Bildvortrag von Gerda Madl-Kren regt an zu einem Rundgang durch diese stark nachgefragte Ausstellung: 1872 verstörte Claude Monet die Kunstwelt in Paris mit seinem Bild „Impression\, soleil levant“ – gemaltes Licht\, luftige Farben\, Wolken wie seidene Schleier – und die spöttische Bezeichnung der Kritiker als „Impressionismus“ wurde bekanntlich schnell zur Bezeichnung für die gesamte Stilrichtung. Aber schon Jahrzehnte vorher hat sich der Maler Joseph M. Turner in London mit den Konventionen der Gattung Landschaftsmalerei einen Namen gemacht und die Grenzen des Darstellbaren verschoben. Seine Werke lösten sich deutlich von der anschaulichen Natur: nicht mehr das Abbild der Landschaft war Thema\, sondern Farbe\, Licht und Atmosphäre. Darin verblüffte und provozierte er die Zeitgenossen\, aber inspirierte die Generation nach ihm – und heute feiern wir seine erstaunliche Modernität.\nDie aktuelle Ausstellung „Turner – Three Horizons“ im Lenbachhaus in München gibt erstmals die Gelegenheit\, das Werk Turners in seiner ganzen Breite zu erleben. Dank der Kooperation mit Tate Britain\, London\, die seinen reichen Nachlass bewahrt\, werden Turners Werdegang und seine bildnerischen Innovationen mit 40 Gemälden und 40 Aquarellen und Skizzen aus allen Schaffensphasen anschaulich nachvollziehbar. \nDienstag\, 5. März 2024 um 19:00 Uhr\nBildvortrag\, 15 Euro Clubbeitrag (Club für Bild und Bildung)\nKunstbahnhof Wörthersee\, Velden am Wörthersee\, Hausbahnsteig am Bahnhofplatz\nBeschränkte Platzzahl\, daher bitte unbedingt um Anmeldung via Tel. oder SMS 0676 3205884! \n(Abbildung: J.M.W.Turner\, The Grand Canal Venice (Detail)\, um 1835\, The Metropolitan Museum of Art\, New York\, gemeinfrei)
URL:https://www.kunstbahnhofwoerthersee.at/event/erlebnis-ausstellung-muenchen-turner-maler-des-lichts/
LOCATION:Kunstbahnhof Wörthersee OST\, Bahnhofplatz | ÖBB-Hausbahnsteig OST\, Velden am Wörthersee\, 9220\, Österreich
CATEGORIES:Öffentliche Veranstaltung
ATTACH;FMTTYPE=image/jpeg:https://www.kunstbahnhofwoerthersee.at/wp-content/uploads/Turner_J_M_W-The_Grand_Canal-Venice_gemeinfrei-web.jpg
ORGANIZER;CN="Club f%C3%BCr Bild und Bildung":MAILTO:bildundbildung@gmx.at
END:VEVENT
BEGIN:VEVENT
DTSTART;TZID=Europe/Paris:20240318T190000
DTEND;TZID=Europe/Paris:20240318T203000
DTSTAMP:20260425T213801
CREATED:20240227T134341Z
LAST-MODIFIED:20240310T153622Z
UID:5078-1710788400-1710793800@www.kunstbahnhofwoerthersee.at
SUMMARY:7000 Jahre Kultur – 1 Jahr Kulturhauptstadt: Bad Ischl und das Salzkammergut
DESCRIPTION:Das Jahr 2024 hat außer der Kunstbiennale in Venedig und der Pilgerschaft nach Illegio noch ein weiteres Highlight bereit: Das Salzkammergut im Kulturhauptstadtprogramm Europas. Der Club für Bild und Bildung lädt daher zum Bildvortrag „7000 Jahr Kultur – 1 Jahr Kulturhauptstadt: Bad Ischl und das Salzkammergut“ mit Gerda Madl-Kren.\nBekanntlich feiert sich heuer das Salzkammergut mit seinen 23 Gemeinden und der Bannerstadt Bad Ischl als europäische Kulturhauptstadt. Unter dem griffigen Motto „kultur salzt europa“ soll die Vielfalt aus historisch verwurzelter und zeitgenössischer Kunst und Kultur dieser Region in den Fokus gestellt werden: Spannend und durchaus auch kontrovers. Weit über die gut bekannten Sehenswürdigkeiten hinaus gibt es viel ganz Neues – und ganz Altes neu interpretiert. Der Abend lädt zu einem Kulturspaziergang mit Geschichte und Geschichten zu Orten\, Menschen und zur ersten Kulturhauptstadt im inneralpinen Raum – auch als Vorbereitung für einen empfehlenswerten sommerlichen Besuch bei Veldens Nachbarn! \nWann? Montag\, 18. März 2024 um 19:00 Uhr \nWo? Kunstbahnhof Wörthersee direkt am Hausbahnsteig\nVelden am Wörthersee\, Bahnhofplatz 1 \nClubbeitrag 15 €\nAnmeldung bei Gerda unter +43 676 3205884 \n(Abbildung (Detail) Weltsalon © Thinkstock\, courtesy Kulturhauptstadt Europas Bad Ischl Salzkammergut 2024)
URL:https://www.kunstbahnhofwoerthersee.at/event/kulturhauptstadt/
LOCATION:Kunstbahnhof Wörthersee OST\, Bahnhofplatz | ÖBB-Hausbahnsteig OST\, Velden am Wörthersee\, 9220\, Österreich
CATEGORIES:Öffentliche Veranstaltung
ATTACH;FMTTYPE=image/jpeg:https://www.kunstbahnhofwoerthersee.at/wp-content/uploads/Weltsalon_cut.jpg
ORGANIZER;CN="Club f%C3%BCr Bild und Bildung":MAILTO:bildundbildung@gmx.at
END:VEVENT
END:VCALENDAR