BEGIN:VCALENDAR
VERSION:2.0
PRODID:-//Kunstbahnhof Wörthersee - ECPv6.2.2//NONSGML v1.0//EN
CALSCALE:GREGORIAN
METHOD:PUBLISH
X-WR-CALNAME:Kunstbahnhof Wörthersee
X-ORIGINAL-URL:https://www.kunstbahnhofwoerthersee.at
X-WR-CALDESC:Veranstaltungen für Kunstbahnhof Wörthersee
REFRESH-INTERVAL;VALUE=DURATION:PT1H
X-Robots-Tag:noindex
X-PUBLISHED-TTL:PT1H
BEGIN:VTIMEZONE
TZID:Europe/Paris
BEGIN:DAYLIGHT
TZOFFSETFROM:+0100
TZOFFSETTO:+0200
TZNAME:CEST
DTSTART:20230326T010000
END:DAYLIGHT
BEGIN:STANDARD
TZOFFSETFROM:+0200
TZOFFSETTO:+0100
TZNAME:CET
DTSTART:20231029T010000
END:STANDARD
END:VTIMEZONE
BEGIN:VEVENT
DTSTART;TZID=Europe/Paris:20231009T190000
DTEND;TZID=Europe/Paris:20231009T203000
DTSTAMP:20260426T054644
CREATED:20230905T135625Z
LAST-MODIFIED:20230910T142658Z
UID:4256-1696878000-1696883400@www.kunstbahnhofwoerthersee.at
SUMMARY:Keine Angst vor Isegrim – Der Wolf in der Bildenden Kunst
DESCRIPTION:Der Club für Bild und Bildung lädt auf mehrfachen Wunsch ein zweites Mal zum Vortrag mit Gerda Madl-Kren am\nMontag\, 9. Oktober 2023 von 19:00 bis 20:30 Uhr\n15 Euro Clubbeitrag\nKunstbahnhof Wörthersee\, Velden am Wörthersee\, Hausbahnsteig am Bahnhofplatz\nBeschränkte Platzzahl\, daher bitte unbedingt um Anmeldung via Tel. oder SMS 0676 3205884! \nPassend zu Waldspaziergang und Wanderung laden wir zum Bildvortrag „Keine Angst vor Isegrim – Der Wolf in der Bildenden Kunst“. Derzeit gibt es ja kaum ein so kontrovers diskutiertes Tier wie den Wolf. Dabei verbindet Mensch und Wolf eine jahrtausendelange Geschichte: so eng\, dass die Menschen Wölfe domestizierten und sie zum besten Freund machten – zum Hof- und Schoßhund. Aber die Zeiten wandelten sich und bald begann für den Wolf eine Geschichte mit Widersprüchen\, wie sie uns die Bilder und Skulpturen rund um die Welt erzählen: passend zur Aktualität dieses derzeit umstrittenen Themas. \nAbbildung: Franz Marc (1880–1916)\, Die Wölfe (Balkankrieg)\, Öl auf Leinwand\, 70\,8 cm x 139\,7 cm\, 1913;\nBildquelle: Albright-Knox Art Gallery\, gemeinfrei.
URL:https://www.kunstbahnhofwoerthersee.at/event/keine-angst-vor-isegrim-der-wolf-in-der-bildenden-kunst/
LOCATION:Kunstbahnhof Wörthersee OST\, Bahnhofplatz | ÖBB-Hausbahnsteig OST\, Velden am Wörthersee\, 9220\, Österreich
CATEGORIES:Öffentliche Veranstaltung
ATTACH;FMTTYPE=image/jpeg:https://www.kunstbahnhofwoerthersee.at/wp-content/uploads/Franc-Marc-die-woelfe-Albright-Knox-Art-Gallery_gemeinfrei.jpg
ORGANIZER;CN="Club f%C3%BCr Bild und Bildung":MAILTO:bildundbildung@gmx.at
END:VEVENT
END:VCALENDAR