BEGIN:VCALENDAR
VERSION:2.0
PRODID:-//Kunstbahnhof Wörthersee - ECPv6.2.2//NONSGML v1.0//EN
CALSCALE:GREGORIAN
METHOD:PUBLISH
X-ORIGINAL-URL:https://www.kunstbahnhofwoerthersee.at
X-WR-CALDESC:Veranstaltungen für Kunstbahnhof Wörthersee
REFRESH-INTERVAL;VALUE=DURATION:PT1H
X-Robots-Tag:noindex
X-PUBLISHED-TTL:PT1H
BEGIN:VTIMEZONE
TZID:Europe/Paris
BEGIN:DAYLIGHT
TZOFFSETFROM:+0100
TZOFFSETTO:+0200
TZNAME:CEST
DTSTART:20230326T010000
END:DAYLIGHT
BEGIN:STANDARD
TZOFFSETFROM:+0200
TZOFFSETTO:+0100
TZNAME:CET
DTSTART:20231029T010000
END:STANDARD
END:VTIMEZONE
BEGIN:VEVENT
DTSTART;VALUE=DATE:20230401
DTEND;VALUE=DATE:20230403
DTSTAMP:20260425T175207
CREATED:20230206T082507Z
LAST-MODIFIED:20230206T143051Z
UID:3681-1680321600-1680407999@www.kunstbahnhofwoerthersee.at
SUMMARY:Zweiteiliger Keramik-Workshop mit Sabine Modl-Sternig
DESCRIPTION:„Verschiedene Gestaltungstechniken mit Ton kennenlernen und ausprobieren. Taucht in die kreative Atmosphäre am Kunstbahnhof Wörthersee ein und genießt das Arbeiten in einer kleinen schöpferischen Runde! Vorkenntnisse sind nicht notwendig. Die Freude am Tun ist das Wichtigste.“ \nDer zweiteilige Workshop mit Sabine Modl Sternig (Keramik-Kunsthandwerkerin | Kreativtrainerin | Mal- u. Gestaltungstherapeutin) findet an zwei Tagen statt: \n01.04.2023 | 1. Teil: Material- u. Technikkunde\, Kreativübung\, Gestaltung und Oberflächengestaltung.\n15.04.2023 | 2. Teil: Die Werke sind zum ersten Mal gebrannt\, Einführung Glasur-Techniken\, Glasieren. \n„Ob einzigartige Lieblingstassen\, Müslibowls\, Lichtschalen\, Windspiele oder Gartendeko: Beim Entstehungsprozess unterstütze ich gerne mit meinem Fachwissen. Wir arbeiten mit einfachen\, in der Wirkung effizienten Techniken (Platten- u. Aufbautechniken)\, die individuelle\, liebenswerte Werke hervorbringen. Jedes so besonders wie die Person\, die es kreiert. Material\, Werkzeug\, Gipsformen bringe ich mit\, für Pausenkaffee und Tee ist gesorgt. Ich freue mich auf euch und eure Ideen!“ \nGeschlossene Gruppengröße max. 7 Personen\nKosten für den zweiteiligen Workshop: 2 Vormittage oder 2 Nachmittage: € 120\,-\nErmäßigter Ganztagestarif (2 ganze Tage): € 220\,-\n(excl. Materialkosten\, diese betragen € 28\,-/kg für zweimal gebrannten glasierten Ton) \nZusatztermine bei Gruppengröße ab 5 Personen auf Anfrage sehr gerne möglich \nWeitere Info und Anmeldung bei Sabine Modl-Sternig\nTel 0664 5237576 | E-Mail: sabine.modl-sternig@aon.at / www.sabine-modl-sternig.com
URL:https://www.kunstbahnhofwoerthersee.at/event/zweiteiliger-keramik-workshop-mit-sabine-modl-sternig-19/
LOCATION:Kunstbahnhof Wörthersee WEST\, Bahnhofplatz | ÖBB-Hausbahnsteig WEST\, Velden am Wörthersee\, 9220\, Österreich
ATTACH;FMTTYPE=image/jpeg:https://www.kunstbahnhofwoerthersee.at/wp-content/uploads/Modl-Sternig_sommer_w.jpg
END:VEVENT
BEGIN:VEVENT
DTSTART;VALUE=DATE:20230403
DTEND;VALUE=DATE:20230405
DTSTAMP:20260425T175207
CREATED:20230303T122738Z
LAST-MODIFIED:20230303T122837Z
UID:3802-1680494400-1680580799@www.kunstbahnhofwoerthersee.at
SUMMARY:Kinderworkshop für Spiel und Spaß aus Papier und Büchern
DESCRIPTION:Papiertage sind Tage der Achtsamkeit – gönne dir dein kreatives Abenteuer der Schönheit und Nachhaltigkeit\nKinderworkshop für Spiel und Spaß aus Papier und Büchern \nJeder Mensch ist ein Papiergestalter. Bring diese Freude des Gestaltens mit Papier in dein Leben. Erﬁnde deine eigenen Spiele mit Fröschen\, Fliegen Schmetterlingen\, Marionetten und Luftverwirblern. All das wird im Workshop aus Papier und Küchenpapierrollen gefalten und gestaltet. Am Ende wird mit den Kunstwerken ein kleines Theaterstück eingeübt.\nStaunt\, was mit Papier alles möglich ist! \nMaterial\, das mitgebracht werden kann: alte Bücher\, Küchenpapier- und Klopapierrollen\, Restpapier jeder Art\, Klebstoﬀ\, Lineal\, Schere oder Cutter\, Schneideunterlage (wenn vorhanden) und gute Laune. Wer kein Papier mitbringt\, kann gegen den Unkostenbeitrag von 7 € eine Erna Wunder Papiertüte\, gefüllt mit Papier und Wundern\, erwerben und damit werken. \nKurs:\n3. April 2023 von 10:00 – 13:00 \n7. April 2023 von 10:00 – 13:00 \n24. Mai 2023 von 14:00 – 17:00 \nKurskosten: 48 € für einen Tag \nKursort: Kunstbahnhof Wörthersee\nBahnhofplatz 1 | Hausbahnsteig | 9220 Velden am Wörthersee \nGruppengröße:\nDer Kurs ﬁndet ab 4 Personen statt. Für Personen ab 7 Jahren geeignet. TeilnehmerInnen mehrerer Generationen – ab 7 Jahren bis 90+ – sind erwünscht. Wir lernen voneinander und miteinander\, daher sind auch Menschen mit Handicap willkommen. Wir freuen uns sehr\, wenn Kinder und Erwachsene gemeinsam werken. Daher sind die Papierkurse vom Alter her gemischt. \nAnmeldung bei: Sabine Wenske 0664.766 54 27\nArche Erna Wunder und Team Licht Projekt ©\nwww.ernawunder.com | arche@ernawunder.com
URL:https://www.kunstbahnhofwoerthersee.at/event/kinderworkshop-fuer-spiel-und-spass-aus-papier-und-buechern/
LOCATION:Kunstbahnhof Wörthersee OST\, Bahnhofplatz | ÖBB-Hausbahnsteig OST\, Velden am Wörthersee\, 9220\, Österreich
CATEGORIES:Öffentliche Veranstaltung
ATTACH;FMTTYPE=image/jpeg:https://www.kunstbahnhofwoerthersee.at/wp-content/uploads/bild-kinder_papier_w.jpg
END:VEVENT
BEGIN:VEVENT
DTSTART;VALUE=DATE:20230407
DTEND;VALUE=DATE:20230409
DTSTAMP:20260425T175207
CREATED:20230303T122908Z
LAST-MODIFIED:20230303T122908Z
UID:3808-1680840000-1680926399@www.kunstbahnhofwoerthersee.at
SUMMARY:Kinderworkshop für Spiel und Spaß aus Papier und Büchern
DESCRIPTION:Papiertage sind Tage der Achtsamkeit – gönne dir dein kreatives Abenteuer der Schönheit und Nachhaltigkeit\nKinderworkshop für Spiel und Spaß aus Papier und Büchern \nJeder Mensch ist ein Papiergestalter. Bring diese Freude des Gestaltens mit Papier in dein Leben. Erﬁnde deine eigenen Spiele mit Fröschen\, Fliegen Schmetterlingen\, Marionetten und Luftverwirblern. All das wird im Workshop aus Papier und Küchenpapierrollen gefalten und gestaltet. Am Ende wird mit den Kunstwerken ein kleines Theaterstück eingeübt.\nStaunt\, was mit Papier alles möglich ist! \nMaterial\, das mitgebracht werden kann: alte Bücher\, Küchenpapier- und Klopapierrollen\, Restpapier jeder Art\, Klebstoﬀ\, Lineal\, Schere oder Cutter\, Schneideunterlage (wenn vorhanden) und gute Laune. Wer kein Papier mitbringt\, kann gegen den Unkostenbeitrag von 7 € eine Erna Wunder Papiertüte\, gefüllt mit Papier und Wundern\, erwerben und damit werken. \nKurs:\n3. April 2023 von 10:00 – 13:00 \n7. April 2023 von 10:00 – 13:00 \n24. Mai 2023 von 14:00 – 17:00 \nKurskosten: 48 € für einen Tag \nKursort: Kunstbahnhof Wörthersee\nBahnhofplatz 1 | Hausbahnsteig | 9220 Velden am Wörthersee \nGruppengröße:\nDer Kurs ﬁndet ab 4 Personen statt. Für Personen ab 7 Jahren geeignet. TeilnehmerInnen mehrerer Generationen – ab 7 Jahren bis 90+ – sind erwünscht. Wir lernen voneinander und miteinander\, daher sind auch Menschen mit Handicap willkommen. Wir freuen uns sehr\, wenn Kinder und Erwachsene gemeinsam werken. Daher sind die Papierkurse vom Alter her gemischt. \nAnmeldung bei: Sabine Wenske 0664.766 54 27\nArche Erna Wunder und Team Licht Projekt ©\nwww.ernawunder.com | arche@ernawunder.com
URL:https://www.kunstbahnhofwoerthersee.at/event/kinderworkshop-fuer-spiel-und-spass-aus-papier-und-buechern-2/
LOCATION:Kunstbahnhof Wörthersee OST\, Bahnhofplatz | ÖBB-Hausbahnsteig OST\, Velden am Wörthersee\, 9220\, Österreich
CATEGORIES:Öffentliche Veranstaltung
ATTACH;FMTTYPE=image/jpeg:https://www.kunstbahnhofwoerthersee.at/wp-content/uploads/bild-kinder_papier_w.jpg
END:VEVENT
BEGIN:VEVENT
DTSTART;TZID=Europe/Paris:20230414T083000
DTEND;TZID=Europe/Paris:20230414T123000
DTSTAMP:20260425T175207
CREATED:20230209T170847Z
LAST-MODIFIED:20230309T094505Z
UID:3727-1681461000-1681475400@www.kunstbahnhofwoerthersee.at
SUMMARY:Zweiteiliger Keramik-Workshop mit Sabine Modl-Sternig
DESCRIPTION:„Verschiedene Gestaltungstechniken mit Ton kennenlernen und ausprobieren. Taucht in die kreative Atmosphäre am Kunstbahnhof Wörthersee ein und genießt das Arbeiten in einer kleinen schöpferischen Runde! Vorkenntnisse sind nicht notwendig. Die Freude am Tun ist das Wichtigste.“ \nDer zweiteilige Workshop mit Sabine Modl Sternig (Keramik-Kunsthandwerkerin | Kreativtrainerin | Mal- u. Gestaltungstherapeutin) findet an zwei Tagen statt: \n17.03.2023 | 08:30 – 12:30 | 1. Teil: Material- u. Technikkunde\, Kreativübung\, Gestaltung und Oberflächengestaltung.\n14.04.2023 | 08:30 – 12:30 |2. Teil: Die Werke sind zum ersten Mal gebrannt\, Einführung Glasur-Techniken\, Glasieren. \n„Ob einzigartige Lieblingstassen\, Müslibowls\, Lichtschalen\, Windspiele oder Gartendeko: Beim Entstehungsprozess unterstütze ich gerne mit meinem Fachwissen. Wir arbeiten mit einfachen\, in der Wirkung effizienten Techniken (Platten- u. Aufbautechniken)\, die individuelle\, liebenswerte Werke hervorbringen. Jedes so besonders wie die Person\, die es kreiert. Material\, Werkzeug\, Gipsformen bringe ich mit\, für Pausenkaffee und Tee ist gesorgt. Ich freue mich auf euch und eure Ideen!“ \nGeschlossene Gruppengröße max. 7 Personen\nKosten für den zweiteiligen Workshop: 2 Vormittage oder 2 Nachmittage: € 120\,-\nErmäßigter Ganztagestarif (2 ganze Tage): € 220\,-\n(excl. Materialkosten\, diese betragen € 28\,-/kg für zweimal gebrannten glasierten Ton) \nZusatztermine bei Gruppengröße ab 5 Personen auf Anfrage sehr gerne möglich \nWeitere Info und Anmeldung bei Sabine Modl-Sternig\nTel 0664 5237576 | E-Mail: sabine.modl-sternig@aon.at / www.sabine-modl-sternig.com
URL:https://www.kunstbahnhofwoerthersee.at/event/zweiteiliger-keramik-workshop-mit-sabine-modl-sternig-32/
LOCATION:Kunstbahnhof Wörthersee OST\, Bahnhofplatz | ÖBB-Hausbahnsteig OST\, Velden am Wörthersee\, 9220\, Österreich
ATTACH;FMTTYPE=image/jpeg:https://www.kunstbahnhofwoerthersee.at/wp-content/uploads/Modl-Sternig_sommer_w.jpg
END:VEVENT
BEGIN:VEVENT
DTSTART;VALUE=DATE:20230415
DTEND;VALUE=DATE:20230417
DTSTAMP:20260425T175207
CREATED:20230206T082653Z
LAST-MODIFIED:20230206T143206Z
UID:3683-1681531200-1681617599@www.kunstbahnhofwoerthersee.at
SUMMARY:Zweiteiliger Keramik-Workshop mit Sabine Modl-Sternig
DESCRIPTION:„Verschiedene Gestaltungstechniken mit Ton kennenlernen und ausprobieren. Taucht in die kreative Atmosphäre am Kunstbahnhof Wörthersee ein und genießt das Arbeiten in einer kleinen schöpferischen Runde! Vorkenntnisse sind nicht notwendig. Die Freude am Tun ist das Wichtigste.“ \nDer zweiteilige Workshop mit Sabine Modl Sternig (Keramik-Kunsthandwerkerin | Kreativtrainerin | Mal- u. Gestaltungstherapeutin) findet an zwei Tagen statt: \n01.04.2023 | 1. Teil: Material- u. Technikkunde\, Kreativübung\, Gestaltung und Oberflächengestaltung.\n15.04.2023 | 2. Teil: Die Werke sind zum ersten Mal gebrannt\, Einführung Glasur-Techniken\, Glasieren. \n„Ob einzigartige Lieblingstassen\, Müslibowls\, Lichtschalen\, Windspiele oder Gartendeko: Beim Entstehungsprozess unterstütze ich gerne mit meinem Fachwissen. Wir arbeiten mit einfachen\, in der Wirkung effizienten Techniken (Platten- u. Aufbautechniken)\, die individuelle\, liebenswerte Werke hervorbringen. Jedes so besonders wie die Person\, die es kreiert. Material\, Werkzeug\, Gipsformen bringe ich mit\, für Pausenkaffee und Tee ist gesorgt. Ich freue mich auf euch und eure Ideen!“ \nGeschlossene Gruppengröße max. 7 Personen\nKosten für den zweiteiligen Workshop: 2 Vormittage oder 2 Nachmittage: € 120\,-\nErmäßigter Ganztagestarif (2 ganze Tage): € 220\,-\n(excl. Materialkosten\, diese betragen € 28\,-/kg für zweimal gebrannten glasierten Ton) \nZusatztermine bei Gruppengröße ab 5 Personen auf Anfrage sehr gerne möglich \nWeitere Info und Anmeldung bei Sabine Modl-Sternig\nTel 0664 5237576 | E-Mail: sabine.modl-sternig@aon.at / www.sabine-modl-sternig.com
URL:https://www.kunstbahnhofwoerthersee.at/event/zweiteiliger-keramik-workshop-mit-sabine-modl-sternig-20/
LOCATION:Kunstbahnhof Wörthersee OST\, Bahnhofplatz | ÖBB-Hausbahnsteig OST\, Velden am Wörthersee\, 9220\, Österreich
ATTACH;FMTTYPE=image/jpeg:https://www.kunstbahnhofwoerthersee.at/wp-content/uploads/Modl-Sternig_sommer_w.jpg
END:VEVENT
BEGIN:VEVENT
DTSTART;VALUE=DATE:20230422
DTEND;VALUE=DATE:20230424
DTSTAMP:20260425T175207
CREATED:20230303T124047Z
LAST-MODIFIED:20230303T124047Z
UID:3812-1682136000-1682222399@www.kunstbahnhofwoerthersee.at
SUMMARY:Blumenworkshop aus Papier und alten Büchern
DESCRIPTION:Papiertage sind Tage der Achtsamkeit – gönne dir dein kreatives Abenteuer der Schönheit und Nachhaltigkeit\nBlumenworkshop aus Papier und alten Büchern \nJeder Mensch ist ein Papiergestalter. Bring diese Freude des Gestaltens mit Papier in dein Leben. Gestalte mit Mutter Erde deine eigene kreative Raum- und Tischdekoration für Muttertag\, Hochzeiten und weitere feierliche Anlässe. Bring die Schönheit der Natur mit in den Workshop und gestalte Blumen\, Herzen\, Geschenke\, Karten und Dekorationen aus Papier und alten Büchern für dein neues Wohn- und Lebensgefühl.\nStaunt\, was mit Papier alles möglich ist! \nMaterial\, das mitgebracht werden kann: alte Bücher\, Küchenpapier- und Klopapierrollen\, Restpapier jeder Art\, Klebstoﬀ\, Lineal\, Schere oder Cutter\, Schneideunterlage (wenn vorhanden) und gute Laune. Wer kein Papier mitbringt\, kann gegen den Unkostenbeitrag von 7 € eine Erna Wunder Papiertüte\, gefüllt mit Papier und Wundern\, erwerben und damit werken. \nKurs:\n22. April 2023 von 10:00 bis 14:00 \n5. Mai 2023 von 18:00 bis 21:00 \nKurskosten: 48 € für einen Tag \nKursort: Kunstbahnhof Wörthersee\nBahnhofplatz 1 | Hausbahnsteig | 9220 Velden am Wörthersee \nGruppengröße:\nDer Kurs ﬁndet ab 4 Personen statt. Für Personen ab 7 Jahren geeignet. TeilnehmerInnen mehrerer Generationen – ab 7 Jahren bis 90+ – sind erwünscht. Wir lernen voneinander und miteinander\, daher sind auch Menschen mit Handicap willkommen. Wir freuen uns sehr\, wenn Kinder und Erwachsene gemeinsam werken. Daher sind die Papierkurse vom Alter her gemischt. \nAnmeldung bei: Sabine Wenske 0664.766 54 27\nArche Erna Wunder und Team Licht Projekt ©\nwww.ernawunder.com | arche@ernawunder.com
URL:https://www.kunstbahnhofwoerthersee.at/event/blumenworkshop-aus-papier-und-alten-buechern/
LOCATION:Kunstbahnhof Wörthersee OST\, Bahnhofplatz | ÖBB-Hausbahnsteig OST\, Velden am Wörthersee\, 9220\, Österreich
CATEGORIES:Öffentliche Veranstaltung
ATTACH;FMTTYPE=image/jpeg:https://www.kunstbahnhofwoerthersee.at/wp-content/uploads/blumen-banner_web-scaled.jpg
END:VEVENT
BEGIN:VEVENT
DTSTART;TZID=Europe/Paris:20230429T080000
DTEND;TZID=Europe/Paris:20230429T120000
DTSTAMP:20260425T175207
CREATED:20230305T114842Z
LAST-MODIFIED:20230305T114842Z
UID:3824-1682755200-1682769600@www.kunstbahnhofwoerthersee.at
SUMMARY:Repair Café Velden
DESCRIPTION:Das Repair Café in Velden am Wörthersee ist am Samstag\, 29. April 2023 von 8 bis 12:00 Uhr geöffnet: „Du kommst mit deinem kaputten Gerät vorbei _ Entweder du kannst es selbst mit unserem Werkzeug vor Ort reparieren _ Oder wir geben dir Anleitung und helfen gerne _ Das Ganze in angenehmer Atmosphäre mit Café- und Workshopcharakter bei freiwilliger Spende!“ \nDu hättest gerne mehr Information über das Repair Café? Schau auf die internationale Webseite Repaircafe.org oder stelle deine Fragen an Klaus Zerche unter zerche@a1.net oder Tel 0664-3868666. Anmelden als ehrenamtliche/r Helfer/in? Sende eine E-Mail an zerche@a1.net.\nBis dann im Repair Café! \n 
URL:https://www.kunstbahnhofwoerthersee.at/event/repair-cafe-velden-22/
LOCATION:Kunstbahnhof Wörthersee WEST\, Bahnhofplatz | ÖBB-Hausbahnsteig WEST\, Velden am Wörthersee\, 9220\, Österreich
CATEGORIES:Öffentliche Veranstaltung
ATTACH;FMTTYPE=image/jpeg:https://www.kunstbahnhofwoerthersee.at/wp-content/uploads/RC-Logo-Velden_neu_w.jpg
END:VEVENT
END:VCALENDAR