BEGIN:VCALENDAR
VERSION:2.0
PRODID:-//Kunstbahnhof Wörthersee - ECPv6.2.2//NONSGML v1.0//EN
CALSCALE:GREGORIAN
METHOD:PUBLISH
X-ORIGINAL-URL:https://www.kunstbahnhofwoerthersee.at
X-WR-CALDESC:Veranstaltungen für Kunstbahnhof Wörthersee
REFRESH-INTERVAL;VALUE=DURATION:PT1H
X-Robots-Tag:noindex
X-PUBLISHED-TTL:PT1H
BEGIN:VTIMEZONE
TZID:Europe/Paris
BEGIN:DAYLIGHT
TZOFFSETFROM:+0100
TZOFFSETTO:+0200
TZNAME:CEST
DTSTART:20230326T010000
END:DAYLIGHT
BEGIN:STANDARD
TZOFFSETFROM:+0200
TZOFFSETTO:+0100
TZNAME:CET
DTSTART:20231029T010000
END:STANDARD
END:VTIMEZONE
BEGIN:VEVENT
DTSTART;TZID=Europe/Paris:20230311T090000
DTEND;TZID=Europe/Paris:20230311T160000
DTSTAMP:20260425T193940
CREATED:20230215T094123Z
LAST-MODIFIED:20230307T083053Z
UID:3757-1678525200-1678550400@www.kunstbahnhofwoerthersee.at
SUMMARY:Workshop | Körper und Sexualität
DESCRIPTION:! Aus gesundheitlichen Gründen abgesagt – wir bitten um Verständnis !\nWorkshop zum Thema „Sexualpädagogische Begleitung“\nSprechen über den Körper und Sexualität\nWie kann sexuelle Aufklärung personen- und altersgerecht und auch mit Menschen mit Beeinträchtigung gelingen?\nUmgang mit sexualisierter Sprache und Pornokonsum\nSamstag\, 11. März 2023 von 9 bis 16 Uhr\nKunstbahnhof Wörthersee am Veldner Hausbahnsteig Ost \nWie passt unsere sexualisierte Gesellschaft mit unseren sexuellen Bildungskompetenzen zusammen? Was müssen Kinder und Jugendliche in welchem Alter wissen? Wie reagiert man auf neugierige Fragen? Wie kann man Gespräche altersgerecht gestalten und adäquat auf Fragen reagieren? Funktioniert Aufklärungsarbeit und sexualpädagogische Begleitung für Menschen mit Beeinträchtigung und Behinderung anders?\nAufklärung ist Menschenschutz! Denn obwohl es in unserer Gesellschaft mittlerweile zu allen erdenklichen Themen Informationen und Weiterbildungen gibt\, passieren immer noch viel zu viele unschöne Dinge. In diesem Seminar bekommen Sie Antworten und Werkzeuge um in Zukunft unaufgeregt und kompetent mit diesem Thema umzugehen.\nZielgruppe der Veranstaltung: Berufsgruppen\, welche mit Kindern\, Jugendlichen und Menschen mit Beeinträchtigung arbeiten\, sowie Eltern und Angehörige\nVortragende: Barbara Jäger-Schäfer\, Dipl. Sexualpädagogin und Coach für Kinder\, Jugendliche und Erwachsene \nKosten: 130.- Euro (mit Getränken und Snack)\nAnmeldung bei Birgit Bodlaj\, Mobil: 0680-1559745 oder Mail: birgit.bodlaj@yahoo.com\nDie Veranstaltung kann nach dem jeweiligen Fortbildungsgesetz angerechnet werden.
URL:https://www.kunstbahnhofwoerthersee.at/event/workshop-koerper-und-sexualitaet/
LOCATION:Kunstbahnhof Wörthersee OST\, Bahnhofplatz | ÖBB-Hausbahnsteig OST\, Velden am Wörthersee\, 9220\, Österreich
CATEGORIES:Öffentliche Veranstaltung
ATTACH;FMTTYPE=image/jpeg:https://www.kunstbahnhofwoerthersee.at/wp-content/uploads/Bild-Workshop-Birgit-Bodlaj-Banner-breit.jpg
END:VEVENT
BEGIN:VEVENT
DTSTART;VALUE=DATE:20230316
DTEND;VALUE=DATE:20230318
DTSTAMP:20260425T193940
CREATED:20230216T082300Z
LAST-MODIFIED:20230314T111920Z
UID:3768-1678939200-1679025599@www.kunstbahnhofwoerthersee.at
SUMMARY:Workshop für Frühlings- und Osterdekoration aus Papier und Büchern
DESCRIPTION:Papiertage sind Tage der Achtsamkeit – gönnen Sie sich ein kreatives Abenteuer der Schönheit und Nachhaltigkeit\nWorkshop für Frühlings- und Osterdekoration aus Papier und Büchern \nJeder Mensch ist ein Papiergestalter. Schon als Kinder falteten wir Flieger\, Hüte oder Schiﬀchen. Bringen wir diese Freude des Gestaltens mit Papier wieder in unser Leben. Wunderschöne Blüten\, Schalen\, Kränze\, Osternester mit Eiern und Hasen oder Hänger für den Osterstrauß lassen sich aus alten Büchern\, dem Restpapier\, Küchenpapier- und Klopapierrollen\, alten Zeitungen\, Eierkartons und sonstigen Verpackungen herstellen. Staunen Sie\, was mit Papier alles möglich ist. \nMaterial\, das mitgebracht werden kann: alte Bücher\, Zeitungen oder Magazine\, Küchenpapier- und Klopapierrollen\, Restpapier jeder Art\, Klebstoﬀ\, Lineal\, Schere oder Cutter\, Schneideunterlage (wenn vorhanden) und gute Laune. Wer kein Papier mitbringt\, kann gegen den Unkostenbeitrag von 7 € eine Erna Wunder Papiertüte\, gefüllt mit Papier und Wundern\, erwerben und damit werken. \nKurs:\n16. März 2023 von 18:00 – 21:00\n27. März 2023 von 18:00 – 21:00 \nKurskosten: 48 € für einen Tag \nKursort: Kunstbahnhof Wörthersee\nBahnhofplatz 1 | Hausbahnsteig | 9220 Velden am Wörthersee \nGruppengröße:\nDer Kurs ﬁndet ab 4 Personen statt. Für Personen ab 7 Jahren geeignet. TeilnehmerInnen mehrerer Generationen – ab 7 Jahren bis 90+ – sind erwünscht. Wir lernen voneinander und miteinander\, daher sind auch Menschen mit Handicap willkommen. Wir freuen uns sehr\, wenn Kinder und Erwachsene gemeinsam werken. Daher sind die Papierkurse vom Alter her gemischt. \nAnmeldung bei: Sabine Wenske 0664.766 54 27\nArche Erna Wunder und Team Licht Projekt ©\nwww.ernawunder.com | arche@ernawunder.com
URL:https://www.kunstbahnhofwoerthersee.at/event/papier-workshop/
LOCATION:Kunstbahnhof Wörthersee WEST\, Bahnhofplatz | ÖBB-Hausbahnsteig WEST\, Velden am Wörthersee\, 9220\, Österreich
CATEGORIES:Öffentliche Veranstaltung
ATTACH;FMTTYPE=image/jpeg:https://www.kunstbahnhofwoerthersee.at/wp-content/uploads/ostern-bild_2-ostern_w.jpg
END:VEVENT
BEGIN:VEVENT
DTSTART;TZID=Europe/Paris:20230317T083000
DTEND;TZID=Europe/Paris:20230317T123000
DTSTAMP:20260425T193940
CREATED:20230209T170738Z
LAST-MODIFIED:20231218T113515Z
UID:3725-1679041800-1679056200@www.kunstbahnhofwoerthersee.at
SUMMARY:Zweiteiliger Keramik-Workshop mit Sabine Modl-Sternig
DESCRIPTION:„Verschiedene Gestaltungstechniken mit Ton kennenlernen und ausprobieren. Taucht in die kreative Atmosphäre am Kunstbahnhof Wörthersee ein und genießt das Arbeiten in einer kleinen schöpferischen Runde! Vorkenntnisse sind nicht notwendig. Die Freude am Tun ist das Wichtigste.“ \nDer zweiteilige Workshop mit Sabine Modl Sternig (Keramik-Kunsthandwerkerin | Kreativtrainerin | Mal- u. Gestaltungstherapeutin) findet an zwei Tagen statt: \n17.03.2023 | 08:30 – 12:30 | 1. Teil: Material- u. Technikkunde\, Kreativübung\, Gestaltung und Oberflächengestaltung.\n14.04.2023 | 08:30 – 12:30 | 2. Teil: Die Werke sind zum ersten Mal gebrannt\, Einführung Glasur-Techniken\, Glasieren. \n„Ob einzigartige Lieblingstassen\, Müslibowls\, Lichtschalen\, Windspiele oder Gartendeko: Beim Entstehungsprozess unterstütze ich gerne mit meinem Fachwissen. Wir arbeiten mit einfachen\, in der Wirkung effizienten Techniken (Platten- u. Aufbautechniken)\, die individuelle\, liebenswerte Werke hervorbringen. Jedes so besonders wie die Person\, die es kreiert. Material\, Werkzeug\, Gipsformen bringe ich mit\, für Pausenkaffee und Tee ist gesorgt. Ich freue mich auf euch und eure Ideen!“ \nGeschlossene Gruppengröße max. 7 Personen\nKosten für den zweiteiligen Workshop: 2 Vormittage oder 2 Nachmittage: € 120\,-\nErmäßigter Ganztagestarif (2 ganze Tage): € 220\,-\n(excl. Materialkosten\, diese betragen € 28\,-/kg für zweimal gebrannten glasierten Ton) \nZusatztermine bei Gruppengröße ab 5 Personen auf Anfrage sehr gerne möglich \nWeitere Info und Anmeldung bei Sabine Modl-Sternig\nTel 0664 5237576 | E-Mail: sabine.modl-sternig@aon.at / www.sabine-modl-sternig.com
URL:https://www.kunstbahnhofwoerthersee.at/event/zweiteiliger-keramik-workshop-mit-sabine-modl-sternig-31/
LOCATION:Kunstbahnhof Wörthersee OST\, Bahnhofplatz | ÖBB-Hausbahnsteig OST\, Velden am Wörthersee\, 9220\, Österreich
ATTACH;FMTTYPE=image/jpeg:https://www.kunstbahnhofwoerthersee.at/wp-content/uploads/Modl-Sternig_sommer_w.jpg
END:VEVENT
BEGIN:VEVENT
DTSTART;TZID=Europe/Paris:20230325T080000
DTEND;TZID=Europe/Paris:20230325T120000
DTSTAMP:20260425T193940
CREATED:20230305T114653Z
LAST-MODIFIED:20230305T114653Z
UID:3822-1679731200-1679745600@www.kunstbahnhofwoerthersee.at
SUMMARY:Repair Café Velden
DESCRIPTION:Das Repair Café in Velden am Wörthersee ist am Samstag\, 25. März 2023 von 8 bis 12:00 Uhr geöffnet: „Du kommst mit deinem kaputten Gerät vorbei _ Entweder du kannst es selbst mit unserem Werkzeug vor Ort reparieren _ Oder wir geben dir Anleitung und helfen gerne _ Das Ganze in angenehmer Atmosphäre mit Café- und Workshopcharakter bei freiwilliger Spende!“ \nDu hättest gerne mehr Information über das Repair Café? Schau auf die internationale Webseite Repaircafe.org oder stelle deine Fragen an Klaus Zerche unter zerche@a1.net oder Tel 0664-3868666. Anmelden als ehrenamtliche/r Helfer/in? Sende eine E-Mail an zerche@a1.net.\nBis dann im Repair Café! \n 
URL:https://www.kunstbahnhofwoerthersee.at/event/repair-cafe-velden-21/
LOCATION:Kunstbahnhof Wörthersee WEST\, Bahnhofplatz | ÖBB-Hausbahnsteig WEST\, Velden am Wörthersee\, 9220\, Österreich
CATEGORIES:Öffentliche Veranstaltung
ATTACH;FMTTYPE=image/jpeg:https://www.kunstbahnhofwoerthersee.at/wp-content/uploads/RC-Logo-Velden_neu_w.jpg
END:VEVENT
BEGIN:VEVENT
DTSTART;VALUE=DATE:20230327
DTEND;VALUE=DATE:20230329
DTSTAMP:20260425T193940
CREATED:20230303T121421Z
LAST-MODIFIED:20230303T122559Z
UID:3800-1679889600-1679975999@www.kunstbahnhofwoerthersee.at
SUMMARY:Workshop für Frühlings- und Osterdekoration aus Papier und Büchern
DESCRIPTION:Papiertage sind Tage der Achtsamkeit – gönnen Sie sich ein kreatives Abenteuer der Schönheit und Nachhaltigkeit\nWorkshop für Frühlings- und Osterdekoration aus Papier und Büchern \nJeder Mensch ist ein Papiergestalter. Schon als Kinder falteten wir Flieger\, Hüte oder Schiﬀchen. Bringen wir diese Freude des Gestaltens mit Papier wieder in unser Leben. Wunderschöne Blüten\, Schalen\, Kränze\, Osternester mit Eiern und Hasen oder Hänger für den Osterstrauß lassen sich aus alten Büchern\, dem Restpapier\, Küchenpapier- und Klopapierrollen\, alten Zeitungen\, Eierkartons und sonstigen Verpackungen herstellen. Staunen Sie\, was mit Papier alles möglich ist. \nMaterial\, das mitgebracht werden kann: alte Bücher\, Zeitungen oder Magazine\, Küchenpapier- und Klopapierrollen\, Restpapier jeder Art\, Klebstoﬀ\, Lineal\, Schere oder Cutter\, Schneideunterlage (wenn vorhanden) und gute Laune. Wer kein Papier mitbringt\, kann gegen den Unkostenbeitrag von 7 € eine Erna Wunder Papiertüte\, gefüllt mit Papier und Wundern\, erwerben und damit werken. \nKurs:\n16. März 2023 von 18:00 – 21:00\n27. März 2023 von 18:00 – 21:00 \nKurskosten: 48 € für einen Tag \nKursort: Kunstbahnhof Wörthersee\nBahnhofplatz 1 | Hausbahnsteig | 9220 Velden am Wörthersee \nGruppengröße:\nDer Kurs ﬁndet ab 4 Personen statt. Für Personen ab 7 Jahren geeignet. TeilnehmerInnen mehrerer Generationen – ab 7 Jahren bis 90+ – sind erwünscht. Wir lernen voneinander und miteinander\, daher sind auch Menschen mit Handicap willkommen. Wir freuen uns sehr\, wenn Kinder und Erwachsene gemeinsam werken. Daher sind die Papierkurse vom Alter her gemischt. \nAnmeldung bei: Sabine Wenske 0664.766 54 27\nArche Erna Wunder und Team Licht Projekt ©\nwww.ernawunder.com | arche@ernawunder.com
URL:https://www.kunstbahnhofwoerthersee.at/event/workshop-fuer-fruehlings-und-osterdekoration-aus-papier-und-buechern/
LOCATION:Kunstbahnhof Wörthersee OST\, Bahnhofplatz | ÖBB-Hausbahnsteig OST\, Velden am Wörthersee\, 9220\, Österreich
CATEGORIES:Öffentliche Veranstaltung
ATTACH;FMTTYPE=image/jpeg:https://www.kunstbahnhofwoerthersee.at/wp-content/uploads/ostern-bild_2-ostern_w.jpg
END:VEVENT
END:VCALENDAR