BEGIN:VCALENDAR
VERSION:2.0
PRODID:-//Kunstbahnhof Wörthersee - ECPv6.2.2//NONSGML v1.0//EN
CALSCALE:GREGORIAN
METHOD:PUBLISH
X-WR-CALNAME:Kunstbahnhof Wörthersee
X-ORIGINAL-URL:https://www.kunstbahnhofwoerthersee.at
X-WR-CALDESC:Veranstaltungen für Kunstbahnhof Wörthersee
REFRESH-INTERVAL;VALUE=DURATION:PT1H
X-Robots-Tag:noindex
X-PUBLISHED-TTL:PT1H
BEGIN:VTIMEZONE
TZID:Europe/Paris
BEGIN:DAYLIGHT
TZOFFSETFROM:+0100
TZOFFSETTO:+0200
TZNAME:CEST
DTSTART:20220327T010000
END:DAYLIGHT
BEGIN:STANDARD
TZOFFSETFROM:+0200
TZOFFSETTO:+0100
TZNAME:CET
DTSTART:20221030T010000
END:STANDARD
END:VTIMEZONE
BEGIN:VEVENT
DTSTART;TZID=Europe/Paris:20221109T190000
DTEND;TZID=Europe/Paris:20221109T203000
DTSTAMP:20260425T013103
CREATED:20220807T153609Z
LAST-MODIFIED:20220821T171557Z
UID:3293-1668020400-1668025800@www.kunstbahnhofwoerthersee.at
SUMMARY:Literarischer Krimi-Abend mit Christina Jonke
DESCRIPTION:Christina Jonke liest im Rahmen der Reihe „curated by_station“ aus ihrem Krimi\n„Wem die blaue Stunde schlägt“\nMittwoch\, 9. November 2022 um 19 Uhr\nBitte um Anmeldung (office@kunstbahnhofwoerthersee.at oder 0664-9262926) für Sitzplatzreservierungen\, danke!\nEintritt: Freiwilliger Wertschätzungsbeitrag\n \nWann ist eine Kopie eine Fälschung und ist das Grund genug\, dass man dem Künstler oder gar dem Galeristen nach dem Leben trachtet? Die schlagfertige Kriminalinspektorin Maja Moro muss sich aber nicht nur der Antwort auf diese knifflige Frage stellen sondern hat zudem noch vor einem grundgrantigen Chef zu bestehen… \n„Wem die blaue Stunde schlägt“ ist ein Kärnten-Krimi\, erschienen 2022 bei Morawa (print & eBook). \nDie Krimis von Christina Jonke begeben sich auf Spurensuche des allzu Menschlichen. Verrat\, Betrug\, Eifersucht und verkorkste Lebens- und Liebesgeschichten sind die Würze für Leidenschaften und ausufernde Emotionen. Die Romane lesen sich leicht und unterhaltsam\, verspricht die Autorin\, die das auch gerne bei Lesungen unter Beweis stellt.\nChristina Jonke lebt und arbeitet in Klagenfurt\, viele ihrer Theaterstücke wurden bereits im gesamten deutschsprachigen Raum gezeigt. \nWeitere Infos auf www.jonkeonline.at | Kontakt: office@jonkeonline.at oder 0676 3023675\n(Foto Christina Jonke im Banner von Werner Ressi)
URL:https://www.kunstbahnhofwoerthersee.at/event/literarischer-krimi-abend-mit-christina-jonke-2/
LOCATION:Kunstbahnhof Wörthersee OST\, Bahnhofplatz | ÖBB-Hausbahnsteig OST\, Velden am Wörthersee\, 9220\, Österreich
CATEGORIES:curated by_station,Öffentliche Veranstaltung
ATTACH;FMTTYPE=image/jpeg:https://www.kunstbahnhofwoerthersee.at/wp-content/uploads/Banner-Christina-Jonke_w.jpg
ORGANIZER;CN="Kunstbahnhof W%C3%B6rthersee":MAILTO:office@kunstbahnhofwoerthersee.at
END:VEVENT
BEGIN:VEVENT
DTSTART;TZID=Europe/Paris:20221126T190000
DTEND;TZID=Europe/Paris:20221126T203000
DTSTAMP:20260425T013103
CREATED:20221031T113410Z
LAST-MODIFIED:20221118T110642Z
UID:3432-1669489200-1669494600@www.kunstbahnhofwoerthersee.at
SUMMARY:VADA Theatervorstellung – WÖRT(H)ERSEEle / BESEDuh
DESCRIPTION:Schauspiel & Figurentheater von VADA nach “Pontypool Changes Everything” von Tony Burgess am \n\n\nSamstag\, 26. November 2022 um 19 Uhr\nWÖRT(H)ERSEEle / BESEDuh\nReservierung erforderlich unter 0664-9262926 oder office@kunstbahnhofwoerthersee.at\nEintritt frei – Spenden willkommen\n\nDie hippe DJane Sonja Krištof ist aus Wien in ihre alte Heimat Kärnten/Koroška zurückgekehrt\, wo sie sich beim kleinen Provinzsender Radio Beseda verdingt. Sie müht sich durch einen langweiligen Arbeitstag zwischen Wetterbericht und Geburtstagsgrüßen. Plötzlich häufen sich mysteriöse Meldungen über orientierungslose Menschen\, die wirres Zeug reden\, über gewalttätige Aufstände und über Zombies\, die sich gegenseitig auffressen. Niemand will oder kann diese Nachrichten offiziell bestätigen und der Polizeinotruf ist besetzt.\nKann die Polizei besetzt sein?\n… der französische Philosoph Roland Barthes sagte einmal\, ein Trauma sei ein Nachrichtenfoto ohne Bildtext und das\, Leute\, ist\, was ich denke\, wir hier haben … \n\n* Mit Yulia Izmaylova\, Tea Kovše\, Yves Brägger\, Felix Strasser\n* und den Stimmen von Boris Randzio\, Lara Vouk und Adam Zott\n* Puppenbau und -animation: Tea Kovše\n* Bühnenbild: Kamran Gharabaghi\n* Eine Produktion von VADA in Kooperation mit Gledališče DELA\n* Die Bearbeitung und Aufführung erfolgt mit freundlicher Genehmigung von Tony Burgess\nwww.vada.cc\n\nBitte die am Veranstaltungstag gültigen Corona-Regeln einhalten – danke!
URL:https://www.kunstbahnhofwoerthersee.at/event/vada-theatervorstellung-woertherseele-beseduh/
LOCATION:Kunstbahnhof Wörthersee WEST\, Bahnhofplatz | ÖBB-Hausbahnsteig WEST\, Velden am Wörthersee\, 9220\, Österreich
CATEGORIES:curated by_station,Öffentliche Veranstaltung
ATTACH;FMTTYPE=image/jpeg:https://www.kunstbahnhofwoerthersee.at/wp-content/uploads/vada-woerterseele1-e1631986527693.jpg
ORGANIZER;CN="Kunstbahnhof W%C3%B6rthersee":MAILTO:office@kunstbahnhofwoerthersee.at
END:VEVENT
END:VCALENDAR