BEGIN:VCALENDAR
VERSION:2.0
PRODID:-//Kunstbahnhof Wörthersee - ECPv6.2.2//NONSGML v1.0//EN
CALSCALE:GREGORIAN
METHOD:PUBLISH
X-WR-CALNAME:Kunstbahnhof Wörthersee
X-ORIGINAL-URL:https://www.kunstbahnhofwoerthersee.at
X-WR-CALDESC:Veranstaltungen für Kunstbahnhof Wörthersee
REFRESH-INTERVAL;VALUE=DURATION:PT1H
X-Robots-Tag:noindex
X-PUBLISHED-TTL:PT1H
BEGIN:VTIMEZONE
TZID:Europe/Paris
BEGIN:DAYLIGHT
TZOFFSETFROM:+0100
TZOFFSETTO:+0200
TZNAME:CEST
DTSTART:20220327T010000
END:DAYLIGHT
BEGIN:STANDARD
TZOFFSETFROM:+0200
TZOFFSETTO:+0100
TZNAME:CET
DTSTART:20221030T010000
END:STANDARD
END:VTIMEZONE
BEGIN:VEVENT
DTSTART;VALUE=DATE:20221001
DTEND;VALUE=DATE:20221003
DTSTAMP:20260426T035746
CREATED:20220209T100726Z
LAST-MODIFIED:20220209T102812Z
UID:2832-1664596800-1664683199@www.kunstbahnhofwoerthersee.at
SUMMARY:Zweiteiliger Keramik-Workshop mit Sabine Modl-Sternig
DESCRIPTION:„Verschiedene Gestaltungstechniken mit Ton kennenlernen und ausprobieren. Taucht in die kreative Atmosphäre am Kunstbahnhof Wörthersee ein und genießt das Arbeiten in einer kleinen schöpferischen Runde! Vorkenntnisse sind nicht notwendig. Die Freude am Tun ist das Wichtigste.“ \nDer zweiteilige Workshop mit Sabine Modl Sternig (Keramik-Kunsthandwerkerin | Kreativtrainerin | Mal- u. Gestaltungstherapeutin) findet immer am Samstag\, wahlweise am Vormittag von 8:30-12:30 und (mit genügend Teilnehmenden) auch am Nachmittag von 14:30-18:30 statt. Der ganze Tag ist ebenfalls möglich\, zur Einführung gibt es dafür einen ermäßigten Preis! \n01.10.2022 | 1. Teil: Material- u. Technikkunde\, Kreativübung\, Gestaltung und Oberflächengestaltung.\n15.10.2022 | 2. Teil: Die Werke sind zum ersten Mal gebrannt\, Einführung Glasur-Techniken\, Glasieren. \n„Die kommende Adventzeit mit selbstgemachten Werken aus Keramik verschönern. Ob stimmungsvolle Lichtschalen\, Duftlampen\, Sterne\, Engel\, Baumschmuck fürs gemütliche Zuhause oder liebevoll gestaltete Geschenke. Einzigartige Lieblingstassen\, Müslibowls oder Lichtschalen: Beim Entstehungsprozess unterstütze ich gerne mit meinem Fachwissen. Wir arbeiten mit einfachen\, in der Wirkung effizienten Techniken (Platten- u. Aufbautechniken)\, die individuelle\, liebenswerte Werke hervorbringen. Jedes so besonders wie die Person\, die es kreiert. Material\, Werkzeug\, Gipsformen bringe ich mit\, für Pausenkaffee und Tee ist gesorgt. Ich freue mich auf euch und eure Ideen!“ \nGeschlossene Gruppengröße max. 7 Personen\nKosten für zweiteiligen Workshop: 2 Vormittage oder 2 Nachmittage: € 85\,-\nErmäßigter Ganztagestarif (2 ganzeTage): € 160\,-\n(excl. Materialkosten\, diese betragen € 20\,-/kg für zweimal gebrannte glasierte Keramik) \nBitte um Anmeldung und Einhaltung der Covid-19-Regelungen vor Ort\, danke!\nAnfragen und Anmeldung bei Sabine Modl-Sternig | Tel 0664 5237576 | E-Mail: sabine.modl-sternig@aon.at / www.sabine-modl-sternig.com
URL:https://www.kunstbahnhofwoerthersee.at/event/zweiteiliger-keramik-workshop-mit-sabine-modl-sternig-11/
LOCATION:Kunstbahnhof Wörthersee WEST\, Bahnhofplatz | ÖBB-Hausbahnsteig WEST\, Velden am Wörthersee\, 9220\, Österreich
CATEGORIES:Öffentliche Veranstaltung
END:VEVENT
BEGIN:VEVENT
DTSTART;VALUE=DATE:20221008
DTEND;VALUE=DATE:20221010
DTSTAMP:20260426T035746
CREATED:20220919T090403Z
LAST-MODIFIED:20221006T143535Z
UID:3357-1665201600-1665287999@www.kunstbahnhofwoerthersee.at
SUMMARY:Kräuterworkshop mit Madeleine und Monika - übersiedelt
DESCRIPTION:Am Samstag\, 8. Oktober 2022 von 9 bis 14 Uhr\nladen Madeleine Legnar und Monika Vielgut zu einem Kräuterworkshop in den Kunstbahnhof Wörthersee West (ehemaliges Bahnhofsrestaurant) am Veldner Hausbahnsteig.\nORTSWECHSEL: Aufgrund der sonnig warmen Wetterlage findet der Workshop in der Keltenweg Rosegg statt!\nNähere Informationen bei Madeleine Legnar: Tel. 0664-4867684
URL:https://www.kunstbahnhofwoerthersee.at/event/kunstbahnhof-belegt-27/
CATEGORIES:Öffentliche Veranstaltung
ATTACH;FMTTYPE=image/jpeg:https://www.kunstbahnhofwoerthersee.at/wp-content/uploads/legnar-cut.jpg
END:VEVENT
BEGIN:VEVENT
DTSTART;VALUE=DATE:20221015
DTEND;VALUE=DATE:20221017
DTSTAMP:20260426T035746
CREATED:20220209T100810Z
LAST-MODIFIED:20220209T102824Z
UID:2834-1665806400-1665892799@www.kunstbahnhofwoerthersee.at
SUMMARY:Zweiteiliger Keramik-Workshop mit Sabine Modl-Sternig
DESCRIPTION:„Verschiedene Gestaltungstechniken mit Ton kennenlernen und ausprobieren. Taucht in die kreative Atmosphäre am Kunstbahnhof Wörthersee ein und genießt das Arbeiten in einer kleinen schöpferischen Runde! Vorkenntnisse sind nicht notwendig. Die Freude am Tun ist das Wichtigste.“ \nDer zweiteilige Workshop mit Sabine Modl Sternig (Keramik-Kunsthandwerkerin | Kreativtrainerin | Mal- u. Gestaltungstherapeutin) findet immer am Samstag\, wahlweise am Vormittag von 8:30-12:30 und (mit genügend Teilnehmenden) auch am Nachmittag von 14:30-18:30 statt. Der ganze Tag ist ebenfalls möglich\, zur Einführung gibt es dafür einen ermäßigten Preis! \n01.10.2022 | 1. Teil: Material- u. Technikkunde\, Kreativübung\, Gestaltung und Oberflächengestaltung.\n15.10.2022 | 2. Teil: Die Werke sind zum ersten Mal gebrannt\, Einführung Glasur-Techniken\, Glasieren. \n„Die kommende Adventzeit mit selbstgemachten Werken aus Keramik verschönern. Ob stimmungsvolle Lichtschalen\, Duftlampen\, Sterne\, Engel\, Baumschmuck fürs gemütliche Zuhause oder liebevoll gestaltete Geschenke. Einzigartige Lieblingstassen\, Müslibowls oder Lichtschalen: Beim Entstehungsprozess unterstütze ich gerne mit meinem Fachwissen. Wir arbeiten mit einfachen\, in der Wirkung effizienten Techniken (Platten- u. Aufbautechniken)\, die individuelle\, liebenswerte Werke hervorbringen. Jedes so besonders wie die Person\, die es kreiert. Material\, Werkzeug\, Gipsformen bringe ich mit\, für Pausenkaffee und Tee ist gesorgt. Ich freue mich auf euch und eure Ideen!“ \nGeschlossene Gruppengröße max. 7 Personen\nKosten für zweiteiligen Workshop: 2 Vormittage oder 2 Nachmittage: € 85\,-\nErmäßigter Ganztagestarif (2 ganzeTage): € 160\,-\n(excl. Materialkosten\, diese betragen € 20\,-/kg für zweimal gebrannte glasierte Keramik) \nBitte um Anmeldung und Einhaltung der Covid-19-Regelungen vor Ort\, danke!\nAnfragen und Anmeldung bei Sabine Modl-Sternig | Tel 0664 5237576 | E-Mail: sabine.modl-sternig@aon.at / www.sabine-modl-sternig.com
URL:https://www.kunstbahnhofwoerthersee.at/event/zweiteiliger-keramik-workshop-mit-sabine-modl-sternig-12/
LOCATION:Kunstbahnhof Wörthersee WEST\, Bahnhofplatz | ÖBB-Hausbahnsteig WEST\, Velden am Wörthersee\, 9220\, Österreich
CATEGORIES:Öffentliche Veranstaltung
END:VEVENT
BEGIN:VEVENT
DTSTART;VALUE=DATE:20221029
DTEND;VALUE=DATE:20221031
DTSTAMP:20260426T035746
CREATED:20220209T125507Z
LAST-MODIFIED:20221126T092253Z
UID:2867-1667016000-1667102399@www.kunstbahnhofwoerthersee.at
SUMMARY:Repair Café Velden
DESCRIPTION:Das Repair Café in Velden am Wörthersee ist am Samstag\, 29. Oktober 2022 von 8 bis 12:00 Uhr geöffnet: „Du kommst mit deinem kaputten Gerät vorbei _ Entweder du kannst es selbst mit unserem Werkzeug vor Ort reparieren _ Oder wir geben dir Anleitung und helfen gerne _ Das Ganze in angenehmer Atmosphäre mit Café- und Workshopcharakter bei freiwilliger Spende!“ \nDu hättest gerne mehr Information über das Repair Café? Schau auf die internationale Webseite Repaircafe.org oder stelle deine Fragen an Klaus Zerche unter zerche@a1.net oder Tel 0664-3868666. Anmelden als ehrenamtliche/r Helfer/in? Sende eine E-Mail an zerche@a1.net.\nBis dann im Repair Café! \nBitte um Einhaltung der gültigen Corona-Vorschriften vor Ort!
URL:https://www.kunstbahnhofwoerthersee.at/event/repair-cafe-velden-17/
LOCATION:Kunstbahnhof Wörthersee WEST\, Bahnhofplatz | ÖBB-Hausbahnsteig WEST\, Velden am Wörthersee\, 9220\, Österreich
CATEGORIES:Öffentliche Veranstaltung
ATTACH;FMTTYPE=image/jpeg:https://www.kunstbahnhofwoerthersee.at/wp-content/uploads/RC-Logo-Velden_neu_w.jpg
END:VEVENT
END:VCALENDAR