BEGIN:VCALENDAR
VERSION:2.0
PRODID:-//Kunstbahnhof Wörthersee - ECPv6.2.2//NONSGML v1.0//EN
CALSCALE:GREGORIAN
METHOD:PUBLISH
X-WR-CALNAME:Kunstbahnhof Wörthersee
X-ORIGINAL-URL:https://www.kunstbahnhofwoerthersee.at
X-WR-CALDESC:Veranstaltungen für Kunstbahnhof Wörthersee
REFRESH-INTERVAL;VALUE=DURATION:PT1H
X-Robots-Tag:noindex
X-PUBLISHED-TTL:PT1H
BEGIN:VTIMEZONE
TZID:Europe/Paris
BEGIN:DAYLIGHT
TZOFFSETFROM:+0100
TZOFFSETTO:+0200
TZNAME:CEST
DTSTART:20210328T010000
END:DAYLIGHT
BEGIN:STANDARD
TZOFFSETFROM:+0200
TZOFFSETTO:+0100
TZNAME:CET
DTSTART:20211031T010000
END:STANDARD
END:VTIMEZONE
BEGIN:VEVENT
DTSTART;TZID=Europe/Paris:20211119T190000
DTEND;TZID=Europe/Paris:20211119T203000
DTSTAMP:20260422T044205
CREATED:20210722T063524Z
LAST-MODIFIED:20221031T113733Z
UID:2305-1637348400-1637353800@www.kunstbahnhofwoerthersee.at
SUMMARY:VADA Theatervorstellung – Wört(h)erseele / BESEDuh | VERSCHOBEN
DESCRIPTION:PANDEMIEBEDINGT VERSCHOBEN auf 26.11.2022\, bitte um Verständnis\, danke! \nSchauspiel & Figurentheater von VADA\nnach “Pontypool Changes Everything” von Tony Burgess \n\n\nFreitag\, 19. November 2021 um 19 Uhr\nReservierung erforderlich unter 0664-9262926 oder office@kunstbahnhofwoerthersee.at\nEintritt frei – Spenden willkommen | Bitte die am Veranstaltungstag gültigen Corona-Regeln einhalten – danke!\n\nDie hippe DJane Sonja Krištof ist aus Wien in ihre alte Heimat Kärnten/Koroška zurückgekehrt\, wo sie sich beim kleinen Provinzsender Radio Beseda verdingt. Sie müht sich durch einen langweiligen Arbeitstag zwischen Wetterbericht und Geburtstagsgrüßen. Plötzlich häufen sich mysteriöse Meldungen über orientierungslose Menschen\, die wirres Zeug reden\, über gewalttätige Aufstände und über Zombies\, die sich gegenseitig auffressen. Niemand will oder kann diese Nachrichten offiziell bestätigen und der Polizeinotruf ist besetzt.\nKann die Polizei besetzt sein?\n… der französische Philosoph Roland Barthes sagte einmal\, ein Trauma sei ein Nachrichtenfoto ohne Bildtext und das\, Leute\, ist\, was ich denke\, wir hier haben … \n\n* Mit Yulia Izmaylova\, Tea Kovše\, Yves Brägger\, Felix Strasser\n* und den Stimmen von Boris Randzio\, Lara Vouk und Adam Zott\n* Puppenbau und -animation: Tea Kovše\n* Bühnenbild: Kamran Gharabaghi\n* Eine Produktion von VADA in Kooperation mit Gledališče DELA\n* Die Bearbeitung und Aufführung erfolgt mit freundlicher Genehmigung von Tony Burgess\nwww.vada.cc
URL:https://www.kunstbahnhofwoerthersee.at/event/theatervorstellung-von-vada-woerterseele-beseduh/
LOCATION:Kunstbahnhof Wörthersee WEST\, Bahnhofplatz | ÖBB-Hausbahnsteig WEST\, Velden am Wörthersee\, 9220\, Österreich
CATEGORIES:Öffentliche Veranstaltung
ATTACH;FMTTYPE=image/jpeg:https://www.kunstbahnhofwoerthersee.at/wp-content/uploads/vada-woerterseele1-e1631986527693.jpg
END:VEVENT
END:VCALENDAR