BEGIN:VCALENDAR
VERSION:2.0
PRODID:-//Kunstbahnhof Wörthersee - ECPv6.2.2//NONSGML v1.0//EN
CALSCALE:GREGORIAN
METHOD:PUBLISH
X-ORIGINAL-URL:https://www.kunstbahnhofwoerthersee.at
X-WR-CALDESC:Veranstaltungen für Kunstbahnhof Wörthersee
REFRESH-INTERVAL;VALUE=DURATION:PT1H
X-Robots-Tag:noindex
X-PUBLISHED-TTL:PT1H
BEGIN:VTIMEZONE
TZID:Europe/Paris
BEGIN:DAYLIGHT
TZOFFSETFROM:+0100
TZOFFSETTO:+0200
TZNAME:CEST
DTSTART:20260329T010000
END:DAYLIGHT
BEGIN:STANDARD
TZOFFSETFROM:+0200
TZOFFSETTO:+0100
TZNAME:CET
DTSTART:20261025T010000
END:STANDARD
END:VTIMEZONE
BEGIN:VEVENT
DTSTART;VALUE=DATE:20260504
DTEND;VALUE=DATE:20260506
DTSTAMP:20260420T175824
CREATED:20260129T113459Z
LAST-MODIFIED:20260331T092522Z
UID:7065-1777867200-1777953599@www.kunstbahnhofwoerthersee.at
SUMMARY:Japanische Kunst zwischen Bewegung und Stille | Ukiyo-e und Nihonga
DESCRIPTION:Japanische Kunst – das sind für viele die berühmten Farbholzschnitte  wie „Die große Welle vor Kanagawa“ oder aber die Bildwelt des Manga. Doch dazwischen liegt eine faszinierende\, im Westen kaum bekannte Malerei: Nihonga. Mit kostbaren Pigmenten\, feinen Materialien und einer einzigartigen Bildsprache entstanden hier Werke von großer Ruhe\, Intensität und Schönheit. Der Vortrag führt von den Bildwelten des Ukiyo-e zur modernen Malerei um 1900 – und eröffnet einen neuen Blick auf Japans Kunst zwischen Tradition und Erneuerung. \nBildervortrag von Gerda Madl-Kren in der Reihe Weltkunst\nMontag\, 4. Mai 2026 um 19 Uhr\nKunstbahnhof Wörthersee am Veldner Hausbahnsteig Ost\nClubbeitrag 15 Euro  – ein Angebot des Clubs für Bild und Bildung\nBegrenzte Platzzahl – daher bitte um Anmeldung NUR über office@kunstbahnhofwoerthersee.at
URL:https://www.kunstbahnhofwoerthersee.at/event/vortrag-weltkunst-japan/
LOCATION:Kunstbahnhof Wörthersee OST\, Bahnhofplatz | ÖBB-Hausbahnsteig OST\, Velden am Wörthersee\, 9220\, Österreich
CATEGORIES:Öffentliche Veranstaltung
END:VEVENT
BEGIN:VEVENT
DTSTART;VALUE=DATE:20260526
DTEND;VALUE=DATE:20260528
DTSTAMP:20260420T175824
CREATED:20260331T093649Z
LAST-MODIFIED:20260331T093714Z
UID:7338-1779768000-1779854399@www.kunstbahnhofwoerthersee.at
SUMMARY:Schaugenuss und Sammellust – Sonderausstellung „Noble Begierden“
DESCRIPTION:Der Bildvortrag von Gerda Madl-Kren lädt ein zum virtuellen Besuch der großartigen Schau im Gartenpalais Liechtenstein in Wien. Hier wird nicht nur die fürstliche Tradition des generationenübergreifenden Sammelns und die leidenschaftliche Begeisterung für Kunst erlebbar\,  – mit prominenten Namen wie Monet und Klimt\, Tizian\, Brueghel und Rembrandt und vielen auch weniger bekannten Künstlern – sondern erstmals auch die gelungene Einflussnahme auf Kunstproduktion und Preisgestaltung im Lauf der Jahrhunderte. Dabei tritt exemplarisch die Rolle des europäischen Kunstmarkts hervor – jener „untrennbarer Zwilling“ der Kunst\, der ihre Geschichte stets begleitet\, als Triebkraft von Sammeln\, Zeigen\, Begehren – und Besitzen. \nDienstag\, 26. Mai 2026 um 19 Uhr\nKunstbahnhof Wörthersee am Veldner Hausbahnsteig Ost\nClubbeitrag 15 Euro  – ein Angebot des Clubs für Bild und Bildung\nBegrenzte Platzzahl – daher bitte um Anmeldung NUR über office@kunstbahnhofwoerthersee.at
URL:https://www.kunstbahnhofwoerthersee.at/event/noble-begierden/
LOCATION:Kunstbahnhof Wörthersee OST\, Bahnhofplatz | ÖBB-Hausbahnsteig OST\, Velden am Wörthersee\, 9220\, Österreich
CATEGORIES:Öffentliche Veranstaltung
END:VEVENT
BEGIN:VEVENT
DTSTART;VALUE=DATE:20260601
DTEND;VALUE=DATE:20260603
DTSTAMP:20260420T175824
CREATED:20260129T113551Z
LAST-MODIFIED:20260331T094103Z
UID:7067-1780286400-1780372799@www.kunstbahnhofwoerthersee.at
SUMMARY:„In Minor Keys“ 61. Kunstbiennale Venedig 2026
DESCRIPTION:Einführungsvortrag von Gerda Madl-Kren zur heurigen Biennale in Venedig.\nMontag\, 1. Juni 2026 um 19:00 Uhr\nClubbeitrag 15 Euro  – ein Angebot des Clubs für Bild und Bildung.\nBegrenzte Platzzahl – daher bitte um Anmeldung NUR über office@kunstbahnhofwoerthersee.at \n 
URL:https://www.kunstbahnhofwoerthersee.at/event/vortrag-biennale/
LOCATION:Kunstbahnhof Wörthersee OST\, Bahnhofplatz | ÖBB-Hausbahnsteig OST\, Velden am Wörthersee\, 9220\, Österreich
CATEGORIES:Öffentliche Veranstaltung
END:VEVENT
END:VCALENDAR