BEGIN:VCALENDAR
VERSION:2.0
PRODID:-//Kunstbahnhof Wörthersee - ECPv6.2.2//NONSGML v1.0//EN
CALSCALE:GREGORIAN
METHOD:PUBLISH
X-WR-CALNAME:Kunstbahnhof Wörthersee
X-ORIGINAL-URL:https://www.kunstbahnhofwoerthersee.at
X-WR-CALDESC:Veranstaltungen für Kunstbahnhof Wörthersee
REFRESH-INTERVAL;VALUE=DURATION:PT1H
X-Robots-Tag:noindex
X-PUBLISHED-TTL:PT1H
BEGIN:VTIMEZONE
TZID:Europe/Paris
BEGIN:DAYLIGHT
TZOFFSETFROM:+0100
TZOFFSETTO:+0200
TZNAME:CEST
DTSTART:20260329T010000
END:DAYLIGHT
BEGIN:STANDARD
TZOFFSETFROM:+0200
TZOFFSETTO:+0100
TZNAME:CET
DTSTART:20261025T010000
END:STANDARD
END:VTIMEZONE
BEGIN:VEVENT
DTSTART;VALUE=DATE:20260413
DTEND;VALUE=DATE:20260628
DTSTAMP:20260421T091024
CREATED:20260113T155913Z
LAST-MODIFIED:20260410T084457Z
UID:6914-1776052800-1782532799@www.kunstbahnhofwoerthersee.at
SUMMARY:VAKÜNST Blick und Auflösung | Violetta Stuchlik
DESCRIPTION:Vom 13. April bis 26. Juni 2026 sind sechs große Fenster im Kunstbahnhof Wörthersee am Veldner Hausbahnsteig West mit den Arbeiten der Künstlerin Violetta Stuchlik gestaltet. Zusätzlich gibt es Anfang Juni (5.-7.) ein Ausstellungswochenende\, an dem weitere Arbeiten der Künstlerin in der Galerie des Kunstbahnhof Wörthersee am Veldner Hausbahnsteig Ost präsentiert werden. \nBlick und Auflösung ist eine fotografische Untersuchung darüber\, wie Wahrnehmung entsteht – und wie sie entgleitet. Die Serie oszilliert zwischen zwei sich ergänzenden und zugleich gegensätzlichen Bildwelten: Abstrakte\, verschwommene Naturfragmente lassen Bewegung sichtbar werden\, indem sie sich einer fixierten Form entziehen. Sie erinnern an ein Bild\, das das Auge bereits verlassen hat – eine Spur\, ein Nachglühen\, ein nicht vollständig erfasstes Außen.\nDem gegenüber stehen präzise\, quadratische Nahaufnahmen von Iriden. Sie markieren den Moment des bewussten Sehens: das Auge als Ort der Wahrnehmung\, als Schnittstelle zwischen Welt und Wahrnehmendem. Doch in ihrer Intimität werfen sie zugleich eine Frage auf – die nach Blickkontakt\, Aufmerksamkeit und Gegenüber.\nDie Serie verhandelt Bewegung als physisches\, visuelles und soziales Phänomen: Die Welt ist permanent in Bewegung\, das Auge ebenfalls – und doch entgleitet uns das Gesehene\, überlagert von Ablenkung\, Geschwindigkeit und Abwesenheit des Blicks. Die Bilder laden dazu ein\, innezuhalten – und zurückzublicken. \nVioletta Stuchlik (*1993) aus Dortmund hat eine Ausbildung zur Produkt- und Werbefotografin absolviert und ist seit 2016 freiberuflich als Fotografin tätig. Nach einem Bachelorstudium in Journalismus und Public Relations führte sie ihr Masterstudium in Visueller Kultur im Jahr 2021 nach Klagenfurt. In ihren freien Projekten widmet sie sich verschiedenen Themenfeldern und Genres\, darunter auch der Verbindung von Fotografie und Text sowie künstlerischem Film. Diese stellen für sie Möglichkeiten dar\, Vorstellungen davon aufzuzeigen\, wie die Welt gesehen werden kann. Ihre Umgebung und gesellschaftliche Beobachtung prägen ebenfalls ihre Arbeit. Aufgrund ihres akademischen Hintergrunds setzt sie sich darüber hinaus reflektiv mit der Wahrnehmung von Bildern und Sehprozessen auseinander. Seit 2025 ist sie beim Verein Lendhauer aktiv und organisiert dort kollektiv Kunst- und Kulturveranstaltungen im öffentlichen Raum. \nEin Kunstprojekt von VAKÜ/VAKÜNST im Kunstbahnhof Wörthersee\, kuratiert von Johanna Steindl und Johanna Lietz:\nwww.vakueklagenfurt.at/vakuenst\nBannerbild: Detail der Arbeit „Bewegung“ von Violetta Stuchlik
URL:https://www.kunstbahnhofwoerthersee.at/event/ausstellung-mobilitaet/
LOCATION:Kunstbahnhof Wörthersee OST\, Bahnhofplatz | ÖBB-Hausbahnsteig OST\, Velden am Wörthersee\, 9220\, Österreich
CATEGORIES:Öffentliche Veranstaltung
ATTACH;FMTTYPE=image/jpeg:https://www.kunstbahnhofwoerthersee.at/wp-content/uploads/Stuchlik_Bewegung_1-683x1024-detail.jpg
END:VEVENT
BEGIN:VEVENT
DTSTART;VALUE=DATE:20260515
DTEND;VALUE=DATE:20260519
DTSTAMP:20260421T091024
CREATED:20251210T135541Z
LAST-MODIFIED:20260304T184759Z
UID:6851-1778817600-1779076799@www.kunstbahnhofwoerthersee.at
SUMMARY:Ausstellung "Werkräume" IWA Art Collective
DESCRIPTION:In der Reihe „curated by_station“ lädt Barbara Ambrusch-Rapp zu einer Ausstellung mit junger Kunst – über junge Kunst\, fehlende Freiräume und die Frage\, wo Kreativität heute Platz findet. Ausgehend von der freien Szene Klagenfurts bringt das IWA Art Collective diese Themen nach Velden am Wörthersee und öffnet einen neuen Blick auf Kunst\, Raum und Öffentlichkeit – zwischen Stadt\, See und touristischer Kulisse. \nVernissage am Freitag\, 15. Mai 2026 um 19 Uhr\nBarbara Ambrusch-Rapp im Gespräch mit Kuratorin Manuela Pernusch\nAusstellung geöffnet: Samstag\, 16. Mai von 11 bis 19 Uhr und Sonntag\, 17. Mai von 11 bis 16 Uhr. \nWie agieren junge Kreative in Städten und Regionen\, in denen öffentlicher Kulturraum zunehmend verschwindet – ersetzt durch Privatwohnungen und Konsumzonen? Wo entstehen heute noch Freiräume\, in denen junge Menschen mit Ideen\, Mut und Eigeninitiative Kunst schaffen können? Und wohin können wir gehen\, wenn diese Orte verschwinden? Die Ausstellung „Werkräume“ beschäftigt sich mit der Existenz der jungen freien Szene in Klagenfurt – und stellt diese Fragen bewusst in einen neuen Kontext. In Velden am Wörthersee werden die Arbeiten aus ihrem ursprünglichen urbanen Umfeld herausgelöst und eröffnen einen Dialog über kreative Räume\, Verdrängung und Möglichkeiten jenseits der Landeshauptstadt. „Werkräume“ versteht sich als Einladung zum Nachdenken: über Orte\, die fehlen\, über Räume\, die wir brauchen – und über neue Perspektiven für die Sichtbarkeit zeitgenössischer Kunst. \nDiese Ausstellung ist Teil der Triennale IV Kärnten 2026 mit dem Titel „schwach • šibko • debole“ auf Initiative des Kunstvereins Kärnten und knüpft daran an\, indem sie fragile\, prekäre und oft übersehene Strukturen junger künstlerischer Arbeit sichtbar macht. \nBild/Banner: Emma Grgic-Brunner
URL:https://www.kunstbahnhofwoerthersee.at/event/iwa/
LOCATION:Kunstbahnhof Wörthersee OST\, Bahnhofplatz | ÖBB-Hausbahnsteig OST\, Velden am Wörthersee\, 9220\, Österreich
CATEGORIES:curated by_station,Öffentliche Veranstaltung
ATTACH;FMTTYPE=image/jpeg:https://www.kunstbahnhofwoerthersee.at/wp-content/uploads/IWA-Foto_Emma-Grgic-Brunner-cut_w.jpg
END:VEVENT
BEGIN:VEVENT
DTSTART;VALUE=DATE:20260515
DTEND;VALUE=DATE:20260517
DTSTAMP:20260421T091024
CREATED:20260119T121835Z
LAST-MODIFIED:20260119T121835Z
UID:6996-1778817600-1778903999@www.kunstbahnhofwoerthersee.at
SUMMARY:Freies Spiel – Wir spielen Bridge im Kunstbahnhof
DESCRIPTION:Das Kartenspiel Bridge ist ein unglaublich gutes Gehirntraining\, schärft das analytische Denken – und wir knüpfen nebenbei neue soziale Kontakte … Kartenrunde aus den Kursen von Helmuth Ölsinger (Präsident des Österreichischen Bridgesportverbandes) und mit interessierten Bridge-Fans. \nFreies Spiel – Wir spielen Bridge im Kunstbahnhof \nFreitags von 15 bis 17  Uhr und an ausgewählten weiteren Wochentagen\nOrt: Kunstbahnhof Wörthersee West im charmanten Ambiente des ehemaligen Bahnhofsrestaurants in Velden am Wörthersee\, Bahnhofplatz 1\nKontakt: Beatrix Taurer-Geher office@kunstbahnhofwoerthersee.at oder 0664-1255952
URL:https://www.kunstbahnhofwoerthersee.at/event/freies-spiel-wir-spielen-bridge-im-kunstbahnhof-70/
CATEGORIES:Öffentliche Veranstaltung
ATTACH;FMTTYPE=image/jpeg:https://www.kunstbahnhofwoerthersee.at/wp-content/uploads/20250228_150604-bridte-club_b_cut_w.jpg
END:VEVENT
END:VCALENDAR