BEGIN:VCALENDAR
VERSION:2.0
PRODID:-//Kunstbahnhof Wörthersee - ECPv6.2.2//NONSGML v1.0//EN
CALSCALE:GREGORIAN
METHOD:PUBLISH
X-ORIGINAL-URL:https://www.kunstbahnhofwoerthersee.at
X-WR-CALDESC:Veranstaltungen für Kunstbahnhof Wörthersee
REFRESH-INTERVAL;VALUE=DURATION:PT1H
X-Robots-Tag:noindex
X-PUBLISHED-TTL:PT1H
BEGIN:VTIMEZONE
TZID:Europe/Paris
BEGIN:DAYLIGHT
TZOFFSETFROM:+0100
TZOFFSETTO:+0200
TZNAME:CEST
DTSTART:20260329T010000
END:DAYLIGHT
BEGIN:STANDARD
TZOFFSETFROM:+0200
TZOFFSETTO:+0100
TZNAME:CET
DTSTART:20261025T010000
END:STANDARD
END:VTIMEZONE
BEGIN:VEVENT
DTSTART;VALUE=DATE:20260409
DTEND;VALUE=DATE:20260411
DTSTAMP:20260421T065918
CREATED:20260121T074202Z
LAST-MODIFIED:20260121T074202Z
UID:7024-1775707200-1775793599@www.kunstbahnhofwoerthersee.at
SUMMARY:1. Kärntner Kindermalschule Velden
DESCRIPTION:Standort Velden am Wörthersee im Kunstbahnhof Wörthersee am Hausbahnsteig Ost.\nSchuljahrsbegleitend donnerstags von 16:30 bis 18 Uhr.  \nStandortleitung: Hildegard Griesser | Kontakt: Karin Kriegelstein-Sternfeld 0676-5124070 oder kaerntnerkindermalschule.at \nGerade im Medienzeitalter werden schon Kinder überflutet mit vorgegebenen Bildern\, ob nun in Büchern\, TV oder Computer/Spielkonsole. Beim Malen werden eigene Bilder zum Ausdruck gebracht. In der Malwerkstatt der 1. Kärntner Kindermalschule Velden treffen sich schuljahrsbegleitend allwöchentlich zum festen Termin die Malschulkinder – Volksschulkinder zwischen 6 und 10/11  Jahren –  zum Malen. \nDie kleinen Gruppen in der Malwerkstatt malen 90 Minuten; jedes Kind malt in seinem eigenen Rhythmus und wählt Thema\, Farben und Formen selber aus. Die Kinder arbeiten stehend vor ihren großformatigen Blättern\, passend und verstellbar auf Malplatten und Staffeleien aufgespannt. Sie bedienen sich für ihre Farbtellerchen am Farbentisch mit 8 leuchtenden Farben\, einem einladenden Bündel verschieden breiter Pinsel und der Wasserschüssel zum Ausschwemmen\, was viel Sorgfalt\, Konzentration und Rücksichtnahme erfordert. Die großformatige Vorzeichnung mit den fragilen Zeichenkohlestäbchen und der gezielte Umgang mit den Pinseln entwickeln die feinmotorischen Fähigkeiten\, das Ausmischen der verschiedenen Farbtöne das Gefühl für die Farben. \nDie Malbegleiter/innen sind nicht Kunstlehrer/innen oder Therapeut/innen\, sondern verstehen ihre Arbeit als Dienstleistung: Papier wechseln\, Farben bereitstellen\, Flecken beseitigen\, und vor allem mit Anregung\, Ermutigung\, Aufmerksamkeit und Hilfe bei maltechnischen Schwierigkeiten für unsere Malkinder da sein. Frei von Leistungsdruck und Technikzwang geht es hier einzig und allein um das momentane Erlebnis. \nNicht das Bild als Endprodukt steht im Vordergrund\, sondern der Entstehungsprozess und die Freude am Malen.
URL:https://www.kunstbahnhofwoerthersee.at/event/1-kaerntner-kindermalschule-velden-83/
CATEGORIES:Kindermalschule
ATTACH;FMTTYPE=image/jpeg:https://www.kunstbahnhofwoerthersee.at/wp-content/uploads/KärntnerKindermalschule.jpg
END:VEVENT
END:VCALENDAR