BEGIN:VCALENDAR
VERSION:2.0
PRODID:-//Kunstbahnhof Wörthersee - ECPv6.2.2//NONSGML v1.0//EN
CALSCALE:GREGORIAN
METHOD:PUBLISH
X-ORIGINAL-URL:https://www.kunstbahnhofwoerthersee.at
X-WR-CALDESC:Veranstaltungen für Kunstbahnhof Wörthersee
REFRESH-INTERVAL;VALUE=DURATION:PT1H
X-Robots-Tag:noindex
X-PUBLISHED-TTL:PT1H
BEGIN:VTIMEZONE
TZID:Europe/Paris
BEGIN:DAYLIGHT
TZOFFSETFROM:+0100
TZOFFSETTO:+0200
TZNAME:CEST
DTSTART:20260329T010000
END:DAYLIGHT
BEGIN:STANDARD
TZOFFSETFROM:+0200
TZOFFSETTO:+0100
TZNAME:CET
DTSTART:20261025T010000
END:STANDARD
END:VTIMEZONE
BEGIN:VEVENT
DTSTART;VALUE=DATE:20260401
DTEND;VALUE=DATE:20260403
DTSTAMP:20260421T065136
CREATED:20260204T140258Z
LAST-MODIFIED:20260204T140258Z
UID:7117-1775016000-1775102399@www.kunstbahnhofwoerthersee.at
SUMMARY:Malgruppe „Farbiger Herbst“ | Kunst kennt kein Alter!
DESCRIPTION:Farbiger Herbst – eine ambitionierte Malrunde in der dritten Lebensphase trifft sich jeden zweiten Mittwochvormittag zum Malen.\nDozentin: Sonja Capeller mit Assistentin Margit Steinwender. Info und Anmeldung: margit.steinwender@gmail.com \nMalgruppe „Farbiger Herbst“ | Kunst kennt kein Alter!\nMittwoch\, 01.04.2026 um 10 Uhr am Veldner Hausbahnsteig West. \n\n„Malen im Farbigen Herbst verstehen wir so: Menschen\, die immer schon mal malen wollten und jetzt endlich dafür Zeit hätten. Oder Menschen\, die erwachsen und selbstbewusst genug sind\, sich auf das Thema Malerei wieder oder zum ersten Mal einzulassen\, und die freudige Ausdrucksweise und ungezügelte Phantasie des Kindes\, die sie wieder hervor kitzeln wollen. Oder malbegeisterte Menschen\, die andere malbegeisterte Menschen treffen möchten. Oder Menschen\, die ihre Fähigkeiten und Fertigkeiten wieder auffrischen wollen. Oder … Vielleicht haben Sie einen ganz anderen Grund\, den Pinsel\, den Stift\, die Spachtel oder die Graviernadel wieder in die Hand zu nehmen und ihre Enkelkinder mit den Ergebnissen zum Staunen zu bringen. Welchen Grund Sie haben\, ist egal\, es gibt unzählige Gründe\, bei uns vorbeizukommen und mit uns gemeinsam zu malen. Ein geschultes Team steht Ihnen mit Rat\, Tat und Pinsel zur Seite.“
URL:https://www.kunstbahnhofwoerthersee.at/event/malgruppe-farbiger-herbst-kunst-kennt-kein-alter-24/
LOCATION:Kunstbahnhof Wörthersee WEST\, Bahnhofplatz | ÖBB-Hausbahnsteig WEST\, Velden am Wörthersee\, 9220\, Österreich
CATEGORIES:Öffentliche Veranstaltung
ATTACH;FMTTYPE=image/jpeg:https://www.kunstbahnhofwoerthersee.at/wp-content/uploads/Offene-Malwerkstatt_MadlKren_b.jpg
END:VEVENT
BEGIN:VEVENT
DTSTART;VALUE=DATE:20260401
DTEND;VALUE=DATE:20260403
DTSTAMP:20260421T065136
CREATED:20260205T100750Z
LAST-MODIFIED:20260205T100750Z
UID:7133-1775016000-1775102399@www.kunstbahnhofwoerthersee.at
SUMMARY:Offene Aquarellrunde mit Margit Steinwender
DESCRIPTION:Mit- und voneinander lernen und gemeinsam kreativ sein. Jede und jeder mit etwas Grundkenntnis in der Aquarellmalerei ist herzlich willkommen in der offenen Malrunde mit Margit Steinwender.\nKein Kurs\, keine langfristige Verpflichtung\, Kostenbeitrag € 5\,- pro Nachmittag\, Beginn jeweils um 14 Uhr. \nOffene Aquarellrunde mit Margit Steinwender\nMittwoch\, 01.04.2026 um 14 Uhr\nAnmeldung + Kontakt: margit.steinwender@gmail.com \n(Abbildung Aquarell von Stefanie Schara)
URL:https://www.kunstbahnhofwoerthersee.at/event/offene-aquarellrunde-mit-margit-steinwender-9/
LOCATION:Kunstbahnhof Wörthersee WEST\, Bahnhofplatz | ÖBB-Hausbahnsteig WEST\, Velden am Wörthersee\, 9220\, Österreich
CATEGORIES:Öffentliche Veranstaltung
ATTACH;FMTTYPE=image/jpeg:https://www.kunstbahnhofwoerthersee.at/wp-content/uploads/Aquarell-Abbildung-Stefanie-Schara_w.jpg
END:VEVENT
END:VCALENDAR