BEGIN:VCALENDAR
VERSION:2.0
PRODID:-//Kunstbahnhof Wörthersee - ECPv6.2.2//NONSGML v1.0//EN
CALSCALE:GREGORIAN
METHOD:PUBLISH
X-WR-CALNAME:Kunstbahnhof Wörthersee
X-ORIGINAL-URL:https://www.kunstbahnhofwoerthersee.at
X-WR-CALDESC:Veranstaltungen für Kunstbahnhof Wörthersee
REFRESH-INTERVAL;VALUE=DURATION:PT1H
X-Robots-Tag:noindex
X-PUBLISHED-TTL:PT1H
BEGIN:VTIMEZONE
TZID:Europe/Paris
BEGIN:DAYLIGHT
TZOFFSETFROM:+0100
TZOFFSETTO:+0200
TZNAME:CEST
DTSTART:20260329T010000
END:DAYLIGHT
BEGIN:STANDARD
TZOFFSETFROM:+0200
TZOFFSETTO:+0100
TZNAME:CET
DTSTART:20261025T010000
END:STANDARD
END:VTIMEZONE
BEGIN:VEVENT
DTSTART;VALUE=DATE:20260325
DTEND;VALUE=DATE:20260327
DTSTAMP:20260419T233406
CREATED:20260310T094120Z
LAST-MODIFIED:20260310T094738Z
UID:7305-1774411200-1774497599@www.kunstbahnhofwoerthersee.at
SUMMARY:Malworkshops für Jugendliche mit Puppi
DESCRIPTION:Jugendliche ab 11 Jahren mit Mut zum Experimentieren und offenen Gestalten sind beim Workshop von Karin Kriegelstein-Sternfeld im Kunstbahnhof Wörthersee herzlich willkommen! Hier lernen die jungen Kreativen verschiedene Acrylmaltechniken und das Arbeiten mit diversen Materialien auf Leinwand kennen. \nInteressiert? Nähere Infos und Anmeldung: +43(0)676-5124070.\nDie Gruppengröße ist begrenzt. Karin/Puppi freut sich auf euch! \nMalworkshops für Jugendliche mit Puppi an ausgewählten Mittwochnachmittagen von 16 bis 18 Uhr.\nOrt: Kunstbahnhof Wörthersee\, Hausbahnsteig Ost\, Bahnhofplatz 1\, Velden am Wörthersee
URL:https://www.kunstbahnhofwoerthersee.at/event/malworkshops-fuer-jugendliche-mit-puppi-8/
LOCATION:Kunstbahnhof Wörthersee OST\, Bahnhofplatz | ÖBB-Hausbahnsteig OST\, Velden am Wörthersee\, 9220\, Österreich
CATEGORIES:Öffentliche Veranstaltung
ATTACH;FMTTYPE=image/jpeg:https://www.kunstbahnhofwoerthersee.at/wp-content/uploads/jugendliche-malen-mit-puppi.jpg
END:VEVENT
END:VCALENDAR