BEGIN:VCALENDAR
VERSION:2.0
PRODID:-//Kunstbahnhof Wörthersee - ECPv6.2.2//NONSGML v1.0//EN
CALSCALE:GREGORIAN
METHOD:PUBLISH
X-WR-CALNAME:Kunstbahnhof Wörthersee
X-ORIGINAL-URL:https://www.kunstbahnhofwoerthersee.at
X-WR-CALDESC:Veranstaltungen für Kunstbahnhof Wörthersee
REFRESH-INTERVAL;VALUE=DURATION:PT1H
X-Robots-Tag:noindex
X-PUBLISHED-TTL:PT1H
BEGIN:VTIMEZONE
TZID:Europe/Paris
BEGIN:DAYLIGHT
TZOFFSETFROM:+0100
TZOFFSETTO:+0200
TZNAME:CEST
DTSTART:20260329T010000
END:DAYLIGHT
BEGIN:STANDARD
TZOFFSETFROM:+0200
TZOFFSETTO:+0100
TZNAME:CET
DTSTART:20261025T010000
END:STANDARD
END:VTIMEZONE
BEGIN:VEVENT
DTSTART;VALUE=DATE:20260318
DTEND;VALUE=DATE:20260320
DTSTAMP:20260421T142230
CREATED:20260304T082842Z
LAST-MODIFIED:20260304T082842Z
UID:7299-1773806400-1773892799@www.kunstbahnhofwoerthersee.at
SUMMARY:Wiederholung: Shintō und die Kunst Japans
DESCRIPTION:Wiederholung auf mehrfachen Wunsch – Bildervortrag von und mit Gerda Madl-Kren:\nShintō und die Kunst Japans: Wo Natur heilig wird \nMittwoch\, 18. März 2026 um 19 Uhr\n15 Euro Clubbeitrag\nKunstbahnhof Wörthersee\, Velden am Wörthersee\, Hausbahnsteig am Bahnhofplatz\nBeschränkte Platzzahl\, daher bitte unbedingt um Anmeldung via office@kunstbahnhofwoerthersee.at! \nAnimistische Vorstellungen sind weltweit verbreitet – doch nur in Japan entwickelten sie sich zu einer bis heute lebendigen Staats- und Alltagsreligion: dem Shintō. Sein Grundgedanke besteht darin\, dass Natur nicht bloße Kulisse ist\, sondern Trägerin göttlicher Gegenwart. Im Shintō ist Natur kein Hintergrund\, sondern heiliger Raum: Berge\, Bäume\, Wasser\, ja selbst alltägliche Gegenstände können als Wirkmächte verehrt werden. Masken\, Skulpturen\, Malerei und Farbholzschnitte machen die Übergänge zwischen Sichtbarem und Unsichtbarem anschaulich. In großen Prozessionen und Matsuri-Festen wird diese Verbindung öffentlich inszeniert: Götter werden getragen\, Räume temporär verwandelt und religiöse Vorstellungen sinnlich vermittelt. Der Vortrag zeigt\, wie eng Kunst\, Ritual und Alltag im Shintō miteinander verflochten sind und sich zu einer bis heute lebendigen kulturellen Praxis verbinden.
URL:https://www.kunstbahnhofwoerthersee.at/event/wiederholung-shinto-und-die-kunst-japans/
LOCATION:Kunstbahnhof Wörthersee OST\, Bahnhofplatz | ÖBB-Hausbahnsteig OST\, Velden am Wörthersee\, 9220\, Österreich
CATEGORIES:Öffentliche Veranstaltung
END:VEVENT
END:VCALENDAR