BEGIN:VCALENDAR
VERSION:2.0
PRODID:-//Kunstbahnhof Wörthersee - ECPv6.2.2//NONSGML v1.0//EN
CALSCALE:GREGORIAN
METHOD:PUBLISH
X-ORIGINAL-URL:https://www.kunstbahnhofwoerthersee.at
X-WR-CALDESC:Veranstaltungen für Kunstbahnhof Wörthersee
REFRESH-INTERVAL;VALUE=DURATION:PT1H
X-Robots-Tag:noindex
X-PUBLISHED-TTL:PT1H
BEGIN:VTIMEZONE
TZID:Europe/Paris
BEGIN:DAYLIGHT
TZOFFSETFROM:+0100
TZOFFSETTO:+0200
TZNAME:CEST
DTSTART:20250330T010000
END:DAYLIGHT
BEGIN:STANDARD
TZOFFSETFROM:+0200
TZOFFSETTO:+0100
TZNAME:CET
DTSTART:20251026T010000
END:STANDARD
BEGIN:DAYLIGHT
TZOFFSETFROM:+0100
TZOFFSETTO:+0200
TZNAME:CEST
DTSTART:20260329T010000
END:DAYLIGHT
BEGIN:STANDARD
TZOFFSETFROM:+0200
TZOFFSETTO:+0100
TZNAME:CET
DTSTART:20261025T010000
END:STANDARD
END:VTIMEZONE
BEGIN:VEVENT
DTSTART;TZID=Europe/Paris:20251231T190000
DTEND;TZID=Europe/Paris:20260101T000000
DTSTAMP:20260421T145216
CREATED:20251117T115954Z
LAST-MODIFIED:20251213T144802Z
UID:6801-1767207600-1767225600@www.kunstbahnhofwoerthersee.at
SUMMARY:New Year’s Eve Painting – Malen in der Silvesternacht
DESCRIPTION:Eine besondere Nacht einmal anders: Silvester für Ihre Kreativität leben!  \n31. Dezember 2025 ab 19 Uhr: Im „Offenen Atelier Wörthersee“ am Kunstbahnhof Wörthersee lädt Gerda Madl-Kren herzlich ein\, diese besonderen Abendstunden Ihrem ganz persönlichen kreativen Ausdruck zu widmen. Alles Material zum Zeichnen und Malen ist für Sie vorbereitet (gegen freie Spende) – die gute Idee kommt im Gespräch – hilfreiche Begleitung gibt es gerne.\nBitte sichern Sie sich Ihren Platz unter office@kunstbahnhofwoerthersee.at oder Tel. +43 676-3205884. \nGerda Madl-Kren und ihre Assistentin freuen sich auf Sie und die Bilder dieser besonderen Nacht!
URL:https://www.kunstbahnhofwoerthersee.at/event/new-years-eve-painting-5/
LOCATION:Kunstbahnhof Wörthersee OST\, Bahnhofplatz | ÖBB-Hausbahnsteig OST\, Velden am Wörthersee\, 9220\, Österreich
CATEGORIES:Öffentliche Veranstaltung
ATTACH;FMTTYPE=image/jpeg:https://www.kunstbahnhofwoerthersee.at/wp-content/uploads/Offene-Malwerkstatt_MadlKren_b.jpg
END:VEVENT
END:VCALENDAR