BEGIN:VCALENDAR
VERSION:2.0
PRODID:-//Kunstbahnhof Wörthersee - ECPv6.2.2//NONSGML v1.0//EN
CALSCALE:GREGORIAN
METHOD:PUBLISH
X-WR-CALNAME:Kunstbahnhof Wörthersee
X-ORIGINAL-URL:https://www.kunstbahnhofwoerthersee.at
X-WR-CALDESC:Veranstaltungen für Kunstbahnhof Wörthersee
REFRESH-INTERVAL;VALUE=DURATION:PT1H
X-Robots-Tag:noindex
X-PUBLISHED-TTL:PT1H
BEGIN:VTIMEZONE
TZID:Europe/Paris
BEGIN:DAYLIGHT
TZOFFSETFROM:+0100
TZOFFSETTO:+0200
TZNAME:CEST
DTSTART:20250330T010000
END:DAYLIGHT
BEGIN:STANDARD
TZOFFSETFROM:+0200
TZOFFSETTO:+0100
TZNAME:CET
DTSTART:20251026T010000
END:STANDARD
END:VTIMEZONE
BEGIN:VEVENT
DTSTART;VALUE=DATE:20251230
DTEND;VALUE=DATE:20260101
DTSTAMP:20260421T145034
CREATED:20250827T145804Z
LAST-MODIFIED:20250827T145804Z
UID:6562-1767067200-1767153599@www.kunstbahnhofwoerthersee.at
SUMMARY:Kurs – Wir spielen Bridge im Kunstbahnhof
DESCRIPTION:Das Kartenspiel Bridge ist ein unglaublich gutes Gehirntraining\, schärft das analytische Denken – und wir knüpfen nebenbei neue soziale Kontakte …\nKursleitung: Helmuth Ölsinger\, Präsident des Österreichischen Bridgesportverbandes \nOrt: Kunstbahnhof Wörthersee West im charmanten Ambiente des ehemaligen Bahnhofsrestaurants in Velden am Wörthersee \nKurs – Wir spielen Bridge im Kunstbahnhof  \nAn ausgewählten Dienstagen von 10 bis 12 Uhr\, Zusatzeinheiten nach Vereinbarung\nInfo und Anmeldung: helmuth.oelsinger@bridgeaustria.at
URL:https://www.kunstbahnhofwoerthersee.at/event/kurs-wir-spielen-bridge-im-kunstbahnhof-40/
LOCATION:Kunstbahnhof Wörthersee WEST\, Bahnhofplatz | ÖBB-Hausbahnsteig WEST\, Velden am Wörthersee\, 9220\, Österreich
ATTACH;FMTTYPE=image/jpeg:https://www.kunstbahnhofwoerthersee.at/wp-content/uploads/20240523_130424-bridge-bahnsteig_banner.jpg
END:VEVENT
END:VCALENDAR