BEGIN:VCALENDAR
VERSION:2.0
PRODID:-//Kunstbahnhof Wörthersee - ECPv6.2.2//NONSGML v1.0//EN
CALSCALE:GREGORIAN
METHOD:PUBLISH
X-WR-CALNAME:Kunstbahnhof Wörthersee
X-ORIGINAL-URL:https://www.kunstbahnhofwoerthersee.at
X-WR-CALDESC:Veranstaltungen für Kunstbahnhof Wörthersee
REFRESH-INTERVAL;VALUE=DURATION:PT1H
X-Robots-Tag:noindex
X-PUBLISHED-TTL:PT1H
BEGIN:VTIMEZONE
TZID:Europe/Paris
BEGIN:DAYLIGHT
TZOFFSETFROM:+0100
TZOFFSETTO:+0200
TZNAME:CEST
DTSTART:20250330T010000
END:DAYLIGHT
BEGIN:STANDARD
TZOFFSETFROM:+0200
TZOFFSETTO:+0100
TZNAME:CET
DTSTART:20251026T010000
END:STANDARD
END:VTIMEZONE
BEGIN:VEVENT
DTSTART;VALUE=DATE:20250801
DTEND;VALUE=DATE:20251226
DTSTAMP:20260421T162201
CREATED:20250902T134947Z
LAST-MODIFIED:20251214T111455Z
UID:6612-1754020800-1766635199@www.kunstbahnhofwoerthersee.at
SUMMARY:PEACE! Intervention von INA LOITZL
DESCRIPTION:Im Sommer 2025 hat INA LOITZL den Kunstbahnhof Wörthersee zu einem Try Out – Ort verwandelt. Während ihrer Arbeit im Sommerstudio am Veldner Hausbahnsteig Ost entstanden neue CUT-OUTs und gemeinsam mit technischer Unterstützung von Assistentin Anika Wieser auch eine ganz besondere temporäre Intervention in der Fenstergalerie am Veldner Hausbahnsteig West: Inspiriert von den Wellenbewegungen des Wörthersees und durchzogen von märchenhaften Symbolen\, begrüßt das Wort PEACE! in den Farben des Wassers auch Reisende aus aller Welt – ein starkes Zeichen in bewegten Zeiten. \nTipp: Jetzt mit offenen Augen an der ehemaligen „Reste“ vorbeigehen und den von Ina Loitzl ins Fenster „geschriebenen“ Wunsch in Gedanken mitnehmen … täglich von 00:00-24:00 Uhr bis Ende Dezember 2025. \nInteressiert an einem eigenen WALL-TATTOO oder CUT-OUT von Ina Loitzl? Kontaktiere gerne die Künstlerin: ina.loitzl@gmx.net\nUm mehr neue Kunst von ihr zu sehen\, besuche Ina Loitzl auf instagram: instagram.com/ina_loitzl \nDetail Fensterinstallation Ina Loitzl PEACE!\nwork in progress CUT OUT Fensterinstallation Ina Loitzl PEACE!
URL:https://www.kunstbahnhofwoerthersee.at/event/fenstergalerie-intervention-von-ina-loitzl/
LOCATION:Kunstbahnhof Wörthersee WEST\, Bahnhofplatz | ÖBB-Hausbahnsteig WEST\, Velden am Wörthersee\, 9220\, Österreich
CATEGORIES:curated by_station
ATTACH;FMTTYPE=image/jpeg:https://www.kunstbahnhofwoerthersee.at/wp-content/uploads/20250804_160623-ina-loitz-peace-kunstbahnhof_w-cut-e1756821043769.jpg
END:VEVENT
BEGIN:VEVENT
DTSTART;VALUE=DATE:20251019
DTEND;VALUE=DATE:20251217
DTSTAMP:20260421T162201
CREATED:20251106T103402Z
LAST-MODIFIED:20251106T103505Z
UID:6778-1760846400-1765857599@www.kunstbahnhofwoerthersee.at
SUMMARY:Straßengalerie am Hausbahnsteig West: NonKonform
DESCRIPTION:Eine Straßengalerie-Ausstellung mit dem Titel NonKonform\, die in Kooperation mit IWA-Collective und Verein VAKÜ im Rahmen des Festivals ARTrium 2025 entstanden ist. Sie zeigt spartenübergreifende Arbeiten von jungen Künstler*innen des IWA-Collectives zum Thema NonKonform und beschäftigt sich damit\, gesellschaftlichen Normen zu hinterfragen und aus ihnen auszubrechen.\n19. Oktober bis Dezember 2025 in Klagenfurt\, Velden und Villach! \nDie Straßengalerie ist ein von Leon Bernhofer gegründetes Kunstprojekt und wird in rund 30 Schaukästen in Klagenfurt\, Villach/Velden (und Salzburg) gezeigt – auch im Westfenster im Kunstbahnhof Wörthersee am Veldner Hausbahnsteig West. Alle einzelnen Stationen sind auf der Karte zu finden:\nwww.strassengalerie.com/standorte
URL:https://www.kunstbahnhofwoerthersee.at/event/strassengalerie-am-hausbahnsteig-west-nonkonform/
LOCATION:Kunstbahnhof Wörthersee WEST\, Bahnhofplatz | ÖBB-Hausbahnsteig WEST\, Velden am Wörthersee\, 9220\, Österreich
ATTACH;FMTTYPE=image/jpeg:https://www.kunstbahnhofwoerthersee.at/wp-content/uploads/20251022_161435-strassengalerie-oktober-2025-kunstbahnhof_w.jpg
END:VEVENT
BEGIN:VEVENT
DTSTART;VALUE=DATE:20251205
DTEND;VALUE=DATE:20251210
DTSTAMP:20260421T162201
CREATED:20251105T140854Z
LAST-MODIFIED:20260119T083656Z
UID:6766-1764907200-1765252799@www.kunstbahnhofwoerthersee.at
SUMMARY:NEUE KRIPPEN in Kärnten
DESCRIPTION:Seit 2006 fordert der Galerist Ferdinand Kreuzer geneigte Kärntner Künstler*innen dazu heraus\, sich mit dem Thema Weihnachten bzw. der Menschwerdung Christi in Bezug auf die Gegenwart kultur- und gesellschaftskritisch auseinanderzusetzen\, dies zu kommentieren und Stellung zu beziehen. Die entstehenden Objekte und Bildwerke zeigen sich als futuristische Weihnachtskrippen in völlig ungewohnter Ästhetik. Alle zwei Jahre werden diese – weit über den religiösen Aspekt hinaus entwickelten – Arbeiten im Rahmen der von Ferdinand Kreuzer ausgerichteten Krippenbiennalen in der Galerie Muh am Aichberg bei Wolfsberg präsentiert. Seit einigen Jahren wird der Galerist auch dazu eingeladen\, ausgewählte Krippen aus diesem Rahmen in der großen internationalen Krippenausstellung in Giffoni Valle Piana in Italien zu zeigen\, was bei den zum Teil weitangereisten Ausstellungsbesucher*innen ebendort zuweilen für überraschte Momente sorgt. \nDie nächste\, elfte Krippenbiennale in der Galerie Muh findet erst 2026 wieder statt – dieses „Zeitfenster“ nimmt Künstlerin und Kuratorin Barbara Ambrusch-Rapp als Gelegenheit und lädt 2025 im Rahmen ihrer Reihe „curated by_station“ in Zusammenarbeit mit Ferdinand Kreuzer zu einer besonderen Krippenschau im Kunstbahnhof Wörthersee am Veldner Hausbahnsteig. \nNEUE KRIPPEN in Kärnten aus der Galerie Muh\nVernissage FR 5. Dezember 2025 um 19 Uhr\nZur Ausstellung: Kuratorin Barbara Ambrusch-Rapp\nKünstler*innen sind anwesend\nAusstellung zu sehen auch am SA 6. Dezember von 11 bis 13 Uhr und MO 8. Dezember von 18 bis 20 Uhr und nach Vereinbarung (0664-9262926) \nMit Krippen-Interpretationen von\nMarcel Ambrusch\, Barbara Ambrusch-Rapp\, Ernst Bachinger\, Detlef Löffler\, OBERHAMMER\, Mario Oberhofer\, Jakob Pagitz\, 1000&\, Eva Wassertheurer … \n(Foto: Einblick in die X. Krippenbiennale Galerie Muh)
URL:https://www.kunstbahnhofwoerthersee.at/event/neue-krippen-in-kaernten-2/
LOCATION:Kunstbahnhof Wörthersee OST\, Bahnhofplatz | ÖBB-Hausbahnsteig OST\, Velden am Wörthersee\, 9220\, Österreich
CATEGORIES:curated by_station,Öffentliche Veranstaltung
ATTACH;FMTTYPE=image/jpeg:https://www.kunstbahnhofwoerthersee.at/wp-content/uploads/20241124_112400-krippe-ambrusch-rapp-web-cut.jpg
END:VEVENT
END:VCALENDAR