BEGIN:VCALENDAR
VERSION:2.0
PRODID:-//Kunstbahnhof Wörthersee - ECPv6.2.2//NONSGML v1.0//EN
CALSCALE:GREGORIAN
METHOD:PUBLISH
X-ORIGINAL-URL:https://www.kunstbahnhofwoerthersee.at
X-WR-CALDESC:Veranstaltungen für Kunstbahnhof Wörthersee
REFRESH-INTERVAL;VALUE=DURATION:PT1H
X-Robots-Tag:noindex
X-PUBLISHED-TTL:PT1H
BEGIN:VTIMEZONE
TZID:Europe/Paris
BEGIN:DAYLIGHT
TZOFFSETFROM:+0100
TZOFFSETTO:+0200
TZNAME:CEST
DTSTART:20250330T010000
END:DAYLIGHT
BEGIN:STANDARD
TZOFFSETFROM:+0200
TZOFFSETTO:+0100
TZNAME:CET
DTSTART:20251026T010000
END:STANDARD
END:VTIMEZONE
BEGIN:VEVENT
DTSTART;VALUE=DATE:20250801
DTEND;VALUE=DATE:20251226
DTSTAMP:20260421T202614
CREATED:20250902T134947Z
LAST-MODIFIED:20251214T111455Z
UID:6612-1754020800-1766635199@www.kunstbahnhofwoerthersee.at
SUMMARY:PEACE! Intervention von INA LOITZL
DESCRIPTION:Im Sommer 2025 hat INA LOITZL den Kunstbahnhof Wörthersee zu einem Try Out – Ort verwandelt. Während ihrer Arbeit im Sommerstudio am Veldner Hausbahnsteig Ost entstanden neue CUT-OUTs und gemeinsam mit technischer Unterstützung von Assistentin Anika Wieser auch eine ganz besondere temporäre Intervention in der Fenstergalerie am Veldner Hausbahnsteig West: Inspiriert von den Wellenbewegungen des Wörthersees und durchzogen von märchenhaften Symbolen\, begrüßt das Wort PEACE! in den Farben des Wassers auch Reisende aus aller Welt – ein starkes Zeichen in bewegten Zeiten. \nTipp: Jetzt mit offenen Augen an der ehemaligen „Reste“ vorbeigehen und den von Ina Loitzl ins Fenster „geschriebenen“ Wunsch in Gedanken mitnehmen … täglich von 00:00-24:00 Uhr bis Ende Dezember 2025. \nInteressiert an einem eigenen WALL-TATTOO oder CUT-OUT von Ina Loitzl? Kontaktiere gerne die Künstlerin: ina.loitzl@gmx.net\nUm mehr neue Kunst von ihr zu sehen\, besuche Ina Loitzl auf instagram: instagram.com/ina_loitzl \nDetail Fensterinstallation Ina Loitzl PEACE!\nwork in progress CUT OUT Fensterinstallation Ina Loitzl PEACE!
URL:https://www.kunstbahnhofwoerthersee.at/event/fenstergalerie-intervention-von-ina-loitzl/
LOCATION:Kunstbahnhof Wörthersee WEST\, Bahnhofplatz | ÖBB-Hausbahnsteig WEST\, Velden am Wörthersee\, 9220\, Österreich
CATEGORIES:curated by_station
ATTACH;FMTTYPE=image/jpeg:https://www.kunstbahnhofwoerthersee.at/wp-content/uploads/20250804_160623-ina-loitz-peace-kunstbahnhof_w-cut-e1756821043769.jpg
END:VEVENT
BEGIN:VEVENT
DTSTART;VALUE=DATE:20251019
DTEND;VALUE=DATE:20251217
DTSTAMP:20260421T202614
CREATED:20251106T103402Z
LAST-MODIFIED:20251106T103505Z
UID:6778-1760846400-1765857599@www.kunstbahnhofwoerthersee.at
SUMMARY:Straßengalerie am Hausbahnsteig West: NonKonform
DESCRIPTION:Eine Straßengalerie-Ausstellung mit dem Titel NonKonform\, die in Kooperation mit IWA-Collective und Verein VAKÜ im Rahmen des Festivals ARTrium 2025 entstanden ist. Sie zeigt spartenübergreifende Arbeiten von jungen Künstler*innen des IWA-Collectives zum Thema NonKonform und beschäftigt sich damit\, gesellschaftlichen Normen zu hinterfragen und aus ihnen auszubrechen.\n19. Oktober bis Dezember 2025 in Klagenfurt\, Velden und Villach! \nDie Straßengalerie ist ein von Leon Bernhofer gegründetes Kunstprojekt und wird in rund 30 Schaukästen in Klagenfurt\, Villach/Velden (und Salzburg) gezeigt – auch im Westfenster im Kunstbahnhof Wörthersee am Veldner Hausbahnsteig West. Alle einzelnen Stationen sind auf der Karte zu finden:\nwww.strassengalerie.com/standorte
URL:https://www.kunstbahnhofwoerthersee.at/event/strassengalerie-am-hausbahnsteig-west-nonkonform/
LOCATION:Kunstbahnhof Wörthersee WEST\, Bahnhofplatz | ÖBB-Hausbahnsteig WEST\, Velden am Wörthersee\, 9220\, Österreich
ATTACH;FMTTYPE=image/jpeg:https://www.kunstbahnhofwoerthersee.at/wp-content/uploads/20251022_161435-strassengalerie-oktober-2025-kunstbahnhof_w.jpg
END:VEVENT
BEGIN:VEVENT
DTSTART;VALUE=DATE:20251024
DTEND;VALUE=DATE:20251026
DTSTAMP:20260421T202614
CREATED:20250827T150619Z
LAST-MODIFIED:20250827T150619Z
UID:6585-1761278400-1761364799@www.kunstbahnhofwoerthersee.at
SUMMARY:Freies Spiel – Wir spielen Bridge im Kunstbahnhof
DESCRIPTION:Das Kartenspiel Bridge ist ein unglaublich gutes Gehirntraining\, schärft das analytische Denken – und wir knüpfen nebenbei neue soziale Kontakte …\nKartenrunde aus den Kursen von Helmuth Ölsinger (Präsident des Österreichischen Bridgesportverbandes) und mit interessierten Bridge-Fans. \nFreies Spiel – Wir spielen Bridge im Kunstbahnhof \nFreitags von 14 bis 16 Uhr und an ausgewählten weiteren Wochentagen\nOrt: Kunstbahnhof Wörthersee West im charmanten Ambiente des ehemaligen Bahnhofsrestaurants in Velden am Wörthersee\nKontakt: Beatrix Taurer-Geher 0664-1255952
URL:https://www.kunstbahnhofwoerthersee.at/event/freies-spiel-wir-spielen-bridge-im-kunstbahnhof-42/
LOCATION:Kunstbahnhof Wörthersee WEST\, Bahnhofplatz | ÖBB-Hausbahnsteig WEST\, Velden am Wörthersee\, 9220\, Österreich
ATTACH;FMTTYPE=image/jpeg:https://www.kunstbahnhofwoerthersee.at/wp-content/uploads/20240523_130424-bridge-bahnsteig_banner.jpg
END:VEVENT
BEGIN:VEVENT
DTSTART;VALUE=DATE:20251024
DTEND;VALUE=DATE:20251029
DTSTAMP:20260421T202614
CREATED:20250929T122313Z
LAST-MODIFIED:20251025T083758Z
UID:6689-1761278400-1761623999@www.kunstbahnhofwoerthersee.at
SUMMARY:Ausstellung "Formare" Ghazal Abrahim
DESCRIPTION:Vernissage am Freitag\, 24. Oktober 2025 um 18 Uhr\nAusstellung bis 27. Oktober 2025\nÖffnungszeiten: Samstag bis Montag jeweils von 10:00 bis 12:00 und von 13:30 bis 18:00 Uhr\nACHTUNG: Künstlerin Ghazal Abrahim bittet um Verständnis\, dass die Ausstellung am Samstag erst ab 13:30 Uhr geöffnet ist\, Dankeschön! \nIn der Ausstellung „Formare“ mit Arbeiten von GHAZAL ABRAHIM entfaltet sich der Schaffensprozess der liegenden weiblichen Figur durch fließende Linien\, Farben\, Träume und Vorstellungen; etwas zwischen der Schwere der Form und der Fluidität des Denkens\, etwas dem menschlichen Ähnliches.\nFormare ist ein italienischer Begriff\, der „Teig formen“ bedeutet und hier als metaphorischer Titel für den Prozess der Form- und Konzeptwerdung verwendet wird. \nKontakt: ghazal.abrahim@yahoo.com oder +43 681 84430879
URL:https://www.kunstbahnhofwoerthersee.at/event/ausstellung-formare-ghazal-abrahim/
LOCATION:Kunstbahnhof Wörthersee OST\, Bahnhofplatz | ÖBB-Hausbahnsteig OST\, Velden am Wörthersee\, 9220\, Österreich
ATTACH;FMTTYPE=image/jpeg:https://www.kunstbahnhofwoerthersee.at/wp-content/uploads/abrahim-sujet.jpg
END:VEVENT
BEGIN:VEVENT
DTSTART;VALUE=DATE:20251024
DTEND;VALUE=DATE:20251029
DTSTAMP:20260421T202614
CREATED:20250929T123211Z
LAST-MODIFIED:20251025T083751Z
UID:6696-1761278400-1761623999@www.kunstbahnhofwoerthersee.at
SUMMARY:Ausstellung "Zwischen Form" Samira Hosseinchi
DESCRIPTION:Vernissage am Freitag\, 24. Oktober 2025 um 18 Uhr\nKuratorin und Veranstalterin: Ghazal Abrahim\nAusstellung bis 27. Oktober 2025\nÖffnungszeiten: Samstag bis Montag jeweils von 10:00 bis 12:00 und von 13:30 bis 18:00 Uhr\nACHTUNG: Kuratorin Ghazal Abrahim bittet um Verständnis\, dass die Ausstellung am Samstag erst ab 13:30 Uhr geöffnet ist\, Dankeschön! \nDie Ausstellung „Zwischen Form“ mit Keramikarbeiten von Samira Hosseinchi definiert die Grenze zwischen Objekt und Raum neu: Das Gefäß als soziales und künstlerisches Konstrukt – Träger von Dialog\, Erinnerung und gemeinsamer Erfahrung. \nKontakt Kuratorin: ghazal.abrahim@yahoo.com oder +43 681 84430879\nSamira Hosseinchi auf instagram.com/wanvog_art_studio
URL:https://www.kunstbahnhofwoerthersee.at/event/ausstellung-zwischen-form-samira-hosseinchi/
LOCATION:Kunstbahnhof Wörthersee OST\, Bahnhofplatz | ÖBB-Hausbahnsteig OST\, Velden am Wörthersee\, 9220\, Österreich
ATTACH;FMTTYPE=image/jpeg:https://www.kunstbahnhofwoerthersee.at/wp-content/uploads/hosseinchi-sujet.jpg
END:VEVENT
END:VCALENDAR