BEGIN:VCALENDAR
VERSION:2.0
PRODID:-//Kunstbahnhof Wörthersee - ECPv6.2.2//NONSGML v1.0//EN
CALSCALE:GREGORIAN
METHOD:PUBLISH
X-WR-CALNAME:Kunstbahnhof Wörthersee
X-ORIGINAL-URL:https://www.kunstbahnhofwoerthersee.at
X-WR-CALDESC:Veranstaltungen für Kunstbahnhof Wörthersee
REFRESH-INTERVAL;VALUE=DURATION:PT1H
X-Robots-Tag:noindex
X-PUBLISHED-TTL:PT1H
BEGIN:VTIMEZONE
TZID:Europe/Paris
BEGIN:DAYLIGHT
TZOFFSETFROM:+0100
TZOFFSETTO:+0200
TZNAME:CEST
DTSTART:20250330T010000
END:DAYLIGHT
BEGIN:STANDARD
TZOFFSETFROM:+0200
TZOFFSETTO:+0100
TZNAME:CET
DTSTART:20251026T010000
END:STANDARD
END:VTIMEZONE
BEGIN:VEVENT
DTSTART;VALUE=DATE:20250801
DTEND;VALUE=DATE:20251226
DTSTAMP:20260421T202318
CREATED:20250902T134947Z
LAST-MODIFIED:20251214T111455Z
UID:6612-1754020800-1766635199@www.kunstbahnhofwoerthersee.at
SUMMARY:PEACE! Intervention von INA LOITZL
DESCRIPTION:Im Sommer 2025 hat INA LOITZL den Kunstbahnhof Wörthersee zu einem Try Out – Ort verwandelt. Während ihrer Arbeit im Sommerstudio am Veldner Hausbahnsteig Ost entstanden neue CUT-OUTs und gemeinsam mit technischer Unterstützung von Assistentin Anika Wieser auch eine ganz besondere temporäre Intervention in der Fenstergalerie am Veldner Hausbahnsteig West: Inspiriert von den Wellenbewegungen des Wörthersees und durchzogen von märchenhaften Symbolen\, begrüßt das Wort PEACE! in den Farben des Wassers auch Reisende aus aller Welt – ein starkes Zeichen in bewegten Zeiten. \nTipp: Jetzt mit offenen Augen an der ehemaligen „Reste“ vorbeigehen und den von Ina Loitzl ins Fenster „geschriebenen“ Wunsch in Gedanken mitnehmen … täglich von 00:00-24:00 Uhr bis Ende Dezember 2025. \nInteressiert an einem eigenen WALL-TATTOO oder CUT-OUT von Ina Loitzl? Kontaktiere gerne die Künstlerin: ina.loitzl@gmx.net\nUm mehr neue Kunst von ihr zu sehen\, besuche Ina Loitzl auf instagram: instagram.com/ina_loitzl \nDetail Fensterinstallation Ina Loitzl PEACE!\nwork in progress CUT OUT Fensterinstallation Ina Loitzl PEACE!
URL:https://www.kunstbahnhofwoerthersee.at/event/fenstergalerie-intervention-von-ina-loitzl/
LOCATION:Kunstbahnhof Wörthersee WEST\, Bahnhofplatz | ÖBB-Hausbahnsteig WEST\, Velden am Wörthersee\, 9220\, Österreich
CATEGORIES:curated by_station
ATTACH;FMTTYPE=image/jpeg:https://www.kunstbahnhofwoerthersee.at/wp-content/uploads/20250804_160623-ina-loitz-peace-kunstbahnhof_w-cut-e1756821043769.jpg
END:VEVENT
BEGIN:VEVENT
DTSTART;VALUE=DATE:20251014
DTEND;VALUE=DATE:20251016
DTSTAMP:20260421T202318
CREATED:20250827T145012Z
LAST-MODIFIED:20250827T145012Z
UID:6540-1760414400-1760500799@www.kunstbahnhofwoerthersee.at
SUMMARY:Kurs – Wir spielen Bridge im Kunstbahnhof
DESCRIPTION:Das Kartenspiel Bridge ist ein unglaublich gutes Gehirntraining\, schärft das analytische Denken – und wir knüpfen nebenbei neue soziale Kontakte …\nKursleitung: Helmuth Ölsinger\, Präsident des Österreichischen Bridgesportverbandes \nOrt: Kunstbahnhof Wörthersee West im charmanten Ambiente des ehemaligen Bahnhofsrestaurants in Velden am Wörthersee \nKurs – Wir spielen Bridge im Kunstbahnhof \nAn ausgewählten Dienstagen von 10 bis 12 Uhr\, Zusatzeinheiten nach Vereinbarung\nInfo und Anmeldung: helmuth.oelsinger@bridgeaustria.at
URL:https://www.kunstbahnhofwoerthersee.at/event/kurs-wir-spielen-bridge-im-kunstbahnhof-29/
LOCATION:Kunstbahnhof Wörthersee WEST\, Bahnhofplatz | ÖBB-Hausbahnsteig WEST\, Velden am Wörthersee\, 9220\, Österreich
ATTACH;FMTTYPE=image/jpeg:https://www.kunstbahnhofwoerthersee.at/wp-content/uploads/20240523_130424-bridge-bahnsteig_banner.jpg
END:VEVENT
END:VCALENDAR