BEGIN:VCALENDAR
VERSION:2.0
PRODID:-//Kunstbahnhof Wörthersee - ECPv6.2.2//NONSGML v1.0//EN
CALSCALE:GREGORIAN
METHOD:PUBLISH
X-ORIGINAL-URL:https://www.kunstbahnhofwoerthersee.at
X-WR-CALDESC:Veranstaltungen für Kunstbahnhof Wörthersee
REFRESH-INTERVAL;VALUE=DURATION:PT1H
X-Robots-Tag:noindex
X-PUBLISHED-TTL:PT1H
BEGIN:VTIMEZONE
TZID:Europe/Paris
BEGIN:DAYLIGHT
TZOFFSETFROM:+0100
TZOFFSETTO:+0200
TZNAME:CEST
DTSTART:20250330T010000
END:DAYLIGHT
BEGIN:STANDARD
TZOFFSETFROM:+0200
TZOFFSETTO:+0100
TZNAME:CET
DTSTART:20251026T010000
END:STANDARD
END:VTIMEZONE
BEGIN:VEVENT
DTSTART;VALUE=DATE:20250801
DTEND;VALUE=DATE:20251013
DTSTAMP:20260422T094546
CREATED:20250902T131433Z
LAST-MODIFIED:20250902T133103Z
UID:6607-1754020800-1760241599@www.kunstbahnhofwoerthersee.at
SUMMARY:Straßengalerie am Hausbahnsteig West
DESCRIPTION:WOMEN’s MESSAGES unWELCOME\nEine Ausstellung von Anfang Juli bis 11. Oktober 2025 der Straßengalerie in Koproduktion mit dem Kunst Raum Villach\, auch im Kunstbahnhof Wörthersee zu sehen: Die in Kärnten präsente Intervention zeigt Arbeiten von fünf iranischen Künstlerinnen. Sie macht weibliche Perspektiven und Lebensrealitäten sichtbar. Durch die Präsentation der Ausstellung im öffentlichen Raum rückt das Thema in den Fokus.\nIn Velden am Wörthersee: Zahra Zamaninie kam im August 2023 mit einem Künstler:innenvisum nach Österreich. Sie hat Malerei in Teheran studiert. Die Migration brachte neue Impulse in ihre künstlerische Arbeit und vertiefte ihren Zugang zur Malerei als Ausdrucksform. \nDie Straßengalerie ist ein von Leon Bernhofer gegründetes Kunstprojekt und wird in rund 30 Schaukästen in Klagenfurt\, Villach/Velden (und Salzburg) gezeigt – auch im Westfenster im Kunstbahnhof Wörthersee am Veldner Hausbahnsteig West. Alle einzelnen Stationen sind auf der Karte zu finden:\nwww.strassengalerie.com/standorte
URL:https://www.kunstbahnhofwoerthersee.at/event/strassengalerie-am-hausbahnsteig-west/
LOCATION:Kunstbahnhof Wörthersee WEST\, Bahnhofplatz | ÖBB-Hausbahnsteig WEST\, Velden am Wörthersee\, 9220\, Österreich
CATEGORIES:Öffentliche Veranstaltung
ATTACH;FMTTYPE=image/jpeg:https://www.kunstbahnhofwoerthersee.at/wp-content/uploads/20250825_131303-strassengalerie-standort-velden_w-e1756819091269.jpg
END:VEVENT
BEGIN:VEVENT
DTSTART;VALUE=DATE:20250801
DTEND;VALUE=DATE:20251226
DTSTAMP:20260422T094546
CREATED:20250902T134947Z
LAST-MODIFIED:20251214T111455Z
UID:6612-1754020800-1766635199@www.kunstbahnhofwoerthersee.at
SUMMARY:PEACE! Intervention von INA LOITZL
DESCRIPTION:Im Sommer 2025 hat INA LOITZL den Kunstbahnhof Wörthersee zu einem Try Out – Ort verwandelt. Während ihrer Arbeit im Sommerstudio am Veldner Hausbahnsteig Ost entstanden neue CUT-OUTs und gemeinsam mit technischer Unterstützung von Assistentin Anika Wieser auch eine ganz besondere temporäre Intervention in der Fenstergalerie am Veldner Hausbahnsteig West: Inspiriert von den Wellenbewegungen des Wörthersees und durchzogen von märchenhaften Symbolen\, begrüßt das Wort PEACE! in den Farben des Wassers auch Reisende aus aller Welt – ein starkes Zeichen in bewegten Zeiten. \nTipp: Jetzt mit offenen Augen an der ehemaligen „Reste“ vorbeigehen und den von Ina Loitzl ins Fenster „geschriebenen“ Wunsch in Gedanken mitnehmen … täglich von 00:00-24:00 Uhr bis Ende Dezember 2025. \nInteressiert an einem eigenen WALL-TATTOO oder CUT-OUT von Ina Loitzl? Kontaktiere gerne die Künstlerin: ina.loitzl@gmx.net\nUm mehr neue Kunst von ihr zu sehen\, besuche Ina Loitzl auf instagram: instagram.com/ina_loitzl \nDetail Fensterinstallation Ina Loitzl PEACE!\nwork in progress CUT OUT Fensterinstallation Ina Loitzl PEACE!
URL:https://www.kunstbahnhofwoerthersee.at/event/fenstergalerie-intervention-von-ina-loitzl/
LOCATION:Kunstbahnhof Wörthersee WEST\, Bahnhofplatz | ÖBB-Hausbahnsteig WEST\, Velden am Wörthersee\, 9220\, Österreich
CATEGORIES:curated by_station
ATTACH;FMTTYPE=image/jpeg:https://www.kunstbahnhofwoerthersee.at/wp-content/uploads/20250804_160623-ina-loitz-peace-kunstbahnhof_w-cut-e1756821043769.jpg
END:VEVENT
BEGIN:VEVENT
DTSTART;VALUE=DATE:20250919
DTEND;VALUE=DATE:20250924
DTSTAMP:20260422T094546
CREATED:20250709T115900Z
LAST-MODIFIED:20250922T084753Z
UID:6408-1758254400-1758599999@www.kunstbahnhofwoerthersee.at
SUMMARY:___TITEL__________
DESCRIPTION:Im Rahmen der Reihe „curated by_station“ lädt Barbara Ambrusch-Rapp zur pop-up-Ausstellung mit Arbeiten von LORENZ FRIEDRICH: \n___TITEL__________\nVernissage am Freitag\, 19. September 2025 um 19 Uhr.\nBegrüßung GR Kulturreferentin Margit Heissenberger.\nBarbara Ambrusch-Rapp im Gespräch mit Lorenz Friedrich.\nDie Ausstellung ist außerdem geöffnet am\nSamstag\, 20. September von 11 bis 13 Uhr (Kuratorinnenführung)\nSonntag\, 21. September von 10 bis 16 Uhr (Friedrich Lorenz führt durch die Ausstellung)\nFinissage am Montag\, 22. September von 18 bis 21 Uhr. \nAusgehend von kleinen\, aus Holzverschnitt geschnitzten\, Miniaturen oder selbst gegossenen Bronzefiguren werden multimediale Langzeitprojekte im Spannungsfeld von Skulptur\, Fotografie\, Film\, Text und Bild sowie raumgreifende ortsspezifische Installationen konzipiert. Modelhafte Momentaufnahmen beziehen die Betrachtenden in gespiegelten Posen mit ein und balancieren am Horizont zweier Welten. Sie bewegen sich an der Grenze zwischen Humor und fragil anmutenden Haltungen und loten in einer Ambivalenz von Nähe und Distanz\, von Verborgenem und Transparenz\, von Bewegung und Skulptur die irreale Steigerung unserer Körperspannung aus. \nLorenz Friedrich: Ausstellungen und Filmfestivalbeteiligungen im In- und Ausland. Erhalt nationaler Preise (Bank Austria Kunstpreis) diverser Stipendien und einer Residence in Paris sowie Werke in privaten und öffentlichen Sammlungen (Museum Moderner Kunst Kärnten\, Kupferstichkabinett [a] Wien\, Stadtgalerie Klagenfurt\, Stadt Villach). \nWerkabbildung Detail © Lorenz Friedrich\nKunstbahnhof Wörthersee\, Hausbahnsteig Ost\, Bahnhofplatz 1\, 9220 Velden am Wörthersee.
URL:https://www.kunstbahnhofwoerthersee.at/event/lorenz-friedrich-ausstellung/
LOCATION:Kunstbahnhof Wörthersee OST\, Bahnhofplatz | ÖBB-Hausbahnsteig OST\, Velden am Wörthersee\, 9220\, Österreich
CATEGORIES:curated by_station
ATTACH;FMTTYPE=image/jpeg:https://www.kunstbahnhofwoerthersee.at/wp-content/uploads/Lorenz-Friedrich-Werkabbildung-Detail.jpg
ORGANIZER;CN="Barbara Ambrusch-Rapp":MAILTO:barbara.rapp@gmx.at
END:VEVENT
END:VCALENDAR