BEGIN:VCALENDAR
VERSION:2.0
PRODID:-//Kunstbahnhof Wörthersee - ECPv6.2.2//NONSGML v1.0//EN
CALSCALE:GREGORIAN
METHOD:PUBLISH
X-ORIGINAL-URL:https://www.kunstbahnhofwoerthersee.at
X-WR-CALDESC:Veranstaltungen für Kunstbahnhof Wörthersee
REFRESH-INTERVAL;VALUE=DURATION:PT1H
X-Robots-Tag:noindex
X-PUBLISHED-TTL:PT1H
BEGIN:VTIMEZONE
TZID:Europe/Paris
BEGIN:DAYLIGHT
TZOFFSETFROM:+0100
TZOFFSETTO:+0200
TZNAME:CEST
DTSTART:20250330T010000
END:DAYLIGHT
BEGIN:STANDARD
TZOFFSETFROM:+0200
TZOFFSETTO:+0100
TZNAME:CET
DTSTART:20251026T010000
END:STANDARD
END:VTIMEZONE
BEGIN:VEVENT
DTSTART;VALUE=DATE:20250701
DTEND;VALUE=DATE:20250806
DTSTAMP:20260421T143211
CREATED:20250225T134003Z
LAST-MODIFIED:20260330T102642Z
UID:6211-1751342400-1754366399@www.kunstbahnhofwoerthersee.at
SUMMARY:"LET’s TRY!" Sommerstudio und Ausstellung INA LOITZL
DESCRIPTION:Cutting\, sewing\, tuffting\, animating\, printing \nPapier\, Leder\, Fotografie\, Stoffe\, Wolle\, Farbe und Found Footage \nINA LOITZL hat neue Pläne: Im Monat Juli möchte sie den ihr im Sommer mittlerweile schon sehr ans Herz gewachsenen Kunstbahnhof Wörthersee am Veldner Hausbahnsteig in einen „Try Out – Ort“ verwandeln: Gemeinsam mit der jungen kreativen Assistentin Anika Wieser wird sie fast täglich in ihrem temporär gemieteten Sommerstudio den gesamten Juli 2025 Materialität neu ausprobieren. Bereits ab der ersten Woche zeigt sie vorab Arbeiten aus ihrem Wiener Atelier. Zwar schon länger als multimedial arbeitende Künstlerin tätig\, ist ihre Neugierde doch stets brennend; Kunst ist Freiheit – sich in Techniken und Thematiken wieder ganz neu und doch auch bewährt zu erproben. Kommt vorbei! Untertags einfach anrufen unter 0699-19712756 oder auf kunstbahnhofwoerthersee.at wöchentlich nachsehen.\nSOMMERSTUDIO Ina Loitzl geöffnet: 4. Juli 11:00-15:00\, 7. bis 11. Juli 10:00-16:00\, 14. Juli 10:00-18:00\, 15.-18. Juli jeweils 10:00-13:00\, 21. bis 23. Juli jeweils 10:00-13:00 … \nDas Ergebnis ist in der anschließenden pop-up-AUSSTELLUNG in der Reihe „curated by_station“ zu sehen:\nVernissage am Donnerstag\, 31. Juli 2025 um 19 Uhr\nBegrüßung: GV Kulturreferentin Margit Heissenberger\n Grega Skaza am Saxophon\nKuratorin Barbara Ambrusch-Rapp mit Ina Loitzl im Gespräch\nWeitere Öffnungszeiten der Ausstellung: Samstag\, 2. und Sonntag\, 3. August 2025 jeweils von 11 bis 13 Uhr sowie nach Vereinbarung \nWORKSHOP Cut-Out Broschen und Minibilder am Montag\, 4. August 2025: Dieser Workshop widmet sich einer sehr alten Technik\, dem klassischen Scherenschnitt mit Schneidemesser und vielen Klingen. Ein fein herausgearbeitetes Cut-Out in Form von tragbaren Papier- und Lederbroschen und eventuell ein kleines Bild\, aufgespannt auf Leinwand\, kann zu einem ganz besonderen Geschenk werden.\nIna Loitzl freut sich auf schneidfreudige Teilnehmer*innen! Info und Anmeldung unter: 0699 19712756 \nGemeinsam mit der Kuratorin freut sich die gebürtige Kärntnerin Ina Loitzl sehr auf das Auffrischen der Kontakte in ihrer Sommerheimat. \n(Foto von Ina Loitzl (c) Richard Krämmer\, Detail)\nVeranstaltung in Kooperation mit dem Kunstverein postWERK
URL:https://www.kunstbahnhofwoerthersee.at/event/ina-loitzl/
LOCATION:Kunstbahnhof Wörthersee OST\, Bahnhofplatz | ÖBB-Hausbahnsteig OST\, Velden am Wörthersee\, 9220\, Österreich
CATEGORIES:curated by_station,Öffentliche Veranstaltung
ATTACH;FMTTYPE=image/jpeg:https://www.kunstbahnhofwoerthersee.at/wp-content/uploads/loitzl-ina-scaled.jpg
END:VEVENT
BEGIN:VEVENT
DTSTART;VALUE=DATE:20250726
DTEND;VALUE=DATE:20250728
DTSTAMP:20260421T143211
CREATED:20250105T143917Z
LAST-MODIFIED:20250611T112109Z
UID:5816-1753502400-1753588799@www.kunstbahnhofwoerthersee.at
SUMMARY:Verschoben: Keramik-Workshop mit Sabine Modl-Sternig
DESCRIPTION:Aus gesundheitlichen Gründen muss der Keramik-Workshop mit Sabine Modl-Sternig leider verschoben werden! Neue Termine folgen. \n„Verschiedene Gestaltungstechniken mit Ton kennenlernen und ausprobieren. Taucht in die kreative Atmosphäre am Kunstbahnhof Wörthersee ein und genießt das Arbeiten in einer kleinen schöpferischen Runde! Vorkenntnisse sind nicht notwendig. Die Freude am Tun ist das Wichtigste.“ \nDer zweiteilige Workshop mit Sabine Modl Sternig (Keramik-Kunsthandwerkerin | Kreativtrainerin | Mal- u. Gestaltungstherapeutin) findet an zwei Tagen statt: \n – 1. Teil: Material- u. Technikkunde\, Kreativübung\, Gestaltung und Oberflächengestaltung.\n – 2. Teil: Die Werke sind zum ersten Mal gebrannt\, Einführung Glasur-Techniken\, Glasieren. \n„Ob einzigartige Lieblingstassen\, Müslibowls\, Lichtschalen\, Windspiele oder Gartendeko: Beim Entstehungsprozess unterstütze ich gerne mit meinem Fachwissen. Wir arbeiten mit einfachen\, in der Wirkung effizienten Techniken (Platten- u. Aufbautechniken)\, die individuelle\, liebenswerte Werke hervorbringen. Jedes so besonders wie die Person\, die es kreiert. Material\, Werkzeug\, Gipsformen bringe ich mit\, für Pausenkaffee und Tee ist gesorgt. Ich freue mich auf euch und eure Ideen!“ \nGeschlossene Gruppengröße max. 7 Personen\nKosten für den zweiteiligen Workshop: 2 Vormittage (8:30-12:30) oder 2 Nachmittage (14:30-18:30): € 130\,-\nErmäßigter Ganztagestarif (2 ganze Tage): € 220\,-\n(excl. Materialkosten\, diese betragen € 28\,-/kg für zweimal gebrannten glasierten Ton) \nZusatztermine bei Gruppengröße ab 5 Personen auf Anfrage sehr gerne möglich \nWeitere Info und Anmeldung bei Sabine Modl-Sternig\nTel 0664 5237576 | E-Mail: sabine.modl-sternig@aon.at / www.sabine-modl-sternig.com
URL:https://www.kunstbahnhofwoerthersee.at/event/zweiteiliger-keramik-workshop-mit-sabine-modl-sternig-59/
LOCATION:Kunstbahnhof Wörthersee WEST\, Bahnhofplatz | ÖBB-Hausbahnsteig WEST\, Velden am Wörthersee\, 9220\, Österreich
ATTACH;FMTTYPE=image/jpeg:https://www.kunstbahnhofwoerthersee.at/wp-content/uploads/Sabine-Modl-Sternig_2_w.jpg
END:VEVENT
END:VCALENDAR