BEGIN:VCALENDAR
VERSION:2.0
PRODID:-//Kunstbahnhof Wörthersee - ECPv6.2.2//NONSGML v1.0//EN
CALSCALE:GREGORIAN
METHOD:PUBLISH
X-ORIGINAL-URL:https://www.kunstbahnhofwoerthersee.at
X-WR-CALDESC:Veranstaltungen für Kunstbahnhof Wörthersee
REFRESH-INTERVAL;VALUE=DURATION:PT1H
X-Robots-Tag:noindex
X-PUBLISHED-TTL:PT1H
BEGIN:VTIMEZONE
TZID:Europe/Paris
BEGIN:DAYLIGHT
TZOFFSETFROM:+0100
TZOFFSETTO:+0200
TZNAME:CEST
DTSTART:20250330T010000
END:DAYLIGHT
BEGIN:STANDARD
TZOFFSETFROM:+0200
TZOFFSETTO:+0100
TZNAME:CET
DTSTART:20251026T010000
END:STANDARD
END:VTIMEZONE
BEGIN:VEVENT
DTSTART;VALUE=DATE:20250628
DTEND;VALUE=DATE:20250630
DTSTAMP:20260421T222810
CREATED:20250105T143653Z
LAST-MODIFIED:20250611T111936Z
UID:5812-1751083200-1751169599@www.kunstbahnhofwoerthersee.at
SUMMARY:Verschoben: Keramik-Workshop mit Sabine Modl-Sternig
DESCRIPTION:Aus gesundheitlichen Gründen muss der Keramik-Workshop mit Sabine Modl-Sternig leider verschoben werden! Neue Termine folgen. \n„Verschiedene Gestaltungstechniken mit Ton kennenlernen und ausprobieren. Taucht in die kreative Atmosphäre am Kunstbahnhof Wörthersee ein und genießt das Arbeiten in einer kleinen schöpferischen Runde! Vorkenntnisse sind nicht notwendig. Die Freude am Tun ist das Wichtigste.“ \nDer zweiteilige Workshop mit Sabine Modl Sternig (Keramik-Kunsthandwerkerin | Kreativtrainerin | Mal- u. Gestaltungstherapeutin) findet an zwei Tagen statt: \n  1. Teil: Material- u. Technikkunde\, Kreativübung\, Gestaltung und Oberflächengestaltung.\n  2. Teil: Die Werke sind zum ersten Mal gebrannt\, Einführung Glasur-Techniken\, Glasieren. \n„Ob einzigartige Lieblingstassen\, Müslibowls\, Lichtschalen\, Windspiele oder Gartendeko: Beim Entstehungsprozess unterstütze ich gerne mit meinem Fachwissen. Wir arbeiten mit einfachen\, in der Wirkung effizienten Techniken (Platten- u. Aufbautechniken)\, die individuelle\, liebenswerte Werke hervorbringen. Jedes so besonders wie die Person\, die es kreiert. Material\, Werkzeug\, Gipsformen bringe ich mit\, für Pausenkaffee und Tee ist gesorgt. Ich freue mich auf euch und eure Ideen!“ \nGeschlossene Gruppengröße max. 7 Personen\nKosten für den zweiteiligen Workshop: 2 Vormittage (8:30-12:30) oder 2 Nachmittage (14:30-18:30): € 130\,-\nErmäßigter Ganztagestarif (2 ganze Tage): € 220\,-\n(excl. Materialkosten\, diese betragen € 28\,-/kg für zweimal gebrannten glasierten Ton) \nZusatztermine bei Gruppengröße ab 5 Personen auf Anfrage sehr gerne möglich \nWeitere Info und Anmeldung bei Sabine Modl-Sternig\nTel 0664 5237576 | E-Mail: sabine.modl-sternig@aon.at / www.sabine-modl-sternig.com
URL:https://www.kunstbahnhofwoerthersee.at/event/zweiteiliger-keramik-workshop-mit-sabine-modl-sternig-57/
ATTACH;FMTTYPE=image/jpeg:https://www.kunstbahnhofwoerthersee.at/wp-content/uploads/Sabine-Modl-Sternig_2_w.jpg
END:VEVENT
BEGIN:VEVENT
DTSTART;TZID=Europe/Paris:20250628T080000
DTEND;TZID=Europe/Paris:20250628T120000
DTSTAMP:20260421T222810
CREATED:20250119T174223Z
LAST-MODIFIED:20250902T142917Z
UID:5903-1751097600-1751112000@www.kunstbahnhofwoerthersee.at
SUMMARY:Repair Café Velden
DESCRIPTION:Das beliebte Repair Café in Velden am Wörthersee ist wieder am Samstag\, 28.6.2025 von 8 bis 12:00 Uhr geöffnet: „Du kommst mit deinem kaputten Gerät vorbei _ Entweder du kannst es selbst mit unserem Werkzeug vor Ort reparieren _ Oder wir geben dir Anleitung und helfen gerne _ Das Ganze in angenehmer Atmosphäre mit Café- und Workshopcharakter bei freiwilliger Spende!“\nLetzte Reparaturannahme um 11 Uhr! \nDu hättest gerne mehr Information über das Repair Café? Schau auf die internationale Webseite Repaircafe.org oder stelle deine Fragen an Klaus Zerche unter zerche@a1.net oder Tel 0664-3868666. Anmelden als ehrenamtliche/r Helfer/in? Sende bitte eine E-Mail an zerche@a1.net.\nBis dann im Repair Café!
URL:https://www.kunstbahnhofwoerthersee.at/event/repair-cafe-velden-40/
LOCATION:Kunstbahnhof Wörthersee WEST\, Bahnhofplatz | ÖBB-Hausbahnsteig WEST\, Velden am Wörthersee\, 9220\, Österreich
CATEGORIES:Öffentliche Veranstaltung
ATTACH;FMTTYPE=image/jpeg:https://www.kunstbahnhofwoerthersee.at/wp-content/uploads/Logo-Repair-Cafe-Velden-banner-neu-e1737969070219.jpg
END:VEVENT
END:VCALENDAR