BEGIN:VCALENDAR
VERSION:2.0
PRODID:-//Kunstbahnhof Wörthersee - ECPv6.2.2//NONSGML v1.0//EN
CALSCALE:GREGORIAN
METHOD:PUBLISH
X-ORIGINAL-URL:https://www.kunstbahnhofwoerthersee.at
X-WR-CALDESC:Veranstaltungen für Kunstbahnhof Wörthersee
REFRESH-INTERVAL;VALUE=DURATION:PT1H
X-Robots-Tag:noindex
X-PUBLISHED-TTL:PT1H
BEGIN:VTIMEZONE
TZID:Europe/Paris
BEGIN:DAYLIGHT
TZOFFSETFROM:+0100
TZOFFSETTO:+0200
TZNAME:CEST
DTSTART:20250330T010000
END:DAYLIGHT
BEGIN:STANDARD
TZOFFSETFROM:+0200
TZOFFSETTO:+0100
TZNAME:CET
DTSTART:20251026T010000
END:STANDARD
END:VTIMEZONE
BEGIN:VEVENT
DTSTART;VALUE=DATE:20250623
DTEND;VALUE=DATE:20250625
DTSTAMP:20260422T072511
CREATED:20250305T121758Z
LAST-MODIFIED:20250305T121758Z
UID:6254-1750651200-1750737599@www.kunstbahnhofwoerthersee.at
SUMMARY:Malworkshops für Jugendliche mit Puppi und Astrid
DESCRIPTION:Jugendliche ab 11 Jahren mit Mut zum Experimentieren und offenen Gestalten sind beim Workshop von Karin Kriegelstein-Sternfeld und Astrid Walluschnig im Kunstbahnhof Wörthersee herzlich willkommen! Hier lernen die jungen Kreativen verschiedene Acrylmaltechniken und das Arbeiten mit diversen Materialien auf Leinwand kennen. \nInteressiert? Nähere Infos und Anmeldung bitte unter der Telefonnummer 0676-5124070.\nDie Gruppengröße ist begrenzt. Puppi und Astrid freuen sich auf euch! \nNächster Termin: Montag\, 23. Juni 2025 von 16 bis 18 Uhr\nOrt: Kunstbahnhof Wörthersee\, Hausbahnsteig Ost\, Bahnhofplatz 1\, Velden am Wörthersee
URL:https://www.kunstbahnhofwoerthersee.at/event/malworkshops-fuer-jugendliche-mit-puppi-und-astrid-10/
LOCATION:Kunstbahnhof Wörthersee OST\, Bahnhofplatz | ÖBB-Hausbahnsteig OST\, Velden am Wörthersee\, 9220\, Österreich
ATTACH;FMTTYPE=image/jpeg:https://www.kunstbahnhofwoerthersee.at/wp-content/uploads/malrunde-karin-kriegelstein-sternfeld.jpg
END:VEVENT
END:VCALENDAR