BEGIN:VCALENDAR
VERSION:2.0
PRODID:-//Kunstbahnhof Wörthersee - ECPv6.2.2//NONSGML v1.0//EN
CALSCALE:GREGORIAN
METHOD:PUBLISH
X-WR-CALNAME:Kunstbahnhof Wörthersee
X-ORIGINAL-URL:https://www.kunstbahnhofwoerthersee.at
X-WR-CALDESC:Veranstaltungen für Kunstbahnhof Wörthersee
REFRESH-INTERVAL;VALUE=DURATION:PT1H
X-Robots-Tag:noindex
X-PUBLISHED-TTL:PT1H
BEGIN:VTIMEZONE
TZID:Europe/Paris
BEGIN:DAYLIGHT
TZOFFSETFROM:+0100
TZOFFSETTO:+0200
TZNAME:CEST
DTSTART:20250330T010000
END:DAYLIGHT
BEGIN:STANDARD
TZOFFSETFROM:+0200
TZOFFSETTO:+0100
TZNAME:CET
DTSTART:20251026T010000
END:STANDARD
END:VTIMEZONE
BEGIN:VEVENT
DTSTART;VALUE=DATE:20250613
DTEND;VALUE=DATE:20250617
DTSTAMP:20260424T212823
CREATED:20241124T153415Z
LAST-MODIFIED:20260218T084201Z
UID:5776-1749787200-1750046399@www.kunstbahnhofwoerthersee.at
SUMMARY:VERSCHOBEN Kleiner Grenzverkehr | Ausstellung Christine Huss mit Lesung Eva Brislinger
DESCRIPTION:Die Ausstellung mit Lesung muss leider VERSCHOBEN werden\, neuer Termin folgt … \nKleiner Grenzverkehr | Christine Huss\nVernissage am Freitag\, 13. Juni 2025 um 19 Uhr VERSCHOBEN – neuer Termin am Freitag\, 12. Juni 2026!\nDie Kuratorin spricht zur Ausstellung\, die Künstlerin ist anwesend.\nAusstellung geöffnet auch am Samstag\, 14. Juni von 11 bis 13 Uhr.\nFinissage/Lesung am Sonntag\, 15. Juni 2025 um 18 Uhr\nDie Kärntner Autorin Eva Brislinger liest gefühlvolle Texte aus ihrem neuen Lyrikband „Liebe\, Tod und Tischgeflüster“ und ihre Erzählung „Märzrausch“\, die 2024 mit dem Anerkennungspreis des Landes Kärnten für Prosa ausgezeichnet wurde.\nEintritt frei. \nZur Ausstellung: Kleiner Grenzverkehr – innere und äußere Reisen. Überall begegnen wir Grenzen – sichtbar und unsichtbar. Einatmen. Ausatmen. Schon hier beginnt das Überschreiten. Innen wird Außen\, Ich wird Du … Unser Körper ist das Gefäß unseres Lebens: Ich – und da draußen alle Du. Diese Ausstellung ist eine Reise: sie fragt nach dem\, was trennt – und dem\, was verbindet. Sie erzählt von Reisen – durch Landschaften und Seelenräume. Vom Erweitern der eigenen Grenzen\, vom Mut\, das Bekannte zu verlassen und sich in das Unbekannte zu wagen. Kleiner Grenzverkehr – eine Einladung\, das Zwischen und Darüberhinaus zu betreten. (Christine Huss) \nChristine Huss\, 1966 in Hall in Tirol geboren\, lebt in Kärnten\, Ferlach. Beschäftigung mit Malerei\, Objektkunst\, Lichtkunst seit 1990. Unterrichtet Yoga und Qigong und leitet Kunstworkshops. Mitglied im „Kunstverein Kärnten“ und in der „Berufsvereinigung bildender Künstler“ Landesverband Kärnten. Christine Huss arbeitet mit Projektionen\, Visionen und Bildern\, die sich aus ihrer Körperarbeit und Arbeit des Spürens und Sehens aus der Tiefe ergeben und die sich in der Malerei\, Objekt-/Lichtkunst zeigen dürfen.\nchristinehuss.at \nInfo zum Buch von Eva Brislinger: Liebe\, Tod und Tischgeflüster – Lyrik plus 1 / 2025 MITGIFT Verlag / ISBN 978-3-903095-21-2 / Hartband / 72 Seiten / Format 130 x 165.\ngeschrieben.at/evas-schreiberei
URL:https://www.kunstbahnhofwoerthersee.at/event/christine-huss/
LOCATION:Kunstbahnhof Wörthersee OST\, Bahnhofplatz | ÖBB-Hausbahnsteig OST\, Velden am Wörthersee\, 9220\, Österreich
CATEGORIES:curated by_station,Öffentliche Veranstaltung
ATTACH;FMTTYPE=image/jpeg:https://www.kunstbahnhofwoerthersee.at/wp-content/uploads/Werkabbildung-Christine-Huss_Detail.jpg
END:VEVENT
BEGIN:VEVENT
DTSTART;VALUE=DATE:20250614
DTEND;VALUE=DATE:20250616
DTSTAMP:20260424T212823
CREATED:20250105T143549Z
LAST-MODIFIED:20250611T111834Z
UID:5810-1749873600-1749959999@www.kunstbahnhofwoerthersee.at
SUMMARY:Verschoben: Keramik-Workshop mit Sabine Modl-Sternig
DESCRIPTION:Aus gesundheitlichen Gründen muss der Keramik-Workshop mit Sabine Modl-Sternig leider verschoben werden! Neue Termine folgen. \n„Verschiedene Gestaltungstechniken mit Ton kennenlernen und ausprobieren. Taucht in die kreative Atmosphäre am Kunstbahnhof Wörthersee ein und genießt das Arbeiten in einer kleinen schöpferischen Runde! Vorkenntnisse sind nicht notwendig. Die Freude am Tun ist das Wichtigste.“ \nDer zweiteilige Workshop mit Sabine Modl Sternig (Keramik-Kunsthandwerkerin | Kreativtrainerin | Mal- u. Gestaltungstherapeutin) findet an zwei Tagen statt: \n1. Teil: Material- u. Technikkunde\, Kreativübung\, Gestaltung und Oberflächengestaltung.\n2. Teil: Die Werke sind zum ersten Mal gebrannt\, Einführung Glasur-Techniken\, Glasieren. \n„Ob einzigartige Lieblingstassen\, Müslibowls\, Lichtschalen\, Windspiele oder Gartendeko: Beim Entstehungsprozess unterstütze ich gerne mit meinem Fachwissen. Wir arbeiten mit einfachen\, in der Wirkung effizienten Techniken (Platten- u. Aufbautechniken)\, die individuelle\, liebenswerte Werke hervorbringen. Jedes so besonders wie die Person\, die es kreiert. Material\, Werkzeug\, Gipsformen bringe ich mit\, für Pausenkaffee und Tee ist gesorgt. Ich freue mich auf euch und eure Ideen!“ \nGeschlossene Gruppengröße max. 7 Personen\nKosten für den zweiteiligen Workshop: 2 Vormittage (8:30-12:30) oder 2 Nachmittage (14:30-18:30): € 130\,-\nErmäßigter Ganztagestarif (2 ganze Tage): € 220\,-\n(excl. Materialkosten\, diese betragen € 28\,-/kg für zweimal gebrannten glasierten Ton) \nZusatztermine bei Gruppengröße ab 5 Personen auf Anfrage sehr gerne möglich \nWeitere Info und Anmeldung bei Sabine Modl-Sternig\nTel 0664 5237576 | E-Mail: sabine.modl-sternig@aon.at / www.sabine-modl-sternig.com
URL:https://www.kunstbahnhofwoerthersee.at/event/zweiteiliger-keramik-workshop-mit-sabine-modl-sternig-56/
LOCATION:Kunstbahnhof Wörthersee WEST\, Bahnhofplatz | ÖBB-Hausbahnsteig WEST\, Velden am Wörthersee\, 9220\, Österreich
ATTACH;FMTTYPE=image/jpeg:https://www.kunstbahnhofwoerthersee.at/wp-content/uploads/Sabine-Modl-Sternig_2_w.jpg
END:VEVENT
END:VCALENDAR