BEGIN:VCALENDAR
VERSION:2.0
PRODID:-//Kunstbahnhof Wörthersee - ECPv6.2.2//NONSGML v1.0//EN
CALSCALE:GREGORIAN
METHOD:PUBLISH
X-WR-CALNAME:Kunstbahnhof Wörthersee
X-ORIGINAL-URL:https://www.kunstbahnhofwoerthersee.at
X-WR-CALDESC:Veranstaltungen für Kunstbahnhof Wörthersee
REFRESH-INTERVAL;VALUE=DURATION:PT1H
X-Robots-Tag:noindex
X-PUBLISHED-TTL:PT1H
BEGIN:VTIMEZONE
TZID:Europe/Paris
BEGIN:DAYLIGHT
TZOFFSETFROM:+0100
TZOFFSETTO:+0200
TZNAME:CEST
DTSTART:20250330T010000
END:DAYLIGHT
BEGIN:STANDARD
TZOFFSETFROM:+0200
TZOFFSETTO:+0100
TZNAME:CET
DTSTART:20251026T010000
END:STANDARD
END:VTIMEZONE
BEGIN:VEVENT
DTSTART;TZID=Europe/Paris:20250422T190000
DTEND;TZID=Europe/Paris:20250422T203000
DTSTAMP:20260424T204856
CREATED:20250225T141131Z
LAST-MODIFIED:20250416T060133Z
UID:6218-1745348400-1745353800@www.kunstbahnhofwoerthersee.at
SUMMARY:Kulturhauptstadt 2025 Nova Gorica | Gorizia | Görz
DESCRIPTION:Veranstaltung wird VERSCHOBEN\, neuer Termin folgt! Der Club für Bild und Bildung lädt zum Bildvortrag als Einstimmung auf die Kulturhauptstadt 2025 mit Gerda Madl-Kren am\nDienstag\, 22. April 2025 um 19 Uhr \n15 Euro Clubbeitrag\nKunstbahnhof Wörthersee\, Velden am Wörthersee\, Hausbahnsteig am Bahnhofplatz\nBeschränkte Platzzahl\, daher bitte unbedingt um Anmeldung via office@kunstbahnhofwoerthersee.at! \n  \nAbbildung (Detail) Castello di Gorizia\, Italia (gemeinfrei)
URL:https://www.kunstbahnhofwoerthersee.at/event/kulturhauptstadt-2025-nova-gorica-gorizia-goerz/
LOCATION:Kunstbahnhof Wörthersee OST\, Bahnhofplatz | ÖBB-Hausbahnsteig OST\, Velden am Wörthersee\, 9220\, Österreich
ATTACH;FMTTYPE=image/jpeg:https://www.kunstbahnhofwoerthersee.at/wp-content/uploads/Castello_di_Gorizia_-_Vista_SUD_OVEST-gemeinfrei-cut.jpg
END:VEVENT
END:VCALENDAR