BEGIN:VCALENDAR
VERSION:2.0
PRODID:-//Kunstbahnhof Wörthersee - ECPv6.2.2//NONSGML v1.0//EN
CALSCALE:GREGORIAN
METHOD:PUBLISH
X-WR-CALNAME:Kunstbahnhof Wörthersee
X-ORIGINAL-URL:https://www.kunstbahnhofwoerthersee.at
X-WR-CALDESC:Veranstaltungen für Kunstbahnhof Wörthersee
REFRESH-INTERVAL;VALUE=DURATION:PT1H
X-Robots-Tag:noindex
X-PUBLISHED-TTL:PT1H
BEGIN:VTIMEZONE
TZID:Europe/Paris
BEGIN:DAYLIGHT
TZOFFSETFROM:+0100
TZOFFSETTO:+0200
TZNAME:CEST
DTSTART:20250330T010000
END:DAYLIGHT
BEGIN:STANDARD
TZOFFSETFROM:+0200
TZOFFSETTO:+0100
TZNAME:CET
DTSTART:20251026T010000
END:STANDARD
END:VTIMEZONE
BEGIN:VEVENT
DTSTART;TZID=Europe/Paris:20250311T190000
DTEND;TZID=Europe/Paris:20250311T213000
DTSTAMP:20260424T223550
CREATED:20250224T164608Z
LAST-MODIFIED:20250224T164608Z
UID:6208-1741719600-1741728600@www.kunstbahnhofwoerthersee.at
SUMMARY:Barcarole in der Nacht (Bildvortrag Wiederholung)
DESCRIPTION:Wiederholung auf mehrfachen Wunsch: Der Club für Bild und Bildung lädt zum Bildvortrag „Barcarole in der Nacht – Die Gondel als Bühne für Geschichte und Kunst Venedigs“ mit Gerda Madl-Kren am\nDienstag\, 11. März 2025 um 19 Uhr \n15 Euro Clubbeitrag\nKunstbahnhof Wörthersee\, Velden am Wörthersee\, Hausbahnsteig am Bahnhofplatz\nBeschränkte Platzzahl\, daher bitte unbedingt um Anmeldung via office@kunstbahnhofwoerthersee.at! \nBarcarole in der Nacht – Die Gondel als Bühne für Geschichte\, Poesie und die Seele Venedigs. Der Bildvortrag erzählt von ihrer Symbolik\, ihrer einzigartigen Bauweise und ihrer bedeutende Rolle in Venedigs schillernder Festkultur. Kaum ein Symbol ist so untrennbar mit Venedig verbunden wie die Gondel. Doch sie ist weit mehr als nur ein elegantes Fortbewegungsmittel: Sie verkörpert Romantik\, Sehnsucht und Inspiration\, aber auch Leidenschaft\, Intrigen und düstere Dramen. Ob bei prunkvollen Paraden auf dem Canal Grande oder romantischen nächtlichen Fahrten während des Karnevals: die Gondel ist die ikonische Bühne für die Geschichten dieser magischen Stadt. Als Sinnbild venezianischer Romantik hat sie die Kunst inspiriert: seien es die faszinierenden Licht- und Farbspiele der Lagune\, in beeindruckenden Bildern festgehalten oder das Zusammenspiel von Musik\, Wasser und Poesie\, als neues Genre dem sanft schwingenden Gesang der venezianischen Gondolieri abgelauscht: die Barcarole. \nAbbildung (Detail) Canaletto – Bucentaur’s return to the pier by the Palazzo Ducal (gemeinfrei)
URL:https://www.kunstbahnhofwoerthersee.at/event/barcarole-in-der-nacht-bildvortrag-wiederholung/
LOCATION:Kunstbahnhof Wörthersee OST\, Bahnhofplatz | ÖBB-Hausbahnsteig OST\, Velden am Wörthersee\, 9220\, Österreich
ATTACH;FMTTYPE=image/jpeg:https://www.kunstbahnhofwoerthersee.at/wp-content/uploads/Barcarole-Canaletto-gemeinfrei.jpg
END:VEVENT
END:VCALENDAR