BEGIN:VCALENDAR
VERSION:2.0
PRODID:-//Kunstbahnhof Wörthersee - ECPv6.2.2//NONSGML v1.0//EN
CALSCALE:GREGORIAN
METHOD:PUBLISH
X-ORIGINAL-URL:https://www.kunstbahnhofwoerthersee.at
X-WR-CALDESC:Veranstaltungen für Kunstbahnhof Wörthersee
REFRESH-INTERVAL;VALUE=DURATION:PT1H
X-Robots-Tag:noindex
X-PUBLISHED-TTL:PT1H
BEGIN:VTIMEZONE
TZID:Europe/Paris
BEGIN:DAYLIGHT
TZOFFSETFROM:+0100
TZOFFSETTO:+0200
TZNAME:CEST
DTSTART:20250330T010000
END:DAYLIGHT
BEGIN:STANDARD
TZOFFSETFROM:+0200
TZOFFSETTO:+0100
TZNAME:CET
DTSTART:20251026T010000
END:STANDARD
END:VTIMEZONE
BEGIN:VEVENT
DTSTART;VALUE=DATE:20250128
DTEND;VALUE=DATE:20250130
DTSTAMP:20260425T001919
CREATED:20250106T092323Z
LAST-MODIFIED:20250130T150724Z
UID:5864-1738036800-1738123199@www.kunstbahnhofwoerthersee.at
SUMMARY:Die Seerepublik Venedig: Kunst\, Kultur und Macht im Mittelmeer
DESCRIPTION:Der „Club für Bild und Bildung“ lädt zum Bildvortrag „Die Seerepublik Venedig: Kunst\, Kultur und Macht im Mittelmeer“ mit Gerda Madl-Kren:\nDie Lagunenstadt war über Jahrhunderte hinweg nicht nur eine politische und wirtschaftliche Großmacht im Mittelmeerraum\, sondern auch ein Zentrum kultureller und künstlerischer Innovation. Von einer kleinen Handelskolonie aufgestiegen\, stilisierte sie sich zur mächtigen „Königin der Adria“. In ihren Kolonien und Kontoren im östlichen Mittelmeer – wie Dalmatien\, Kreta\, Zypern und am Peloponnes – verschmolzen venezianische Traditionen mit lokalen Einflüssen zu einer kulturellen Vielfalt\, die Renaissance und byzantinisches Erbe miteinander verband. Umgekehrt kamen auch Meister aus diesen Regionen nach Venedig\, brachten ihre Ideen\, Kenntnisse und Stile ein und prägten diese einzigartige Synthese\, die den Glanz und den Ruhm der Serenissima ausmacht. \nDienstag\, 28. Jänner 2025 um 19 Uhr\n15 Euro Clubbeitrag\nKunstbahnhof Wörthersee\, Hausbahnsteig\, Bahnhofplatz 1 in Velden am Wörthersee\nBeschränkte Platzzahl\, daher bitte um Anmeldung via  office@kunstbahnhofwoerthersee.at! \n 
URL:https://www.kunstbahnhofwoerthersee.at/event/die-seerepublik-venedig/
LOCATION:Kunstbahnhof Wörthersee OST\, Bahnhofplatz | ÖBB-Hausbahnsteig OST\, Velden am Wörthersee\, 9220\, Österreich
ORGANIZER;CN="Club f%C3%BCr Bild und Bildung":MAILTO:bildundbildung@gmx.at
END:VEVENT
END:VCALENDAR