BEGIN:VCALENDAR
VERSION:2.0
PRODID:-//Kunstbahnhof Wörthersee - ECPv6.2.2//NONSGML v1.0//EN
CALSCALE:GREGORIAN
METHOD:PUBLISH
X-ORIGINAL-URL:https://www.kunstbahnhofwoerthersee.at
X-WR-CALDESC:Veranstaltungen für Kunstbahnhof Wörthersee
REFRESH-INTERVAL;VALUE=DURATION:PT1H
X-Robots-Tag:noindex
X-PUBLISHED-TTL:PT1H
BEGIN:VTIMEZONE
TZID:Europe/Paris
BEGIN:DAYLIGHT
TZOFFSETFROM:+0100
TZOFFSETTO:+0200
TZNAME:CEST
DTSTART:20240331T010000
END:DAYLIGHT
BEGIN:STANDARD
TZOFFSETFROM:+0200
TZOFFSETTO:+0100
TZNAME:CET
DTSTART:20241027T010000
END:STANDARD
END:VTIMEZONE
BEGIN:VEVENT
DTSTART;VALUE=DATE:20240830
DTEND;VALUE=DATE:20240901
DTSTAMP:20260424T135348
CREATED:20240612T074617Z
LAST-MODIFIED:20240612T074617Z
UID:5383-1724990400-1725076799@www.kunstbahnhofwoerthersee.at
SUMMARY:Zweiteiliger Keramik-Workshop mit Sabine Modl-Sternig
DESCRIPTION:Freitag\, 30. August von 14:30 bis 18:30 Uhr: „Verschiedene Gestaltungstechniken mit Ton kennenlernen und ausprobieren. Taucht in die kreative Atmosphäre am Kunstbahnhof Wörthersee ein und genießt das Arbeiten in einer kleinen schöpferischen Runde! Vorkenntnisse sind nicht notwendig. Die Freude am Tun ist das Wichtigste.“ \nDer zweiteilige Workshop mit Sabine Modl Sternig (Keramik-Kunsthandwerkerin | Kreativtrainerin | Mal- u. Gestaltungstherapeutin) findet an zwei Tagen statt: \n1. Teil: Material- u. Technikkunde\, Kreativübung\, Gestaltung und Oberflächengestaltung.\n2. Teil: Die Werke sind zum ersten Mal gebrannt\, Einführung Glasur-Techniken\, Glasieren. \n„Ob einzigartige Lieblingstassen\, Müslibowls\, Lichtschalen\, Windspiele oder Gartendeko: Beim Entstehungsprozess unterstütze ich gerne mit meinem Fachwissen. Wir arbeiten mit einfachen\, in der Wirkung effizienten Techniken (Platten- u. Aufbautechniken)\, die individuelle\, liebenswerte Werke hervorbringen. Jedes so besonders wie die Person\, die es kreiert. Material\, Werkzeug\, Gipsformen bringe ich mit\, für Pausenkaffee und Tee ist gesorgt. Ich freue mich auf euch und eure Ideen!“ \nGeschlossene Gruppengröße max. 7 Personen\nKosten für den zweiteiligen Workshop: 2 Vormittage (8:30-12:30) oder 2 Nachmittage (14:30-18:30): € 120\,-\nErmäßigter Ganztagestarif (2 ganze Tage): € 200\,-\n(excl. Materialkosten\, diese betragen € 28\,-/kg für zweimal gebrannten glasierten Ton) \nZusatztermine bei Gruppengröße ab 5 Personen auf Anfrage sehr gerne möglich \nWeitere Info und Anmeldung bei Sabine Modl-Sternig\nTel 0664 5237576 | E-Mail: sabine.modl-sternig@aon.at / www.sabine-modl-sternig.com
URL:https://www.kunstbahnhofwoerthersee.at/event/zweiteiliger-keramik-workshop-mit-sabine-modl-sternig-49/
LOCATION:Kunstbahnhof Wörthersee WEST\, Bahnhofplatz | ÖBB-Hausbahnsteig WEST\, Velden am Wörthersee\, 9220\, Österreich
ATTACH;FMTTYPE=image/jpeg:https://www.kunstbahnhofwoerthersee.at/wp-content/uploads/Sabine-Modl-Sternig_2_w.jpg
END:VEVENT
END:VCALENDAR