BEGIN:VCALENDAR
VERSION:2.0
PRODID:-//Kunstbahnhof Wörthersee - ECPv6.2.2//NONSGML v1.0//EN
CALSCALE:GREGORIAN
METHOD:PUBLISH
X-ORIGINAL-URL:https://www.kunstbahnhofwoerthersee.at
X-WR-CALDESC:Veranstaltungen für Kunstbahnhof Wörthersee
REFRESH-INTERVAL;VALUE=DURATION:PT1H
X-Robots-Tag:noindex
X-PUBLISHED-TTL:PT1H
BEGIN:VTIMEZONE
TZID:Europe/Paris
BEGIN:DAYLIGHT
TZOFFSETFROM:+0100
TZOFFSETTO:+0200
TZNAME:CEST
DTSTART:20240331T010000
END:DAYLIGHT
BEGIN:STANDARD
TZOFFSETFROM:+0200
TZOFFSETTO:+0100
TZNAME:CET
DTSTART:20241027T010000
END:STANDARD
END:VTIMEZONE
BEGIN:VEVENT
DTSTART;TZID=Europe/Paris:20240806T190000
DTEND;TZID=Europe/Paris:20240806T210000
DTSTAMP:20260425T143335
CREATED:20240701T161017Z
LAST-MODIFIED:20240730T070804Z
UID:5392-1722970800-1722978000@www.kunstbahnhofwoerthersee.at
SUMMARY:Illegio zeigt MUT: 20 Jahre Weltkunst im karnischen Bergdorf
DESCRIPTION:Die heurige Ausstellung „Coraggio“ in Illegio findet großen Anklang.\nBildervortrag von Gerda Madl-Kren\, gerne auch als Vorbereitung für die Kunstfahrt im September: \nIllegio zeigt MUT: 20 Jahre Weltkunst im karnischen Bergdorf\nDienstag\, 6. August 2024\, 19:00 Uhr\nEin Angebot von „Club für Bild und Bildung“ (Club-Beitrag)\nReservierung gerne unter 0676 3205884 \nwww.verliebt-in-italien.at/eine-kunstausstellung-mitten-in-den-bergen \n© Foto: https://illegio.it/
URL:https://www.kunstbahnhofwoerthersee.at/event/illegio-zeigt-mut-20-jahre-weltkunst-im-karnischen-bergdorf/
LOCATION:Kunstbahnhof Wörthersee OST\, Bahnhofplatz | ÖBB-Hausbahnsteig OST\, Velden am Wörthersee\, 9220\, Österreich
CATEGORIES:Öffentliche Veranstaltung
ATTACH;FMTTYPE=image/jpeg:https://www.kunstbahnhofwoerthersee.at/wp-content/uploads/foto_illegio_2024.jpg
ORGANIZER;CN="Club f%C3%BCr Bild und Bildung":MAILTO:bildundbildung@gmx.at
END:VEVENT
END:VCALENDAR