BEGIN:VCALENDAR
VERSION:2.0
PRODID:-//Kunstbahnhof Wörthersee - ECPv6.2.2//NONSGML v1.0//EN
CALSCALE:GREGORIAN
METHOD:PUBLISH
X-WR-CALNAME:Kunstbahnhof Wörthersee
X-ORIGINAL-URL:https://www.kunstbahnhofwoerthersee.at
X-WR-CALDESC:Veranstaltungen für Kunstbahnhof Wörthersee
REFRESH-INTERVAL;VALUE=DURATION:PT1H
X-Robots-Tag:noindex
X-PUBLISHED-TTL:PT1H
BEGIN:VTIMEZONE
TZID:Europe/Paris
BEGIN:DAYLIGHT
TZOFFSETFROM:+0100
TZOFFSETTO:+0200
TZNAME:CEST
DTSTART:20240331T010000
END:DAYLIGHT
BEGIN:STANDARD
TZOFFSETFROM:+0200
TZOFFSETTO:+0100
TZNAME:CET
DTSTART:20241027T010000
END:STANDARD
END:VTIMEZONE
BEGIN:VEVENT
DTSTART;VALUE=DATE:20240803
DTEND;VALUE=DATE:20240806
DTSTAMP:20260424T154543
CREATED:20240205T113839Z
LAST-MODIFIED:20240205T113839Z
UID:4986-1722657600-1722830399@www.kunstbahnhofwoerthersee.at
SUMMARY:NANA Workshop mit Jutta Berger
DESCRIPTION:Samstag\, 3. August und Sonntag\, 4. August 2024\njeweils von 10 bis 17 Uhr im Kunstbahnhof Wörthersee am Veldner Hausbahnsteig\nNANA-Workshop mit Jutta Berger: \nWas gibt es schöneres als pure Weiblichkeit?\nDie sinnlichen Figuren der Künstlerin Niki de Saint Phalle inspirieren und ermutigen uns in diesem Workshop unsere Weiblichkeit in den Mittelpunkt zu stellen und unsere eigene farbenfrohe\, sinnliche NANA zu gestalten. Wir arbeiten mit Hasendraht\, Papier und Gipsbandagen. Sämtliches Material und Werkzeug wird zur Verfügung gestellt. Der phantasievollen Ausgestaltung sind keine Grenzen gesetzt.\nKeine Vorkenntnisse nötig! \nWorkshop-Leitung: Jutta Berger\, Kreativtrainerin\nInfo und Anmeldung: 0650-4429 994
URL:https://www.kunstbahnhofwoerthersee.at/event/nana-workshop-mit-jutta-berger/
LOCATION:Kunstbahnhof Wörthersee OST\, Bahnhofplatz | ÖBB-Hausbahnsteig OST\, Velden am Wörthersee\, 9220\, Österreich
ATTACH;FMTTYPE=image/jpeg:https://www.kunstbahnhofwoerthersee.at/wp-content/uploads/2_Jutta-nana-workshop_banner.jpg
END:VEVENT
END:VCALENDAR