BEGIN:VCALENDAR
VERSION:2.0
PRODID:-//Kunstbahnhof Wörthersee - ECPv6.2.2//NONSGML v1.0//EN
CALSCALE:GREGORIAN
METHOD:PUBLISH
X-WR-CALNAME:Kunstbahnhof Wörthersee
X-ORIGINAL-URL:https://www.kunstbahnhofwoerthersee.at
X-WR-CALDESC:Veranstaltungen für Kunstbahnhof Wörthersee
REFRESH-INTERVAL;VALUE=DURATION:PT1H
X-Robots-Tag:noindex
X-PUBLISHED-TTL:PT1H
BEGIN:VTIMEZONE
TZID:Europe/Paris
BEGIN:DAYLIGHT
TZOFFSETFROM:+0100
TZOFFSETTO:+0200
TZNAME:CEST
DTSTART:20240331T010000
END:DAYLIGHT
BEGIN:STANDARD
TZOFFSETFROM:+0200
TZOFFSETTO:+0100
TZNAME:CET
DTSTART:20241027T010000
END:STANDARD
END:VTIMEZONE
BEGIN:VEVENT
DTSTART;VALUE=DATE:20240503
DTEND;VALUE=DATE:20240723
DTSTAMP:20260424T173031
CREATED:20240423T120439Z
LAST-MODIFIED:20240423T121001Z
UID:5268-1714708800-1721620799@www.kunstbahnhofwoerthersee.at
SUMMARY:Straßengalerie by Leon Bernhofer | Gerhard Maurer und Laura Hintermann
DESCRIPTION:Im Rahmen der bundesländerübergreifenden Straßengalerie by Leon Bernhofer sind im Frühjahr 2024 auch im Kunstbahnhof Wörthersee (Schaufenster West) Arbeiten von Gerhard Maurer und Laura Hintermann in Velden am Wörthersee zu sehen. Diese Ausstellung in Klagenfurt\, Villach/Velden und Salzburg startet mit einer\nVernissage am Freitag 3. Mai um 18 Uhr\nbeim „Raum für Fotografie“ in der St. Ruprechter Str. 10\, 9020 Klagenfurt\nund ist bis 21. Juli 2024 an den teilnehmenden Standorten zu sehen. \nGerhard Maurer\, geboren 1967\, lebt und arbeitet als Portrait-\, Reportage- und Architekturfotograf in Klagenfurt. Freie fotografische Projekte\, Publikationen etc. im Kontext von Heimat\, Identität und Alltagskultur. Er betreibt mit Gudrun Zacharias und Thérèse Gregori in der St. Ruprechter Straße 10 in Klagenfurt den „Raum für Fotografie“ – einen Ort\, wo zeitgenössische Fotografie einem interessierten Publikum vermittelt wird. Hier finden Ausstellungen\, Workshops\, Buchpräsentationen etc. statt\, zudem beherbergt der Raum eine Präsenzbibliothek mit ca. 250 Fotokunstbüchern aus dem Verlagsprogramm der FOTOHOF edition. Gerhard Maurer zeigt in dieser Ausstellung die neue Serie 19__ \n»Das Hemd ausziehen\,\ndie Brille absetzen\,\nkein Lächeln aufsetzen\,\nin die Linse schauen\,\ndem Anblick standhalten.\nEntblößend? Vertrauen.« \nLaura Hintermann\, geboren am 30.11.2000 in Klagenfurt\, absolvierte die Ausbildung Fotografie und Multimedia Art an der Ortweinschule in Graz. Mit ihrer Abschlussarbeit „Absurclarity“ begann eine Auseinandersetzung mit dem Sehen\, der Wahrnehmung und der Erinnerung. Die Fotografien des Ausstellungsbeitrages von Laura Hintermann befassen sich mit dem Sehen an sich und der Wahrnehmung auf eine Bildzusammenstellung die Licht\, Farbe\, Struktur\, Perspektive\, Kontrast und Schärfe als Gestaltungsmittel begreift. Die Bilder dienen nicht dem Hinterfragen „was man sieht“\, sondern vielmehr „wie man etwas sehen kann“. \nIm Rahmen von ÜBER DAS LAND / O deželi\, Jahr der Fotografie / Leto fotografije\, 2024\nueberdasland.at \nDie Straßengalerie ist ein Projekt von Leon Bernhofer. Die Ausstellung wird in über 30 Schaukästen in Klagenfurt\, Villach/Velden und Salzburg gezeigt. Die einzelnen Stationen finden sie in den folgenden Karten:\nstrassengalerie.com/standorte \nBei Fragen oder Kaufinteresse:\noffice@strassengalerie.com \n \n  \n 
URL:https://www.kunstbahnhofwoerthersee.at/event/strassengalerie-by-leon-bernhofer-maurer-hintermann/
LOCATION:Kunstbahnhof Wörthersee WEST\, Bahnhofplatz | ÖBB-Hausbahnsteig WEST\, Velden am Wörthersee\, 9220\, Österreich
CATEGORIES:Öffentliche Veranstaltung
ATTACH;FMTTYPE=image/jpeg:https://www.kunstbahnhofwoerthersee.at/wp-content/uploads/gerhardundlaura-Kopie3_cut_w.jpg
END:VEVENT
END:VCALENDAR