BEGIN:VCALENDAR
VERSION:2.0
PRODID:-//Kunstbahnhof Wörthersee - ECPv6.2.2//NONSGML v1.0//EN
CALSCALE:GREGORIAN
METHOD:PUBLISH
X-WR-CALNAME:Kunstbahnhof Wörthersee
X-ORIGINAL-URL:https://www.kunstbahnhofwoerthersee.at
X-WR-CALDESC:Veranstaltungen für Kunstbahnhof Wörthersee
REFRESH-INTERVAL;VALUE=DURATION:PT1H
X-Robots-Tag:noindex
X-PUBLISHED-TTL:PT1H
BEGIN:VTIMEZONE
TZID:Europe/Paris
BEGIN:DAYLIGHT
TZOFFSETFROM:+0100
TZOFFSETTO:+0200
TZNAME:CEST
DTSTART:20240331T010000
END:DAYLIGHT
BEGIN:STANDARD
TZOFFSETFROM:+0200
TZOFFSETTO:+0100
TZNAME:CET
DTSTART:20241027T010000
END:STANDARD
END:VTIMEZONE
BEGIN:VEVENT
DTSTART;TZID=Europe/Paris:20240502T080000
DTEND;TZID=Europe/Paris:20240502T140000
DTSTAMP:20260424T215436
CREATED:20240304T141011Z
LAST-MODIFIED:20240430T053924Z
UID:5128-1714636800-1714658400@www.kunstbahnhofwoerthersee.at
SUMMARY:Schulworkshop
DESCRIPTION:Am Donnerstag\, 2. Mai 2024 ist der Kunstbahnhof Wörthersee Ost bis 14 Uhr für einen Schulworkshop mit Klaus Lippitsch und students der ISC reserviert.
URL:https://www.kunstbahnhofwoerthersee.at/event/isc-ws/
CATEGORIES:Nicht öffentliche Veranstaltung
END:VEVENT
END:VCALENDAR