BEGIN:VCALENDAR
VERSION:2.0
PRODID:-//Kunstbahnhof Wörthersee - ECPv6.2.2//NONSGML v1.0//EN
CALSCALE:GREGORIAN
METHOD:PUBLISH
X-WR-CALNAME:Kunstbahnhof Wörthersee
X-ORIGINAL-URL:https://www.kunstbahnhofwoerthersee.at
X-WR-CALDESC:Veranstaltungen für Kunstbahnhof Wörthersee
REFRESH-INTERVAL;VALUE=DURATION:PT1H
X-Robots-Tag:noindex
X-PUBLISHED-TTL:PT1H
BEGIN:VTIMEZONE
TZID:Europe/Paris
BEGIN:DAYLIGHT
TZOFFSETFROM:+0100
TZOFFSETTO:+0200
TZNAME:CEST
DTSTART:20240331T010000
END:DAYLIGHT
BEGIN:STANDARD
TZOFFSETFROM:+0200
TZOFFSETTO:+0100
TZNAME:CET
DTSTART:20241027T010000
END:STANDARD
END:VTIMEZONE
BEGIN:VEVENT
DTSTART;TZID=Europe/Paris:20240502T190000
DTEND;TZID=Europe/Paris:20240502T203000
DTSTAMP:20260425T194728
CREATED:20240423T082338Z
LAST-MODIFIED:20240430T050536Z
UID:5246-1714676400-1714681800@www.kunstbahnhofwoerthersee.at
SUMMARY:Neapel – Zu viel Schönheit für ein Leben
DESCRIPTION:Bildspaziergang durch eine einzigartige Stadt – Vortrag zu Kunst und Geschichte – mit Gerda Madl-Kren. Ein Angebot von „Club für Bild und Bildung“. \nWann? Donnerstag\, 2. Mai 2024 um 19:00 Uhr.\nWo? Kunstbahnhof Wörthersee in Velden am Wörthersee\, Bahnhofplatz 1 am Veldner Hausbahnsteig.\nClubbeitrag 15 € | Anmeldung bei Gerda unter +43 676 3205884 \n„Neapel sehen und sterben“ – durch Goethes „Italienische Reise“ ist dieses neapolitanische Sprichwort in den deutschen Sprachschatz gekommen. 1727 notierte der Dichterfürst „»Neapel ist ein Paradies …ich scheine mir ein ganz anderer Mensch “ und blieb monatelang. „Dieses Leuchten gibt es nur hier“ schrieb der in Wien geborene Joseph Rebell\, einer der führenden Landschaftsmaler seiner Zeit\, als er von 1813 bis 1815 in Neapel für das damalige Königshaus arbeitete und für seine Bilder von der Wärme des Südens und dem Licht des Golfs berühmt wurde. Eine großartige Ausstellung mit dem Bestand des Belvedere in Wien und Leihgaben aus ganz Europa in den Gallerie d’Italia in Neapel feierte gerade seine Werke aus diesen zwei schaffensreichen Jahren. Wir haben für unseren Besuch nur einen Abend Zeit für einen Bildspaziergang in dieser einzigartigen Stadt\, um uns in ihren Bann ziehen zu lassen\, aber doch genug für ein erstes Staunen. Mehr ist uns angeblich ohnehin nicht möglich\, heißt es doch in einem Canzone:\n„Neapel: Zu viel Schönheit für ein Leben“.
URL:https://www.kunstbahnhofwoerthersee.at/event/neapel-zu-viel-schoenheit-fuer-ein-leben/
LOCATION:Kunstbahnhof Wörthersee OST\, Bahnhofplatz | ÖBB-Hausbahnsteig OST\, Velden am Wörthersee\, 9220\, Österreich
CATEGORIES:Öffentliche Veranstaltung
ORGANIZER;CN="Club f%C3%BCr Bild und Bildung":MAILTO:bildundbildung@gmx.at
END:VEVENT
END:VCALENDAR