BEGIN:VCALENDAR
VERSION:2.0
PRODID:-//Kunstbahnhof Wörthersee - ECPv6.2.2//NONSGML v1.0//EN
CALSCALE:GREGORIAN
METHOD:PUBLISH
X-ORIGINAL-URL:https://www.kunstbahnhofwoerthersee.at
X-WR-CALDESC:Veranstaltungen für Kunstbahnhof Wörthersee
REFRESH-INTERVAL;VALUE=DURATION:PT1H
X-Robots-Tag:noindex
X-PUBLISHED-TTL:PT1H
BEGIN:VTIMEZONE
TZID:Europe/Paris
BEGIN:DAYLIGHT
TZOFFSETFROM:+0100
TZOFFSETTO:+0200
TZNAME:CEST
DTSTART:20240331T010000
END:DAYLIGHT
BEGIN:STANDARD
TZOFFSETFROM:+0200
TZOFFSETTO:+0100
TZNAME:CET
DTSTART:20241027T010000
END:STANDARD
END:VTIMEZONE
BEGIN:VEVENT
DTSTART;VALUE=DATE:20240126
DTEND;VALUE=DATE:20240131
DTSTAMP:20260426T031339
CREATED:20231006T093758Z
LAST-MODIFIED:20240205T160809Z
UID:4449-1706241600-1706587199@www.kunstbahnhofwoerthersee.at
SUMMARY:monument for a hunting party
DESCRIPTION:Im Rahmen der Reihe „curated by_station“ lädt das Team Kunstbahnhof Wörthersee zur mehrtägigen Intervention von und mit Gerhard Fresacher: \nVernissage am Freitag\, 26. Jänner 2024 um 19 Uhr\nKuratorin Barbara Ambrusch-Rapp mit Gerhard Fresacher im Gespräch\nIntervention und offenes Atelier am Samstag\, 27. Jänner von 15 bis 18 Uhr und nach Vereinbarung: 0664-9262926\nFinissage am Montag\, 29. Jänner 2024 um 18 Uhr \nGerhard Fresacher – artist & director – verwandelt den Kunstbahnhof Wörthersee Ost in ein temporäres Atelier als Außenraum im Drinnen\, als subjektive Bestandsaufnahme des Ortes. Der erste Abend der Intervention wird zum Richtfest mit Tannenbaum und eröffnet die mehrtägige Mal- und Performance-Aktion in der ehemaligen Fahrdienstleitung direkt am Veldner Hausbahnsteig. Ausgehend von einer im Jahr 2015 realisierten Installation im öffentlichen Raum von Velden entwickelt sich die Schau zu einer ortsbezogenen illustrierten Installation mit der Frage nach denen\, die da sind und was sie davon halten – Velden 2024. \nMitprotagonist*innen dieser offenen Intervention in alphabetischer Reihenfolge (Interviewbeiträge und mehr):\nBrigitte Chyba & Andrea Schuller-Ninaus (Pädagoginnen VS Lind ob Velden)\, Margit Heissenberger (Kultur- und Finanzreferentin\, Weltkärntnerin uvm.)\, Renate Jernej (Historikerin und Archäologin)\, Andreas Kleewein (Biologe\, Historiker\, Archivar)\, Christine Kodal (Veldner Bürgerin)\, Erich Kollin (Erfinder in Velden)\, Brigitte Nachbar (Verein Fahrgast Kärnten\, Mutbürger Kärnten u.a.)\, Siegi Schmid (Veldner Bürger)\, Norbert Werhonig (Veldner Bürger)\, Ronald Zechner (Concept Artist in Velden) u.a… \n \nGerhard Fresacher\, geboren 1972 in Niederösterreich. Lebt und arbeitet in Klagenfurt und Wien. Studium der Szenografie bei Erich Wonder\, Akademie der bildenden Künste\, Wien. Seit 2000 Einzel- und Gruppenausstellungen im In- und Ausland: u.a. no disco behind\, Zhytomyr/Ukraine (2018\, kuratiert von Roman Grabner)\, Installation im Zuge der Handball-WM\, Katar (2015)\, boing! boing! Galerie Bäckerstraße\, Wien (2008)\, superheroes saving russia\, XL gallery\, Moskau (2000\, kuratiert von Joseph Backstein). Bühnenbilder + Inszenierungen u.a. für Wiener Festwochen\, Volkstheater Wien\, Düsseldorfer Schauspielhaus\, Münchner Volkstheater\, Thalia Theater Hamburg\, Das Neumarkt Zürich und WERK X Wien. Seit 2009 Theaterexperimente und -diskos\, u.a. no disco behind\, Zhytomyr/Ukraine (2018)\, traum\, alptraum – ein nightmare – nach Kafkas Ein Landarzt\, Radiokulturhaus Wien und Werk X Petersplatz\, Wien (2017)\, Wetterleuchten auf der Zungenspitze – den Surrealismus neu erfinden! nach Josef Winkler\, Garage X\, Wien (2013); Kirschgarden nach Anton Cechov\, Garage X Wien (2011). Ingeborg-Bachmann-Kuppel: Konzeption Gewinnerprojekt des 1. Calls der Kärntner Kulturstiftung und Eröffnungsinszenierung Neuer Platz! am Neuen Platz\, Klagenfurt (2021)\, Bespielungskonzept und Eröffnungsinszenierung bei der zweiten Station am Karlsplatz\, Wien (2023). Zusammenarbeit u.a. mit Karl Welunschek\, Georg Staudacher\, Oliver Welter\, Alexander Kubelka\, Georg Timber Trattnig\, Hans Neuenfels\, Karl Pridun\, Josef Winkler\, TOMAK\, Bernhard Hammer.\ngerhardfresacher.com \n(Abbildung oben: „velden fair“ Jänner 2024 von Gerhard Fresacher\, entstanden im Kunstbahnhof Wörthersee nach Recherche und Interviews mit Bürgerinnen und Bürgern in Velden)\n\nVeranstaltung in Kooperation mit dem Kunstverein postWERK.
URL:https://www.kunstbahnhofwoerthersee.at/event/fresacher/
LOCATION:Kunstbahnhof Wörthersee OST\, Bahnhofplatz | ÖBB-Hausbahnsteig OST\, Velden am Wörthersee\, 9220\, Österreich
CATEGORIES:curated by_station,Öffentliche Veranstaltung
ATTACH;FMTTYPE=image/jpeg:https://www.kunstbahnhofwoerthersee.at/wp-content/uploads/2024-velden-fair-FRESACHER.jpg
ORGANIZER;CN="Kunstbahnhof W%C3%B6rthersee":MAILTO:office@kunstbahnhofwoerthersee.at
END:VEVENT
END:VCALENDAR