BEGIN:VCALENDAR
VERSION:2.0
PRODID:-//Kunstbahnhof Wörthersee - ECPv6.2.2//NONSGML v1.0//EN
CALSCALE:GREGORIAN
METHOD:PUBLISH
X-WR-CALNAME:Kunstbahnhof Wörthersee
X-ORIGINAL-URL:https://www.kunstbahnhofwoerthersee.at
X-WR-CALDESC:Veranstaltungen für Kunstbahnhof Wörthersee
REFRESH-INTERVAL;VALUE=DURATION:PT1H
X-Robots-Tag:noindex
X-PUBLISHED-TTL:PT1H
BEGIN:VTIMEZONE
TZID:Europe/Paris
BEGIN:DAYLIGHT
TZOFFSETFROM:+0100
TZOFFSETTO:+0200
TZNAME:CEST
DTSTART:20230326T010000
END:DAYLIGHT
BEGIN:STANDARD
TZOFFSETFROM:+0200
TZOFFSETTO:+0100
TZNAME:CET
DTSTART:20231029T010000
END:STANDARD
END:VTIMEZONE
BEGIN:VEVENT
DTSTART;TZID=Europe/Paris:20231121T190000
DTEND;TZID=Europe/Paris:20231121T203000
DTSTAMP:20260426T054522
CREATED:20230905T140657Z
LAST-MODIFIED:20231106T154733Z
UID:4262-1700593200-1700598600@www.kunstbahnhofwoerthersee.at
SUMMARY:Namenstage: Heilige\, Selige und Unselige in der Kunst
DESCRIPTION:Der Club für Bild und Bildung lädt zur Vortragsreihe mit Gerda Madl-Kren: Am 4. November war der Gedenktag des heiligen Carl Borromäus – für uns ein Anlass\, im Rahmen unserer Reihe der Namenspatrone nach Josef\, Georg oder Maria auch diesen Namen in der Kunstgeschichte vorzustellen.\n„Karl und Karoline\, Charles und Charlotte – Heilige und Unheilige dieses Namens in der bildenden Kunst“\nNomen est omen – aber hier irren sie\, die alten Römer. Die Lebenswege der Männer und Frauen unseres Bildvortrags sind zu unterschiedlich\, als dass wir ihr Schicksal mit ihrem Namen zusammenbringen könnten. Die Kunst lässt uns – in Himmel und Hölle – interessanten Persönlichkeiten begegnen\, und einigen – ganz Irdischen – vielleicht auch an diesem Abend…\nDienstag\, 21. November 2023 um 19:00 Uhr\nBildervortrag\, 15 Euro Clubbeitrag\nKunstbahnhof Wörthersee\, Velden am Wörthersee\, Hausbahnsteig am Bahnhofplatz\nBeschränkte Platzzahl\, daher bitte unbedingt um Anmeldung via Tel. oder SMS 0676 3205884!
URL:https://www.kunstbahnhofwoerthersee.at/event/namenstage-heilige-selige-und-unselige-in-der-kunst/
LOCATION:Kunstbahnhof Wörthersee OST\, Bahnhofplatz | ÖBB-Hausbahnsteig OST\, Velden am Wörthersee\, 9220\, Österreich
CATEGORIES:Öffentliche Veranstaltung
ORGANIZER;CN="Club f%C3%BCr Bild und Bildung":MAILTO:bildundbildung@gmx.at
END:VEVENT
END:VCALENDAR