BEGIN:VCALENDAR
VERSION:2.0
PRODID:-//Kunstbahnhof Wörthersee - ECPv6.2.2//NONSGML v1.0//EN
CALSCALE:GREGORIAN
METHOD:PUBLISH
X-WR-CALNAME:Kunstbahnhof Wörthersee
X-ORIGINAL-URL:https://www.kunstbahnhofwoerthersee.at
X-WR-CALDESC:Veranstaltungen für Kunstbahnhof Wörthersee
REFRESH-INTERVAL;VALUE=DURATION:PT1H
X-Robots-Tag:noindex
X-PUBLISHED-TTL:PT1H
BEGIN:VTIMEZONE
TZID:Europe/Paris
BEGIN:DAYLIGHT
TZOFFSETFROM:+0100
TZOFFSETTO:+0200
TZNAME:CEST
DTSTART:20230326T010000
END:DAYLIGHT
BEGIN:STANDARD
TZOFFSETFROM:+0200
TZOFFSETTO:+0100
TZNAME:CET
DTSTART:20231029T010000
END:STANDARD
END:VTIMEZONE
BEGIN:VEVENT
DTSTART;VALUE=DATE:20230710
DTEND;VALUE=DATE:20230713
DTSTAMP:20260425T143743
CREATED:20230622T104844Z
LAST-MODIFIED:20230622T104844Z
UID:4107-1688961600-1689134399@www.kunstbahnhofwoerthersee.at
SUMMARY:Workshop Druckgrafik: Lithografie
DESCRIPTION:Geschlossene Lithografie-Gruppe\nWorkshop mit Gerda Madl-Kren\nClub für Bild und Bildung\nTel. oder SMS 0676 3205884
URL:https://www.kunstbahnhofwoerthersee.at/event/workshop-druckgrafik-lithografie/
LOCATION:Kunstbahnhof Wörthersee OST\, Bahnhofplatz | ÖBB-Hausbahnsteig OST\, Velden am Wörthersee\, 9220\, Österreich
CATEGORIES:Nicht öffentliche Veranstaltung
ATTACH;FMTTYPE=image/jpeg:https://www.kunstbahnhofwoerthersee.at/wp-content/uploads/Druckerpresse_banner.jpg
ORGANIZER;CN="Club f%C3%BCr Bild und Bildung":MAILTO:bildundbildung@gmx.at
END:VEVENT
END:VCALENDAR