BEGIN:VCALENDAR
VERSION:2.0
PRODID:-//Kunstbahnhof Wörthersee - ECPv6.2.2//NONSGML v1.0//EN
CALSCALE:GREGORIAN
METHOD:PUBLISH
X-WR-CALNAME:Kunstbahnhof Wörthersee
X-ORIGINAL-URL:https://www.kunstbahnhofwoerthersee.at
X-WR-CALDESC:Veranstaltungen für Kunstbahnhof Wörthersee
REFRESH-INTERVAL;VALUE=DURATION:PT1H
X-Robots-Tag:noindex
X-PUBLISHED-TTL:PT1H
BEGIN:VTIMEZONE
TZID:Europe/Paris
BEGIN:DAYLIGHT
TZOFFSETFROM:+0100
TZOFFSETTO:+0200
TZNAME:CEST
DTSTART:20230326T010000
END:DAYLIGHT
BEGIN:STANDARD
TZOFFSETFROM:+0200
TZOFFSETTO:+0100
TZNAME:CET
DTSTART:20231029T010000
END:STANDARD
END:VTIMEZONE
BEGIN:VEVENT
DTSTART;VALUE=DATE:20230531
DTEND;VALUE=DATE:20230602
DTSTAMP:20260425T160325
CREATED:20230303T125218Z
LAST-MODIFIED:20230303T125218Z
UID:3817-1685505600-1685591999@www.kunstbahnhofwoerthersee.at
SUMMARY:Zeitungspapierrollen werden Lampenschirme und Raumobjekte
DESCRIPTION:Papiertage sind Tage der Achtsamkeit – gönne dir dein kreatives Abenteuer der Schönheit und Nachhaltigkeit\nBlumenworkshop aus Papier und alten Büchern \nJeder Mensch ist ein Papiergestalter. Bring diese Freude des Gestaltens mit Papier in dein Leben. Papier verfügt über wundersame Eigenschaften. Mit einer einfachen Stricknadel und deinen Händen können Röllchen geformt werden. Sie sind das Ausgangsmaterial für Körbe\, Lampenschirme\, Schalen\, Geschenkanhänger\, Sterne\, Kränze und noch vielem mehr. Sei kreativ und gestalte deine Kunstwerke für dein Wohn- und Lebensgefühl.\nStaunt\, was mit Papier alles möglich ist! \nMaterial\, das mitgebracht werden kann: alte Zeitungen oder Magazine\, Klebestick\, Schere oder Cutter\, Lineal\, Schneideunterlage\, lange Stricknadeln ohne Kopf und gute Laune. \nKurs:\n31. Mai 2023 von 18:00 bis 21:00 \n7. Juni 2023 von 18:00 bis 21:00 \nKurskosten: 48 € für einen Tag \nKursort: Kunstbahnhof Wörthersee\nBahnhofplatz 1 | Hausbahnsteig | 9220 Velden am Wörthersee \nGruppengröße:\nDer Kurs ﬁndet ab 4 Personen statt. Für Personen ab 7 Jahren geeignet. TeilnehmerInnen mehrerer Generationen – ab 7 Jahren bis 90+ – sind erwünscht. Wir lernen voneinander und miteinander\, daher sind auch Menschen mit Handicap willkommen. Wir freuen uns sehr\, wenn Kinder und Erwachsene gemeinsam werken. Daher sind die Papierkurse vom Alter her gemischt. \nAnmeldung bei: Sabine Wenske 0664.766 54 27\nArche Erna Wunder und Team Licht Projekt ©\nwww.ernawunder.com | arche@ernawunder.com
URL:https://www.kunstbahnhofwoerthersee.at/event/zeitungspapierrollen-werden-lampenschirme-und-raumobjekte/
LOCATION:Kunstbahnhof Wörthersee OST\, Bahnhofplatz | ÖBB-Hausbahnsteig OST\, Velden am Wörthersee\, 9220\, Österreich
CATEGORIES:Öffentliche Veranstaltung
ATTACH;FMTTYPE=image/jpeg:https://www.kunstbahnhofwoerthersee.at/wp-content/uploads/workshop-zeitung_banner_web.jpg
END:VEVENT
END:VCALENDAR