BEGIN:VCALENDAR
VERSION:2.0
PRODID:-//Kunstbahnhof Wörthersee - ECPv6.2.2//NONSGML v1.0//EN
CALSCALE:GREGORIAN
METHOD:PUBLISH
X-WR-CALNAME:Kunstbahnhof Wörthersee
X-ORIGINAL-URL:https://www.kunstbahnhofwoerthersee.at
X-WR-CALDESC:Veranstaltungen für Kunstbahnhof Wörthersee
REFRESH-INTERVAL;VALUE=DURATION:PT1H
X-Robots-Tag:noindex
X-PUBLISHED-TTL:PT1H
BEGIN:VTIMEZONE
TZID:Europe/Paris
BEGIN:DAYLIGHT
TZOFFSETFROM:+0100
TZOFFSETTO:+0200
TZNAME:CEST
DTSTART:20230326T010000
END:DAYLIGHT
BEGIN:STANDARD
TZOFFSETFROM:+0200
TZOFFSETTO:+0100
TZNAME:CET
DTSTART:20231029T010000
END:STANDARD
END:VTIMEZONE
BEGIN:VEVENT
DTSTART;VALUE=DATE:20230524
DTEND;VALUE=DATE:20230526
DTSTAMP:20260425T130555
CREATED:20230303T123014Z
LAST-MODIFIED:20230303T123014Z
UID:3810-1684900800-1684987199@www.kunstbahnhofwoerthersee.at
SUMMARY:Kinderworkshop für Spiel und Spaß aus Papier und Büchern
DESCRIPTION:Papiertage sind Tage der Achtsamkeit – gönne dir dein kreatives Abenteuer der Schönheit und Nachhaltigkeit\nKinderworkshop für Spiel und Spaß aus Papier und Büchern \nJeder Mensch ist ein Papiergestalter. Bring diese Freude des Gestaltens mit Papier in dein Leben. Erﬁnde deine eigenen Spiele mit Fröschen\, Fliegen Schmetterlingen\, Marionetten und Luftverwirblern. All das wird im Workshop aus Papier und Küchenpapierrollen gefalten und gestaltet. Am Ende wird mit den Kunstwerken ein kleines Theaterstück eingeübt.\nStaunt\, was mit Papier alles möglich ist! \nMaterial\, das mitgebracht werden kann: alte Bücher\, Küchenpapier- und Klopapierrollen\, Restpapier jeder Art\, Klebstoﬀ\, Lineal\, Schere oder Cutter\, Schneideunterlage (wenn vorhanden) und gute Laune. Wer kein Papier mitbringt\, kann gegen den Unkostenbeitrag von 7 € eine Erna Wunder Papiertüte\, gefüllt mit Papier und Wundern\, erwerben und damit werken. \nKurs:\n3. April 2023 von 10:00 – 13:00 \n7. April 2023 von 10:00 – 13:00 \n24. Mai 2023 von 14:00 – 17:00 \nKurskosten: 48 € für einen Tag \nKursort: Kunstbahnhof Wörthersee\nBahnhofplatz 1 | Hausbahnsteig | 9220 Velden am Wörthersee \nGruppengröße:\nDer Kurs ﬁndet ab 4 Personen statt. Für Personen ab 7 Jahren geeignet. TeilnehmerInnen mehrerer Generationen – ab 7 Jahren bis 90+ – sind erwünscht. Wir lernen voneinander und miteinander\, daher sind auch Menschen mit Handicap willkommen. Wir freuen uns sehr\, wenn Kinder und Erwachsene gemeinsam werken. Daher sind die Papierkurse vom Alter her gemischt. \nAnmeldung bei: Sabine Wenske 0664.766 54 27\nArche Erna Wunder und Team Licht Projekt ©\nwww.ernawunder.com | arche@ernawunder.com
URL:https://www.kunstbahnhofwoerthersee.at/event/kinderworkshop-fuer-spiel-und-spass-aus-papier-und-buechern-3/
LOCATION:Kunstbahnhof Wörthersee OST\, Bahnhofplatz | ÖBB-Hausbahnsteig OST\, Velden am Wörthersee\, 9220\, Österreich
CATEGORIES:Öffentliche Veranstaltung
ATTACH;FMTTYPE=image/jpeg:https://www.kunstbahnhofwoerthersee.at/wp-content/uploads/bild-kinder_papier_w.jpg
END:VEVENT
END:VCALENDAR