BEGIN:VCALENDAR
VERSION:2.0
PRODID:-//Kunstbahnhof Wörthersee - ECPv6.2.2//NONSGML v1.0//EN
CALSCALE:GREGORIAN
METHOD:PUBLISH
X-ORIGINAL-URL:https://www.kunstbahnhofwoerthersee.at
X-WR-CALDESC:Veranstaltungen für Kunstbahnhof Wörthersee
REFRESH-INTERVAL;VALUE=DURATION:PT1H
X-Robots-Tag:noindex
X-PUBLISHED-TTL:PT1H
BEGIN:VTIMEZONE
TZID:Europe/Paris
BEGIN:DAYLIGHT
TZOFFSETFROM:+0100
TZOFFSETTO:+0200
TZNAME:CEST
DTSTART:20230326T010000
END:DAYLIGHT
BEGIN:STANDARD
TZOFFSETFROM:+0200
TZOFFSETTO:+0100
TZNAME:CET
DTSTART:20231029T010000
END:STANDARD
END:VTIMEZONE
BEGIN:VEVENT
DTSTART;VALUE=DATE:20230505
DTEND;VALUE=DATE:20230507
DTSTAMP:20260425T175049
CREATED:20230303T124136Z
LAST-MODIFIED:20230303T130547Z
UID:3815-1683259200-1683345599@www.kunstbahnhofwoerthersee.at
SUMMARY:Blumenworkshop aus Papier und alten Büchern
DESCRIPTION:Papiertage sind Tage der Achtsamkeit – gönne dir dein kreatives Abenteuer der Schönheit und Nachhaltigkeit\nBlumenworkshop aus Papier und alten Büchern \nJeder Mensch ist ein Papiergestalter. Bring diese Freude des Gestaltens mit Papier in dein Leben. Gestalte mit Mutter Erde deine eigene kreative Raum- und Tischdekoration für Muttertag\, Hochzeiten und weitere feierliche Anlässe. Bring die Schönheit der Natur mit in den Workshop und gestalte Blumen\, Herzen\, Geschenke\, Karten und Dekorationen aus Papier und alten Büchern für dein neues Wohn- und Lebensgefühl.\nStaunt\, was mit Papier alles möglich ist! \nMaterial\, das mitgebracht werden kann: alte Bücher\, Küchenpapier- und Klopapierrollen\, Restpapier jeder Art\, Klebstoﬀ\, Lineal\, Schere oder Cutter\, Schneideunterlage (wenn vorhanden) und gute Laune. Wer kein Papier mitbringt\, kann gegen den Unkostenbeitrag von 7 € eine Erna Wunder Papiertüte\, gefüllt mit Papier und Wundern\, erwerben und damit werken. \nKurs:\n22. April 2023 von 10:00 bis 14:00 \n5. Mai 2023 von 18:00 bis 21:00 \nKurskosten: 48 € für einen Tag \nKursort: Kunstbahnhof Wörthersee\nBahnhofplatz 1 | Hausbahnsteig | 9220 Velden am Wörthersee \nGruppengröße:\nDer Kurs ﬁndet ab 4 Personen statt. Für Personen ab 7 Jahren geeignet. TeilnehmerInnen mehrerer Generationen – ab 7 Jahren bis 90+ – sind erwünscht. Wir lernen voneinander und miteinander\, daher sind auch Menschen mit Handicap willkommen. Wir freuen uns sehr\, wenn Kinder und Erwachsene gemeinsam werken. Daher sind die Papierkurse vom Alter her gemischt. \nAnmeldung bei: Sabine Wenske 0664.766 54 27\nArche Erna Wunder und Team Licht Projekt ©\nwww.ernawunder.com | arche@ernawunder.com
URL:https://www.kunstbahnhofwoerthersee.at/event/blumenworkshop-aus-papier-und-alten-buechern-2/
LOCATION:Kunstbahnhof Wörthersee OST\, Bahnhofplatz | ÖBB-Hausbahnsteig OST\, Velden am Wörthersee\, 9220\, Österreich
CATEGORIES:Öffentliche Veranstaltung
ATTACH;FMTTYPE=image/jpeg:https://www.kunstbahnhofwoerthersee.at/wp-content/uploads/blumen-banner_web-scaled.jpg
END:VEVENT
END:VCALENDAR